BEGIN:VCALENDAR
VERSION:2.0
PRODID:-//Zagrebački događaji - ECPv6.5.0//NONSGML v1.0//EN
CALSCALE:GREGORIAN
METHOD:PUBLISH
X-WR-CALNAME:Zagrebački događaji
X-ORIGINAL-URL:https://zagrebackidogadaji.hr
X-WR-CALDESC:Events for Zagrebački događaji
REFRESH-INTERVAL;VALUE=DURATION:PT1H
X-Robots-Tag:noindex
X-PUBLISHED-TTL:PT1H
BEGIN:VTIMEZONE
TZID:UTC
BEGIN:STANDARD
TZOFFSETFROM:+0000
TZOFFSETTO:+0000
TZNAME:UTC
DTSTART:20230101T000000
END:STANDARD
END:VTIMEZONE
BEGIN:VEVENT
DTSTART;TZID=UTC:20231209T100000
DTEND;TZID=UTC:20231209T180000
DTSTAMP:20260422T130451
CREATED:20231205T144356Z
LAST-MODIFIED:20231205T144859Z
UID:475-1702116000-1702144800@zagrebackidogadaji.hr
SUMMARY:ADVENT WOOFTOP PAWTY - OUT ROOFTOP
DESCRIPTION:Naše dlakave šapice su konačno dobile vlastiti Advent koji će biti ispunjen zabavom\, edukacijom\, poslasticama i glasnim lavežom.\n„Advent Wooftop Pawty“ će se održavati svake subote tijekom prosinca na prekrasnom OUT rooftop baru na adresi Ilica 16 i otvoren je za javnost. \nPrvi Pawty će se održati u subotu 2.12. s početkom u 10h\, a organizatori su pripremili bogat program s humanitarnim karakterom u bajkovitom božićnom ugođaju. \nTijekom eventa uzvanici će moći uživati u specijalnim Tito’s koktelima od čije se svake pojedinačne prodaje izdvaja 2€ koji se uplaćuju neprofitnim udrugama za zaštitu životinja odabranih od strane organizatora. Donacije se u istom iznosu također odnose na konzumaciju određenih vrsta piva na eventu. \nPartner eventa ZOOCITY je pripremio ukusne grickalice za naše četveronožne ljubimce koje će im sigurno pomoći s opuštanjem i pripremom za posebni adventski foto natječaj u sklopu kojeg mogu osvojiti božićne nagradne pakete. ZOOCITY će darovati i udomitelje njuškica iz udruge Merida sa Starter paketom u kojem se nalazi sve što vam je potrebno za vašeg prvog kućnog ljubimca. \nUkusne zalogaje je pripremio i brend domaće pseće hrane Pas Kitchen koji se također priključio humanitarnoj akciji te će donirati svu zaradu od božićnih paketića u humanitarne svrhe. \nAdvent Wooftop Pawty održava se uz podršku Turističke zajednice grada Zagreba.\nRaspored događaja:\n10:00 – Coffee Time warm-up – woF..WOOOOF!…ajde budi se i vodi me na pawty!!!\nProvedite jutro uz najljepši pogled i tople napitke dok se njuškice međusobno upoznaju i pripreme za najslađi Advent u gradu.\n11:00 – Predavanje o psima (20min): Udruga Merida nas educira o odgovornom vlasništvu i brizi za pse. Predavanje je prilagođeno da zaintrigira i one koji ”znaju sve” i one koji su uvijek spremni naučiti nešto novo.\n12:00 – Christmas Photo Shooting: veselo mahanje repova\, njuškice u zraku pokušavaju pronaći miris\, iiii evo ga…stiže nam Djed Mraz! U svom čarobnom kutku će strpljivo saslušati sve želje naših četveronožnih ljubimaca\, i pozirati za fotkanje te dijeliti autograme (ili slastice) fanovima.\n13:00 – Pas Kitchen Predavanje (20min): ruuučak!…daj nešto konkretno! Ekipa iz Pas Kitchen će podijelili nekoliko informacija o raznim opcijama prehrane za pse\, prolagođenim njihovoj dobi i posebnim potrebama.\n14:00 – BIS Comedy Stand Up Small Talk (40min): nasmijte se do suza uz profiće smijeha koji će napraviti lajavu atmosferu na Pawty-u.\n16:00 – Christmas Photo Shooting: nastavak fotkanja za one koji žele promjenit pozu s prvog fotkanja…\nGlazbeni program: DJ koji stalno usklađuje laveže kako bi se svi mogli međusobno čuti i lagano cupkati u ritmu.\n18:00 – Završetak programa: Pseći dan i Pawty završavaju\, ali ne brinite – Advent na OUT Rooftop-u (samo) za odrasle tek počinje.
URL:https://zagrebackidogadaji.hr/event/advent-wooftop-party-out-rooftop/
LOCATION:OUT Rooftop\, Ilica 16\, Zagreb\, Zagreb\, 10 000
CATEGORIES:Ostala događanja,Sva događanja
ATTACH;FMTTYPE=image/jpeg:https://zagrebackidogadaji.hr/wp-content/uploads/2023/12/406041238_837118675087641_3128134675102366398_n.jpg
END:VEVENT
BEGIN:VEVENT
DTSTART;TZID=UTC:20231209T200000
DTEND;TZID=UTC:20231209T200000
DTSTAMP:20260422T130451
CREATED:20231206T093715Z
LAST-MODIFIED:20231209T072942Z
UID:587-1702152000-1702152000@zagrebackidogadaji.hr
SUMMARY:BUNTAI - TVORNICA KULTURE
DESCRIPTION:
URL:https://zagrebackidogadaji.hr/event/buntai-tvornica-kulture/
LOCATION:Tvornica Kulture\, Ul. Pavla Šubića 2\, Zagreb\, 10 000\, Croatia (Local Name: Hrvatska)
CATEGORIES:Koncerti,Noćni život,Sva događanja
ATTACH;FMTTYPE=image/jpeg:https://zagrebackidogadaji.hr/wp-content/uploads/2023/12/buntai-u-tvornici-1e88_hud3850209d8df245aad64b60ab9f3f0b5_656055_0x700_resize_q75_box.jpg
END:VEVENT
BEGIN:VEVENT
DTSTART;TZID=UTC:20231209T200000
DTEND;TZID=UTC:20231209T200000
DTSTAMP:20260422T130451
CREATED:20231207T151947Z
LAST-MODIFIED:20231207T151947Z
UID:687-1702152000-1702152000@zagrebackidogadaji.hr
SUMMARY:CHIC BAR & MORE - ACOUSTIC NIGHT W/ BRUNO RAČKI
DESCRIPTION:Konačno dobra vijest za zagrebački Jarun: Novootvoreni Chic bar&more diže ljestvicu zagrebačke ugostiteljske scene i donosi live svirku već ove subote! \nPosjetitelji će tako moći svakodnevno uživati u ispijanju kava u opuštenom i luksuznom ambijentu\, dok će za vikend večeri ugostiti razne poznate glazbenike s domaće scene! Otvorenje bilo popraćeno nastupom sjajne Albine\, a ove subote\, 09.12. od 20:00h\, nas očekuje sjajni Bruno Rački. \nSmješten uz Jarunsko jezero\, Chic Bar&More zrači toplinom i ugodom i neizbježno privlači prolaznike na Jarunu. Posebni naglasak je na uređenju interijera u duhu starog Hollywooda u kojem se ističe i klavir iz 19. stoljeća i veliki kristalni lusteri. S pogledom na Jarunsko jezero\, ugođaj bara\, zahvaljujući osvjetljenju i unutarnjem uređenju\, je iznimno topao i ugodan. \nChic Bar&More se predstavio kao novi dragulj na zagrebačkoj sceni\, predstavljajući spoj luksuza\, umjetnosti i opuštanja\, a ovo je akustična večer koju ne želiš propustiti! CHIC akustična večer je večer koju ne želiš propustiti! Broj mjesta je ograničen. Rezerviraj svoje mjesto na službenom Instagram profilu i vidimo se u subotu od 20:00h. \nChic Bar&More – Županići 1a\, Zagreb
URL:https://zagrebackidogadaji.hr/event/chic-bar-more-acoustic-night-w-bruno-racki/
LOCATION:Chic Bar&More\, Županići 1B\, Zagreb\, 10 000\, Croatia (Local Name: Hrvatska)
CATEGORIES:Noćni život,Sva događanja
ATTACH;FMTTYPE=image/jpeg:https://zagrebackidogadaji.hr/wp-content/uploads/2023/12/407866628_18401962207026264_3551196434896473012_n.jpg
END:VEVENT
BEGIN:VEVENT
DTSTART;TZID=UTC:20231209T200000
DTEND;TZID=UTC:20231209T200000
DTSTAMP:20260422T130451
CREATED:20231208T082737Z
LAST-MODIFIED:20231208T082737Z
UID:710-1702152000-1702152000@zagrebackidogadaji.hr
SUMMARY:TAJČI - SLATKI ZRINJEVAC
DESCRIPTION:Tatiana Matejaš Cameron Tajči u subotu pjeva božićne pjesme u paviljonu na Zrinjevcu \nJedan je od najiščekivanijih događaja tjedna subotnji koncert popularne Tatiane Cameron Matejaš – Tajči. Nakon dugo vremena zapjevat će neke od najljepših svjetskih i domaćih božićnih klasika u glazbenom paviljonu na Zrinjevcu. \nViše informacija potražite ovdje.  \n 
URL:https://zagrebackidogadaji.hr/event/tajci-slatki-zrinjevac/
LOCATION:Zrinjevac\, Zrinjevac\, Zagreb\, Hrvatska\, Croatia (Local Name: Hrvatska)
CATEGORIES:Koncerti,Noćni život,Sva događanja
ATTACH;FMTTYPE=image/jpeg:https://zagrebackidogadaji.hr/wp-content/uploads/2023/12/408866790_122112231620122217_6875318030363339005_n.jpg
END:VEVENT
BEGIN:VEVENT
DTSTART;TZID=UTC:20231209T223000
DTEND;TZID=UTC:20231209T223000
DTSTAMP:20260422T130451
CREATED:20231205T154208Z
LAST-MODIFIED:20231205T154208Z
UID:537-1702161000-1702161000@zagrebackidogadaji.hr
SUMMARY:NIGHTLIGE - KATRAN ZAGREB
DESCRIPTION:𝐍𝐢𝐆𝐇𝐓𝐋𝐢𝐅𝐄 𝐢𝐬 𝐚𝐥𝐥 𝐲𝐨𝐮 𝐧𝐞𝐞𝐝!\n𝟑 𝐃𝐚𝐧𝐜𝐞 𝐅𝐥𝐨𝐨𝐫𝐬 / 𝐭𝐡𝐫𝐞𝐞 𝐃𝐉𝐬 /\n𝐃𝐉𝐬 𝐚𝐫𝐞 𝐩𝐥𝐚𝐲𝐢𝐧𝐠 𝐝𝐢𝐟𝐟𝐞𝐫𝐞𝐧𝐭 𝐦𝐮𝐬𝐢𝐜 𝐬𝐨 𝐜𝐡𝐨𝐨𝐬𝐞 𝐨𝐧𝐞 𝐨𝐫 𝐝𝐚𝐧𝐜𝐞 𝐨𝐧 𝐚𝐥𝐥 𝐟𝐥𝐨𝐨𝐫𝐬\n𝐅𝐫𝐞𝐞 𝐞𝐧𝐭𝐫𝐚𝐧𝐜𝐞 𝐭𝐢𝐥𝐥 𝟏𝟏𝐩𝐦\, 𝐝𝐨𝐧’𝐭 𝐛𝐞 𝐥𝐚𝐭𝐞!\n𝐒𝐞𝐞 𝐲𝐨𝐮 𝐨𝐧 𝐭𝐡𝐞 𝐝𝐚𝐧𝐜𝐞 𝐟𝐥𝐨𝐨𝐫𝐬.\n🄳🄰🄽🄲🄴 🄵🄻🄾🄾🅁🅂\n𝟏. 🅃🄽🅃\n𝐃𝐉 𝐁𝐞𝐥𝐥𝐛𝐨𝐲\n𝐏𝐨𝐩 𝐇𝐢𝐭𝐬 / 𝐌𝐚𝐬𝐡𝐮𝐩𝐬 / 𝐃𝐚𝐧𝐜𝐞 𝐦𝐮𝐬𝐢𝐜\n𝟐. 🄼🅄🅂🄴🅄🄼\n𝐃𝐉 𝐊𝐢𝐤𝐢 𝐁\n𝐁𝐞𝐬𝐭 𝐨𝐟 𝐇𝐢𝐩 𝐇𝐨𝐩 & 𝐑’𝐧’𝐁\n𝟑. 🄿🄾🄳🄼🄾🅁🄽🄸🄲🄰\n𝐃𝐉 𝐍𝐢𝐜𝐤 𝐁𝐚𝐧𝐞\n𝐏𝐫𝐞𝐩𝐚𝐫𝐞 𝐲𝐨𝐮𝐫𝐬𝐞𝐥𝐟 𝐟𝐨𝐫 𝐬𝐨𝐦𝐞 𝐡𝐚𝐫𝐝 𝐛𝐞𝐚𝐭𝐬\n_________________________________________\n𝐂𝐨𝐦𝐞 𝐞𝐚𝐫𝐥𝐲 𝐛𝐞𝐜𝐚𝐮𝐬𝐞 𝐞𝐧𝐭𝐫𝐚𝐧𝐜𝐞 𝐢𝐬 𝐟𝐫𝐞𝐞 𝐭𝐢𝐥𝐥 𝟐𝟑:𝟎𝟎\n𝐎𝐧𝐞 𝐭𝐢𝐜𝐤𝐞𝐭 𝐚𝐥𝐥 𝐟𝐥𝐨𝐨𝐫𝐬\n𝐄𝐧𝐭𝐫𝐚𝐧𝐜𝐞 𝐟𝐞𝐞 / 𝐂𝐢𝐣𝐞𝐧𝐚 𝐮𝐥𝐚𝐳𝐚:\n𝟮𝟮:𝟯𝟬 – 𝟐𝟑:𝟎𝟎 >> 𝗙𝗥𝗘𝗘\n𝟮𝟯:𝟬𝟬 – 𝟬:𝟬𝟬 >> 𝟱€\n𝟬:𝟬𝟬 – 𝟯:𝟬𝟬 >> 𝟖€\n𝐋𝐚𝐬𝐭 𝐩𝐨𝐬𝐬𝐢𝐛𝐥𝐞 𝐞𝐧𝐭𝐫𝐚𝐧𝐜𝐞 𝟎𝟑:𝟎𝟎𝐡\n————————-\n𝐀𝐠𝐞 𝐥𝐢𝐦𝐢𝐭 𝟏𝟗+\n————————-\n𝙄𝙣𝙛𝙤 & 𝙍𝙚𝙨𝙚𝙧𝙫𝙖𝙩𝙞𝙤𝙣:\n𝐃𝐌 𝐮𝐬 𝐨𝐧 𝐅𝐚𝐜𝐞𝐛𝐨𝐨𝐤 𝐨𝐫 𝐈𝐧𝐬𝐭𝐚𝐠𝐫𝐚𝐦
URL:https://zagrebackidogadaji.hr/event/nightlige-katran-zagreb/
LOCATION:Katran\, Ulica Ivana Zahara 9\, Zagreb\, 10 000
CATEGORIES:Noćni život,Sva događanja
ATTACH;FMTTYPE=image/jpeg:https://zagrebackidogadaji.hr/wp-content/uploads/2023/12/407356603_685633430438927_1256824277821770179_n.jpg
END:VEVENT
BEGIN:VEVENT
DTSTART;TZID=UTC:20231209T230000
DTEND;TZID=UTC:20231209T230000
DTSTAMP:20260422T130451
CREATED:20231130T122947Z
LAST-MODIFIED:20231130T122947Z
UID:267-1702162800-1702162800@zagrebackidogadaji.hr
SUMMARY:SECRET SATURDAYS - THE SECRET CLUB
DESCRIPTION:Ako ste u potrazi za najluđim subotnjim provodom\, imamo samo dvije riječi za vas; Secret Saturdays! \nDokazano najbolji balkaton program subotom nam i ove subote garantira čarobnu noć uz najveće hitove! Za neponovljivu atmosferu pobrinuti će se Secret rezidenti The Mob\, Karlo Leopold i Jasmin Muhamed Ali! \nNe čekaj ni minute\, interes je velik\, a stolovi uvijek nestanu brzo! Požuri po svoju rezervaciju na službene profile The Secret Cluba ili na broj 099 625 1088! \n 
URL:https://zagrebackidogadaji.hr/event/secret-saturdays-the-secret-club/
LOCATION:The Secret Club\, Draškovićeva ul. 41\, Zagreb\, Hrvatska\, 10 000\, Croatia (Local Name: Hrvatska)
CATEGORIES:Noćni život,Sva događanja
ATTACH;FMTTYPE=image/jpeg:https://zagrebackidogadaji.hr/wp-content/uploads/2023/11/307269592_1299017087303587_1266177696772004396_n.jpg
END:VEVENT
BEGIN:VEVENT
DTSTART;TZID=UTC:20231209T230000
DTEND;TZID=UTC:20231209T230000
DTSTAMP:20260422T130451
CREATED:20231130T131550Z
LAST-MODIFIED:20231130T133225Z
UID:315-1702162800-1702162800@zagrebackidogadaji.hr
SUMMARY:XO CLUB - W/ DJ INITY
DESCRIPTION:XO Club je kroz cijelu clubbing sezonu oduševljava tematskim partyima\, DJ gostovanjima i uvijek vrhunskom zabavom u samom centru grada\, pa tako ni ova subota nije iznimka uz DJ INITY! \nU samom centru grada\, točnije na Europskom trgu\, smjestio se XO Club koji svakog vikenda priređuje posebnu i nezaboravnu atmosferu partijanja! Na tebi je samo da doživiš ovo o čemu pričamo već ovog vikenda\, stoga požuri po rezervaciju\, jer vjeruj nam\, traži se mjesto više!😉 \nKontaktiraj +385 95 382 3998 za svoju rezervaciju već sada i javljaj dojmove!🥂
URL:https://zagrebackidogadaji.hr/event/xo-club-w-dj-inity-2/
LOCATION:XO Club\, Vlaška ul. 9\, Zagreb\, Hrvatska\, 10 000\, Croatia (Local Name: Hrvatska)
CATEGORIES:Noćni život,Sva događanja
ATTACH;FMTTYPE=image/jpeg:https://zagrebackidogadaji.hr/wp-content/uploads/2023/11/379001206_294142713359611_8204659806044143287_n.jpg
END:VEVENT
BEGIN:VEVENT
DTSTART;TZID=UTC:20231209T230000
DTEND;TZID=UTC:20231209T230000
DTSTAMP:20260422T130451
CREATED:20231130T140424Z
LAST-MODIFIED:20231130T140424Z
UID:361-1702162800-1702162800@zagrebackidogadaji.hr
SUMMARY:ŽABAC ZAGREB W/ BAND APOKALIPSO
DESCRIPTION:Za ovu subotu znaš šta ti je činiti.\nJer BAND APOKALIPSO w/ DJ Jopsi sviraju i ideš na najbolji provod u Žabac! \nNazovite svoje prijatelje\, rezervirajte svoje mjesto i pripremite se za uzbudljiv vikend. Ovo će biti spektakl! 🎉 \nRezervacija stolova na službenim profilima Žabac Zagreb!
URL:https://zagrebackidogadaji.hr/event/zabac-zagreb-w-band-apokalipso/
LOCATION:Žabac Zagreb\, Jarunska ul. 1\, Zagreb\, Hrvatska\, 10000\, Croatia (Local Name: Hrvatska)
CATEGORIES:Koncerti,Noćni život,Sva događanja
ATTACH;FMTTYPE=image/jpeg:https://zagrebackidogadaji.hr/wp-content/uploads/2023/11/399885784_18202546804285133_4321096747713947880_n.jpg
END:VEVENT
BEGIN:VEVENT
DTSTART;TZID=UTC:20231209T230000
DTEND;TZID=UTC:20231209T230000
DTSTAMP:20260422T130451
CREATED:20231130T144042Z
LAST-MODIFIED:20231130T144042Z
UID:402-1702162800-1702162800@zagrebackidogadaji.hr
SUMMARY:PLATINUM & GOLD CLUB - GOLDEN ERA
DESCRIPTION:Sve je spremno za još jedan ludi provod u novoj sezoni! Vidimo se od 22:00h\, a za vas smo pripremili nezaboravnu atmosferu uz hostese\, plesačice i pomno odabrane hitove našeg DJ-a! Vidimo se ekipa! \nRezervacije – 098 9520 770 / službeni profili Platinum & Gold Cluba \nRezervacije vrijede do 23:00h\, a ulaz je besplatan! \nRadno vrijeme: 22:00h – 06:00h \n18+
URL:https://zagrebackidogadaji.hr/event/platinum-gold-club-golden-era/
LOCATION:Platinum & Gold Club\, Trg John F. Kennedy 6b\, Zagreb\, Hrvatska\, 10 000\, Croatia (Local Name: Hrvatska)
CATEGORIES:Noćni život,Sva događanja
ATTACH;FMTTYPE=image/jpeg:https://zagrebackidogadaji.hr/wp-content/uploads/2023/11/402897480_18398255968036211_7349060287080654257_n.jpg
END:VEVENT
BEGIN:VEVENT
DTSTART;TZID=UTC:20231209T230000
DTEND;TZID=UTC:20231209T230000
DTSTAMP:20260422T130451
CREATED:20231205T142656Z
LAST-MODIFIED:20231205T142656Z
UID:456-1702162800-1702162800@zagrebackidogadaji.hr
SUMMARY:TRASH PARTY - OUT ROOFTOP
DESCRIPTION:Pozivamo vas na TRASH party života! \n@outrooftop trash program osigurat će vam nezaboravnu večer uz kvalitetan izbor koktela tik ispod Gornjeg grada!\nZaplešite uz najbolje domaće hitove na najnovijem noćnom klubu u Zagrebu. \n🕙 SVAKA SUBOTA | 23-04h\n📍OUT Rooftop | Ilica 16 (4 kat.)\n🎟5€ upad\nFree entry until midnight \nZa rezervacije stolova i upite:\n📥 Pišite nam u DM (Facebook/Instagram)\n📞 Nazovite nas: 0981600123\n📧 Pošaljite e-mail na go@out.city\nVidimo se!
URL:https://zagrebackidogadaji.hr/event/trash-party-out-rooftop/
LOCATION:OUT Rooftop\, Ilica 16\, Zagreb\, Zagreb\, 10 000
CATEGORIES:Noćni život,Sva događanja
ATTACH;FMTTYPE=image/jpeg:https://zagrebackidogadaji.hr/wp-content/uploads/2023/12/324898083_928565131644677_7777735113500612_n.jpg
END:VEVENT
BEGIN:VEVENT
DTSTART;TZID=UTC:20231209T230000
DTEND;TZID=UTC:20231209T230000
DTSTAMP:20260422T130451
CREATED:20231205T151258Z
LAST-MODIFIED:20231205T151258Z
UID:517-1702162800-1702162800@zagrebackidogadaji.hr
SUMMARY:RNB SATURDAYS - OUT BUNKER
DESCRIPTION:📀 This SATURDAY\, Join us for the best RNB program in the city! @six.zagreb & @outbunker is bringing you the ultimate hip hop & rnb parties\, with music from Artists such as:\nTyga\, Pop Smoke\, Beyonce\, Akon\, 50 cent\, Black eyed peas\, B Outkast\, Nelly\, Kanye West\, Rihanna\, Beyoncé\nSoulja Boy\, Eminem\n& many more!\nThe weekend is for getting wild\, and this night of nostalgia is not one to miss! Reserve your tables while availability lasts! \n⌚️ Every Saturday | 23-05h\n🎟 5€ Entry\n📍 llica 16 | OUT Bunker
URL:https://zagrebackidogadaji.hr/event/rnb-saturdays-out-bunker/
LOCATION:OUT Bunker\, Ilica 16\, Zagreb\, 10 000\, Croatia (Local Name: Hrvatska)
CATEGORIES:Noćni život,Sva događanja
ATTACH;FMTTYPE=image/jpeg:https://zagrebackidogadaji.hr/wp-content/uploads/2023/12/324715068_5824364107679166_5953267041047200218_n.jpg
END:VEVENT
END:VCALENDAR