BEGIN:VCALENDAR
VERSION:2.0
PRODID:-//Zagrebački događaji - ECPv6.5.0//NONSGML v1.0//EN
CALSCALE:GREGORIAN
METHOD:PUBLISH
X-ORIGINAL-URL:https://zagrebackidogadaji.hr
X-WR-CALDESC:Events for Zagrebački događaji
REFRESH-INTERVAL;VALUE=DURATION:PT1H
X-Robots-Tag:noindex
X-PUBLISHED-TTL:PT1H
BEGIN:VTIMEZONE
TZID:UTC
BEGIN:STANDARD
TZOFFSETFROM:+0000
TZOFFSETTO:+0000
TZNAME:UTC
DTSTART:20230101T000000
END:STANDARD
END:VTIMEZONE
BEGIN:VEVENT
DTSTART;TZID=UTC:20231213T200000
DTEND;TZID=UTC:20231213T200000
DTSTAMP:20260422T130627
CREATED:20231206T093228Z
LAST-MODIFIED:20231206T093228Z
UID:579-1702497600-1702497600@zagrebackidogadaji.hr
SUMMARY:BRYAN ADAMS - ARENA ZAGREB
DESCRIPTION:Nakon punih šest godina\, jedan od najupečatljivijih i najomiljenijih glazbenika na svijetu\, ponovno se vraća u pred zagrebačku publiku! Riječ je o Kanađaninu Bryan Adamsu koji će nastupiti u Areni Zagreb\, 13. prosinca 2023. godine\, u sklopu velike svjetske turneje So Happy It Hurts. Ulaznice su u prodaji od petka\, 24. ožujka\, u sustavu Eventima.  \nBryan Adams je kanadski pjevač i tekstopisac i jedan je od najuzbudljivijih glazbenika na svijetu. Njegov se glazbeni utjecaj proteže na četiri desetljeća\, tijekom kojih ih je objavio 17 studijskih albuma te je osvojio brojne nagrade i priznanja\, uključujući tri nominacije za Oscara\, pet nominacija za Zlatni globus kao i nagradu Grammy. Energična izvedba\, scenska prisutnost i nevjerojatan vokal oduševljavaju vojsku njegovih poklonika diljem svijeta\, a i dalje ne namjerava stati s turnejama\, svirajući glazbu koja je postala neizostavan dio programa gotovo svih rock radio stanica. \nNadolazeća turneja započinje 6. lipnja\, u američkom gradu Baltimore\, a vezana je za njegov 15. studijski album “So Happy It Hurts”\, koji je 11. ožujka 2022. objavio BMG. Istoimena pjesma s tog albuma\, nominirana je za nagradu Grammy i to za najbolju rock izvedbu. \nViše informacija o rasporedu turneje i datumima te prodaji ulaznica može se pronaći na službenoj stranici www.bryanadams.com. Ulaznice za zagrebački koncert u prodaji su već od ovog petka\, 24. ožujka\, a može ih se osigurati putem na svim prodajnima mjestima Eventima kao i putem online sustava www.eventim.hr.
URL:https://zagrebackidogadaji.hr/event/bryan-adams-arena-zagreb/
LOCATION:Arena Zagreb\, Ulica Vice Vukova 8\, Zagreb\, Hrvatska\, Croatia (Local Name: Hrvatska)
CATEGORIES:Koncerti,Sva događanja
ATTACH;FMTTYPE=image/png:https://zagrebackidogadaji.hr/wp-content/uploads/2023/12/Slika-zaslona-2023-12-06-u-10.30.09.png
END:VEVENT
BEGIN:VEVENT
DTSTART;TZID=UTC:20231213T210000
DTEND;TZID=UTC:20231213T210000
DTSTAMP:20260422T130627
CREATED:20231130T153844Z
LAST-MODIFIED:20231130T153844Z
UID:420-1702501200-1702501200@zagrebackidogadaji.hr
SUMMARY:ALEKSANDRA RADOVIĆ - PERON 16
DESCRIPTION:Veliki koncert @alexandradovic @ ! \n\n\nDragi ljubitelji muzike\,\nSa velikim uzbuđenjem vas pozivamo na nezaboravan koncert @alexandradovic \, koji će se održati 13.12.2023. godine na jedinstvenoj lokaciji @peron__16\n\n\n 13.12.2023.\n 21:00 h\n @peron__16\n\n\nOčekuje vas veče ispunjeno predivnim melodijama i neodoljivim vokalom @alexandradovic .\n\n\nulaznice: eventim.hr\nrezervacije putem: DM ili na +385 91 44 333 70\nulaz: 18+\n\n\nRezervirajte svoje ulaznice na vrijeme i budite spremni za nezaboravno muzičko iskustvo.\n\n\nVidimo se na @peron__16 !
URL:https://zagrebackidogadaji.hr/event/aleksandra-radovic-peron-16/
LOCATION:Peron 16\, Magazinska ul. 16\, Zagreb\, Hrvatska\, 10 000\, Croatia (Local Name: Hrvatska)
CATEGORIES:Koncerti,Noćni život,Sva događanja
ATTACH;FMTTYPE=image/jpeg:https://zagrebackidogadaji.hr/wp-content/uploads/2023/11/f96f4bd7-0256-4140-a142-91c0e9068992.jpg
END:VEVENT
BEGIN:VEVENT
DTSTART;TZID=UTC:20231213T230000
DTEND;TZID=UTC:20231213T230000
DTSTAMP:20260422T130627
CREATED:20231130T131659Z
LAST-MODIFIED:20231130T133242Z
UID:317-1702508400-1702508400@zagrebackidogadaji.hr
SUMMARY:XO CLUB - W/ DJ SWEN
DESCRIPTION:XO Club je kroz cijelu clubbing sezonu oduševljava tematskim partyima\, DJ gostovanjima i uvijek vrhunskom zabavom u samom centru grada\, pa tako ni ova srijeda nije iznimka uz DJ SWEN! \nU samom centru grada\, točnije na Europskom trgu\, smjestio se XO Club koji svakog vikenda priređuje posebnu i nezaboravnu atmosferu partijanja! Na tebi je samo da doživiš ovo o čemu pričamo već ove srijede\, stoga požuri po rezervaciju\, jer vjeruj nam\, traži se mjesto više!😉 \nKontaktiraj +385 95 382 3998 za svoju rezervaciju već sada i javljaj dojmove!🥂
URL:https://zagrebackidogadaji.hr/event/xo-club-w-dj-sven/
LOCATION:XO Club\, Vlaška ul. 9\, Zagreb\, Hrvatska\, 10 000\, Croatia (Local Name: Hrvatska)
CATEGORIES:Noćni život,Sva događanja
ATTACH;FMTTYPE=image/jpeg:https://zagrebackidogadaji.hr/wp-content/uploads/2023/11/354570005_244722954968254_3433359101835982081_n.jpg
END:VEVENT
BEGIN:VEVENT
DTSTART;TZID=UTC:20231213T230000
DTEND;TZID=UTC:20231213T230000
DTSTAMP:20260422T130627
CREATED:20231130T142945Z
LAST-MODIFIED:20231130T142945Z
UID:382-1702508400-1702508400@zagrebackidogadaji.hr
SUMMARY:PLATINUM & GOLD CLUB - KRANDO BAND
DESCRIPTION:Sve je spremno za još jedan ludi provod u novoj sezoni! Vidimo se od 22:00h\, a za vas smo pripremili nezaboravnu atmosferu uz hostese\, plesačice i pomno odabrane hitove našeg DJ-a uz nastup Krando Band-a! Vidimo se ekipa! \nRezervacije – 098 9520 770 / službeni profili Platinum & Gold Cluba \nRezervacije vrijede do 23:00h\, a ulaz je besplatan! \nRadno vrijeme: 22:00h – 06:00h \n18+
URL:https://zagrebackidogadaji.hr/event/platinum-gold-club-krando-band-3/
LOCATION:Platinum & Gold Club\, Trg John F. Kennedy 6b\, Zagreb\, Hrvatska\, 10 000\, Croatia (Local Name: Hrvatska)
CATEGORIES:Noćni život,Sva događanja
ATTACH;FMTTYPE=image/jpeg:https://zagrebackidogadaji.hr/wp-content/uploads/2023/11/402909726_18398468821036211_7563243257111403291_n.jpg
END:VEVENT
BEGIN:VEVENT
DTSTART;TZID=UTC:20231213T230000
DTEND;TZID=UTC:20231213T230000
DTSTAMP:20260422T130627
CREATED:20231205T145410Z
LAST-MODIFIED:20231205T145410Z
UID:491-1702508400-1702508400@zagrebackidogadaji.hr
SUMMARY:STRICTLY TRAP - OUT BUNKER
DESCRIPTION:Join us this Wednesday in collaboration with @samokaos kaos & @six.zagreb\, OUT Bunker on Ilica 16 is bringing to Zagreb it’s own Wednesday Trap program!\nWe’re playing Strictly Trap\, only the best of Trap music from artist such as Travis Scott\, Young Thug\, Gucci Mane\, Migos\, Lil Uzi Vert\, A$AP Ferg\, Fetty Wap\, Dababy\, Playboy Carti\, Pop Smoke\, Drake\, xxxtentacion & many more. \n⌚️23-04 | Every Wednesday\n🎟 FREE ENTRY TILL MIDNIGHT\n4€ AFTER\n📍OUT Bunker\, ILICA 16 \nFor table reservations and inquiries:\n📥 DM us (Facebook/Instagram)\n📞 Call us: 0981600123\n📧 or E-mail us at go@out.city\nLimited space available!\nArrive earlier to guarantee entry!
URL:https://zagrebackidogadaji.hr/event/strictly-trap-out-bunker-2/
LOCATION:OUT Bunker\, Ilica 16\, Zagreb\, 10 000\, Croatia (Local Name: Hrvatska)
CATEGORIES:Noćni život,Sva događanja
ATTACH;FMTTYPE=image/jpeg:https://zagrebackidogadaji.hr/wp-content/uploads/2023/12/324668820_1238760340052771_8581296360758103123_n.jpg
END:VEVENT
BEGIN:VEVENT
DTSTART;TZID=UTC:20231213T230000
DTEND;TZID=UTC:20231213T230000
DTSTAMP:20260422T130627
CREATED:20231207T121327Z
LAST-MODIFIED:20231207T121327Z
UID:666-1702508400-1702508400@zagrebackidogadaji.hr
SUMMARY:ADVENTSKA SRIJEDA - THE SECRET CLUB
DESCRIPTION:Advent je stigao i u Secret Club! \nU srijedu\, 13. prosinca\, grijemo se uz najbolje trash i balkaton hitove! Neka vas ponese blagdanska čarolija na najluđem adventskom partyju u gradu! \nRezervacije stolova osigurajte porukom u DM Secret Cluba ili na broj 099 625 1088.
URL:https://zagrebackidogadaji.hr/event/adventska-srijeda-the-secret-club/
LOCATION:The Secret Club\, Draškovićeva ul. 41\, Zagreb\, Hrvatska\, 10 000\, Croatia (Local Name: Hrvatska)
CATEGORIES:Noćni život,Sva događanja
ATTACH;FMTTYPE=image/jpeg:https://zagrebackidogadaji.hr/wp-content/uploads/2023/12/IMG_3367-e1702036907346.jpg
END:VEVENT
END:VCALENDAR