BEGIN:VCALENDAR
VERSION:2.0
PRODID:-//Zagrebački događaji - ECPv6.5.0//NONSGML v1.0//EN
CALSCALE:GREGORIAN
METHOD:PUBLISH
X-ORIGINAL-URL:https://zagrebackidogadaji.hr
X-WR-CALDESC:Events for Zagrebački događaji
REFRESH-INTERVAL;VALUE=DURATION:PT1H
X-Robots-Tag:noindex
X-PUBLISHED-TTL:PT1H
BEGIN:VTIMEZONE
TZID:UTC
BEGIN:STANDARD
TZOFFSETFROM:+0000
TZOFFSETTO:+0000
TZNAME:UTC
DTSTART:20230101T000000
END:STANDARD
END:VTIMEZONE
BEGIN:VEVENT
DTSTART;TZID=UTC:20231215T200000
DTEND;TZID=UTC:20231215T200000
DTSTAMP:20260422T130626
CREATED:20231215T082706Z
LAST-MODIFIED:20231215T082706Z
UID:822-1702670400-1702670400@zagrebackidogadaji.hr
SUMMARY:DINO DVORNIK TRIBUTE BAND - FOOLING AROUND
DESCRIPTION:Get ready to groove with Dino Dvornik Tribute this Friday at 20:00\, powered by OTP banka d.d. !  Dress sparkly\, bring your funky dance moves\, cherished friends\, and get ready for a feast by Chefs!
URL:https://zagrebackidogadaji.hr/event/dino-dvornik-tribute-band-fooling-around/
LOCATION:Oleander Terasa\, Hotel Esplanade\, Mihanovićeva 1\, Zagreb\, Croatia (Local Name: Hrvatska)
CATEGORIES:Koncerti,Noćni život,Sva događanja
ATTACH;FMTTYPE=image/jpeg:https://zagrebackidogadaji.hr/wp-content/uploads/2023/12/408152946_122129522564059464_2101556192346586472_n.jpg
END:VEVENT
BEGIN:VEVENT
DTSTART;TZID=UTC:20231215T200000
DTEND;TZID=UTC:20231215T200000
DTSTAMP:20260422T130626
CREATED:20231215T082907Z
LAST-MODIFIED:20231215T082907Z
UID:827-1702670400-1702670400@zagrebackidogadaji.hr
SUMMARY:ALBINA - BAŠ NAŠ
DESCRIPTION:
URL:https://zagrebackidogadaji.hr/event/albina-bas-nas/
LOCATION:Trg Bana Josipa Jelačića\, Zagreb
CATEGORIES:Koncerti,Noćni život,Sva događanja
ATTACH;FMTTYPE=image/jpeg:https://zagrebackidogadaji.hr/wp-content/uploads/2023/12/402659026_900394994782673_3475364783239914678_n.jpg
END:VEVENT
BEGIN:VEVENT
DTSTART;TZID=UTC:20231215T210000
DTEND;TZID=UTC:20231215T210000
DTSTAMP:20260422T130626
CREATED:20231205T154332Z
LAST-MODIFIED:20231205T154332Z
UID:540-1702674000-1702674000@zagrebackidogadaji.hr
SUMMARY:LET'S DANCE FESTIVAL - KATRAN
DESCRIPTION:𝐋𝐞𝐭’𝐬 𝐃𝐀𝐍𝐂𝐄 𝐅𝐞𝐬𝐭𝐢𝐯𝐚𝐥 𝟏𝟓.𝟏𝟐.𝟐𝟎𝟐𝟑\n𝟒 𝐏𝐥𝐞𝐬𝐧𝐚 𝐏𝐨𝐝𝐢𝐣𝐚 // 𝟖 𝐃𝐉𝐚 // 𝐔𝐛𝐞𝐫𝐅𝐚𝐧𝐭𝐚𝐬𝐭𝐢č𝐧𝐚 𝐦𝐣𝐮𝐳𝐚!\n𝐀𝐤𝐨 𝐯𝐨𝐥𝐢𝐭𝐞 𝐦𝐮𝐳𝐢𝐤𝐮 𝟕𝟎𝐭𝐢𝐡\, 𝟖𝟎𝐭𝐢𝐡 𝐬𝐯𝐞 𝐝𝐨 𝟗𝟎𝐭𝐢𝐡 𝐨𝐧𝐝𝐚 𝐬𝐞 𝐯𝐢𝐝𝐢𝐦𝐨 𝟏𝟓.𝟏𝟐. 𝐮 𝐙𝐚𝐠𝐫𝐞𝐛𝐚č𝐤𝐨𝐦 𝐊𝐀𝐓𝐑𝐀𝐍𝐮 𝐧𝐚 𝐧𝐚𝐣𝐩𝐥𝐞𝐬𝐧𝐢𝐣𝐞𝐦 𝐅𝐞𝐬𝐭𝐢𝐯𝐚𝐥𝐮 𝐤𝐨𝐣𝐢 𝐬𝐥𝐚𝐯𝐢 𝐬𝐚𝐦𝐨 𝐝𝐨𝐛𝐫𝐮 𝐦𝐣𝐮𝐳𝐮 𝐢 𝐣𝐨š 𝐛𝐨𝐥𝐣𝐮 č𝐚𝐠𝐢𝐜𝐮.\n𝐎č𝐞𝐤𝐮𝐣𝐞 𝐯𝐚𝐬 𝟕 𝐬𝐚𝐭𝐢 𝐠𝐥𝐚𝐳𝐛𝐞 𝐢 𝐩𝐥𝐞𝐬𝐚.\n𝐏𝐥𝐞š𝐞𝐦𝐨 𝐧𝐚 𝐒𝐭𝐮𝐝𝐢𝐨 𝟓𝟒\, 𝟖𝟎𝐬\, 𝟗𝟎𝐬\, 𝐏𝐨𝐩\,\n𝐑𝐨𝐜𝐤\, 𝐅𝐮𝐧𝐤𝐲\, 𝐄𝐱 𝐘𝐮 / 𝐍𝐨𝐯𝐢 𝐕𝐚𝐥…………\n𝐍𝐚𝐛𝐚𝐯𝐢𝐭𝐞 𝐬𝐯𝐨𝐣𝐮 𝐮𝐥𝐚𝐳𝐧𝐢𝐜𝐮 𝐮 𝐩𝐫𝐞𝐭𝐩𝐫𝐨𝐝𝐚𝐣𝐢 𝐣𝐞𝐫 𝐳𝐚 𝐳𝐚𝐝𝐧𝐣𝐢 𝐟𝐞𝐬𝐭𝐢𝐯𝐚𝐥 𝐭𝐫𝐚ž𝐢𝐥𝐚 𝐬𝐞 𝐮𝐥𝐚𝐳𝐧𝐢𝐜𝐚 𝐯𝐢š𝐞.\n___________________________________________________________________\n𝐕𝐢š𝐞 𝐢𝐧𝐟𝐨𝐫𝐦𝐚𝐜𝐢𝐣𝐚 𝐨 𝐩𝐥𝐞𝐬𝐧𝐢𝐦 𝐩𝐨𝐝𝐢𝐣𝐢𝐦𝐚 𝐢 𝐃𝐉 𝐥𝐢𝐧𝐞𝐮𝐩 𝐨𝐛𝐣𝐚𝐯𝐥𝐣𝐮𝐣𝐞𝐦𝐨 𝐮𝐬𝐤𝐨𝐫𝐨!\n𝟒 𝐓𝐞𝐦𝐚𝐭𝐬𝐤𝐚 𝐅𝐥𝐨𝐨𝐫𝐚:\n𝐅𝐋𝐎𝐎𝐑 𝐍𝐨.𝟏 // 𝐅𝐫𝐨𝐦 𝐃𝐢𝐒𝐂𝐎 𝟐 𝟗𝟎𝐬 // 𝐓𝐍𝐓\n𝐅𝐋𝐎𝐎𝐑 𝐍𝐨.𝟐 // 𝐏𝐮𝐫𝐞 𝟖𝟎𝐬 // 𝐌𝐔𝐒𝐄𝐔𝐌\n𝐅𝐋𝐎𝐎𝐑 𝐍𝐨.𝟑 // 𝐄𝐱 𝐘𝐮 – 𝐍𝐨𝐯𝐢 𝐕𝐚𝐥 – 𝐏𝐨𝐩 𝐑𝐨𝐜𝐤 // 𝐏𝐨𝐦𝐨𝐫𝐧𝐢𝐜𝐚 𝐌𝐏-𝟕𝟐\n𝐅𝐋𝐎𝐎𝐑 𝐍𝐨.𝟒 // 𝐏𝐮𝐫𝐞 𝐏𝐨𝐩 𝐯𝐬. 𝐑𝐨𝐜𝐤 𝐯𝐬. 𝐈𝐭𝐚𝐥𝐨 // 𝐋𝐨𝐯𝐚č𝐤𝐚 𝐒𝐨𝐛𝐚\n___________________________________________________________________\n\n𝐃𝐉 𝐥𝐢𝐧𝐞𝐮𝐩:\n𝐀𝐧đ𝐞𝐥𝐤𝐨 𝐏𝐫𝐞𝐫𝐚𝐝𝐨𝐯𝐢ć – 𝐃𝐉 𝐗𝐱𝐱𝐭𝐞𝐧𝐝𝐞𝐝\n// 𝐊𝐒𝐄𝐓\, 𝐆𝐀𝐏\, 𝐌𝐨č𝐯𝐚𝐫𝐚\, 𝐒𝐀𝐗!; 𝐆𝐣𝐮𝐫𝐨 𝟐.. //\n𝐊𝐢ć𝐨\n// 𝐋𝐚𝐩𝐢𝐝𝐚𝐫𝐢𝐣\, 𝐊𝐮𝐥𝐮š𝐢ć\, 𝐆𝐣𝐮𝐫𝐨 𝟐 //\n𝐌𝐚𝐭𝐢𝐣𝐚 𝐋𝐨𝐯𝐫𝐞𝐜\n// “𝐑𝐞𝐛𝐢𝐫𝐭𝐡 𝐎𝐟 𝐅𝐮𝐧𝐤 ” @ 𝐀𝐪𝐮𝐚𝐫𝐢𝐮𝐬 //\n𝐒𝐢𝐧𝐢š𝐚 𝐚𝐤𝐚 𝐌𝐚𝐧 𝐅𝐫𝐨𝐦 𝐌𝐚𝐫𝐬\n// 𝐆𝐣𝐮𝐫𝐨 𝟐\, 𝐊𝐮𝐥𝐮š𝐢ć\, 𝐏𝐞𝐩𝐞𝐫𝐦𝐢𝐧𝐭\, 𝐋𝐚𝐩𝐢𝐝𝐚𝐫𝐢𝐣 //\n𝐆𝐨𝐫𝐝𝐚𝐧 𝐁𝐞𝐧𝐜𝐞𝐝𝐢ć – 𝐃𝐉 𝐁𝐞𝐧𝐜\n// 𝐀𝐦𝐚𝐳𝐨𝐧𝐚\, 𝐀𝐟𝐭𝐞𝐫 𝐄𝐢𝐠𝐡𝐭\, 𝐁𝐢𝐠 𝐁𝐞𝐧\, 𝐃𝐚𝐥𝐥𝐚𝐬\, 𝐉𝐚𝐛𝐮𝐤𝐚 //\n𝐃𝐚𝐫𝐢𝐨 𝐁𝐫𝐮𝐦𝐢𝐜 – 𝐝𝐚𝐫𝐢𝐨.𝐳𝐠\n// 𝐑𝐑𝐖\, 𝐊𝐨𝐁𝐨\, 𝐉𝐅𝐊\, 𝐌𝐚𝐤𝐨𝐧𝐝𝐨(𝐁𝐞𝐨𝐠𝐫𝐚𝐝)\, 𝐊𝐥𝐞𝐤\, 𝐍𝐨.𝟏 //\n𝐌𝐚𝐫𝐢𝐣𝐚𝐧 𝐊𝐨𝐥𝐚𝐫𝐢ć – 𝐌𝐫. 𝐌𝐞𝐥𝐨𝐝𝐲\n// 𝐭𝐛𝐚//\n𝐓𝐨𝐦𝐢𝐬𝐥𝐚𝐯 𝐅𝐮č𝐤𝐚𝐫 – 𝐅𝐮𝐤𝐢\n// 𝐋𝐚𝐩𝐢𝐝𝐚𝐫𝐢𝐣\, 𝐊𝐮𝐥𝐮š𝐢ć\, 𝐆𝐊 𝐉𝐚𝐛𝐮𝐤𝐚 //\n𝐃𝐉 𝐒𝐚š𝐚 𝐇𝐞𝐫𝐜𝐢𝐠𝐨𝐧𝐣𝐚\n// 𝐀𝐟𝐭𝐞𝐫 𝐄𝐢𝐠𝐡𝐭\, 𝐓𝐡𝐞 𝐁𝐞𝐬𝐭\, 𝐀𝐦𝐚𝐳𝐨𝐧𝐚\, 𝐊𝐄𝐅-𝐚 //\n___________________________________________________________________\n𝗢𝘃𝗮𝗷 𝗳𝗲𝘀𝘁𝗶𝘃𝗮𝗹 𝗻𝗲 𝗯𝗶 𝗺𝗼𝗴𝗹𝗼 𝗼𝗿𝗴𝗮𝗻𝗶𝘇𝗶𝗿𝗮𝘁𝗶 𝗯𝗲z 𝗻𝗮š𝗶𝗵 𝘃𝗷𝗲𝗿𝗻𝗶𝗵 𝘀𝗽𝗼𝗻𝘇𝗼𝗿𝗮:\n𝗛𝗲𝗻𝗱𝗿𝗶𝗰𝗸𝘀 𝗚𝗶𝗻 / 𝗠𝗼𝗻𝗸𝗲𝘆 𝗦𝗵𝗼𝘂𝗹𝗱𝗲𝗿 / 𝗦𝗶𝗲𝗿𝗿𝗮 𝗧𝗲𝗾𝘂𝗶𝗹𝗮\n𝐔𝐥𝐚𝐳𝐧𝐢𝐜𝐞 / 𝐓𝐢𝐜𝐤𝐞𝐭𝐬:\nE̶A̶R̶L̶Y̶ ̶B̶i̶R̶D̶ ̶1̶2̶€̶ ̶s̶a̶m̶o̶ ̶1̶0̶0̶k̶o̶m̶ ̶z̶a̶ ̶n̶a̶j̶b̶r̶ž̶e̶ RASPRODANO\n𝐏𝐑𝐄𝐓𝐏𝐑𝐎𝐃𝐀𝐉𝐀* 𝟏𝟓€\n(trenutno u prodaji do 30.11. ako se sve prije ne rasprodaju)\n𝐑𝐄𝐆𝐔𝐋𝐀𝐑* 𝟏𝟖€\n𝐍𝐀 𝐃𝐀𝐍 𝐄𝐕𝐄𝐍𝐓𝐀 ?? 𝐚𝐤𝐨 𝐢𝐡 𝐮𝐨𝐩ć𝐞 𝐝𝐨 𝐭𝐚𝐝𝐚 𝐨𝐬𝐭𝐚𝐧𝐞\n*𝐒𝐯𝐞 𝐮𝐥𝐚𝐳𝐧𝐢𝐜𝐞 𝐬𝐮 𝐯𝐫𝐞𝐦𝐞𝐧𝐬𝐤𝐢 𝐢 𝐤𝐨𝐥𝐢č𝐢𝐧𝐬𝐤𝐢 𝐨𝐠𝐫𝐚𝐧𝐢č𝐞𝐧𝐞.\n\n𝐔𝐥𝐚𝐳 𝐝𝐨𝐳𝐯𝐨𝐥𝐣𝐞𝐧 𝐬𝐭𝐚𝐫𝐢𝐣𝐢𝐦𝐚 𝐨𝐝 𝟏𝟗 𝐠𝐨𝐝𝐢𝐧𝐚 𝐬𝐭𝐚𝐫𝐨𝐬𝐭𝐢.\n𝐑𝐞𝐳𝐞𝐯𝐚𝐜𝐢𝐣𝐞 𝐬𝐭𝐨𝐥𝐨𝐯𝐚 𝐢𝐥𝐢 𝐕𝐈𝐏𝐨𝐯𝐚 𝐮 𝐢𝐧𝐛𝐨𝐱 𝐢𝐥𝐢 𝐧𝐚 𝐦𝐚𝐢𝐥 𝐤𝐚𝐭𝐫𝐚𝐧.𝐳𝐚𝐠𝐫𝐞𝐛@𝐠𝐦𝐚𝐢𝐥.𝐜𝐨𝐦\n𝐒𝐮𝐩𝐩𝐨𝐫𝐭𝐞𝐝 𝐛𝐲 𝐟𝐚𝐜𝐞𝐛𝐨𝐨𝐤 𝐠𝐫𝐨𝐮𝐩: “𝟖𝟎𝐞 𝐮 𝐙𝐚𝐠𝐫𝐞𝐛𝐮”\n(𝐓𝐫𝐞𝐧𝐮𝐭𝐧𝐨 𝐧𝐞𝐦𝐚 𝐧𝐢𝐤𝐚𝐤𝐯𝐢𝐡 𝐂𝐨𝐯𝐢𝐝 𝐦𝐣𝐞𝐫𝐚\, 𝐚𝐥𝐢 𝐝𝐨𝐠𝐚đ𝐚𝐣 ć𝐞 𝐬𝐞 𝐨𝐝𝐫ž𝐚𝐭𝐢 𝐮 𝐬𝐤𝐥𝐚𝐝𝐮 𝐬 𝐂𝐨𝐯𝐢𝐝 𝐦𝐣𝐞𝐫𝐚𝐦𝐚 𝐤𝐨𝐣𝐞 ć𝐞 𝐛𝐢𝐭𝐢 𝐧𝐚 𝐬𝐧𝐚𝐳𝐢 𝐮 𝐭𝐫𝐞𝐧𝐮𝐭𝐤𝐮 𝐨𝐝𝐫ž𝐚𝐯𝐚𝐧𝐣𝐚 𝐝𝐨𝐠𝐚đ𝐚𝐣𝐚 𝐚𝐤𝐨 𝐢𝐡 𝐮𝐨𝐩ć𝐞 𝐛𝐮𝐝𝐞)\n𝐋𝐨𝐤𝐚𝐜𝐢𝐣𝐚\n𝐊𝐀𝐓𝐑𝐀𝐍 𝐙𝐚𝐠𝐫𝐞𝐛\n𝐑𝐚𝐝𝐧𝐢č𝐤𝐚 𝐂𝐞𝐬𝐭𝐚 𝟐𝟕\, 𝟏𝟎𝟎𝟎𝟎 𝐙𝐚𝐠𝐫𝐞𝐛\n𝐆𝐨𝐨𝐠𝐥𝐞 𝐌𝐚𝐩𝐬 𝐡𝐭𝐭𝐩𝐬://𝐠𝐨𝐨.𝐠𝐥/𝐦𝐚𝐩𝐬/𝐬𝐫𝐅𝐦𝐠𝐕𝐁𝐡𝐠𝐃𝐍𝟐
URL:https://zagrebackidogadaji.hr/event/lets-dance-festival-katran/
LOCATION:Katran\, Ulica Ivana Zahara 9\, Zagreb\, 10 000
CATEGORIES:Noćni život,Sva događanja
ATTACH;FMTTYPE=image/jpeg:https://zagrebackidogadaji.hr/wp-content/uploads/2023/12/405780451_740241714794309_5664961378099974250_n.jpg
END:VEVENT
BEGIN:VEVENT
DTSTART;TZID=UTC:20231215T230000
DTEND;TZID=UTC:20231215T230000
DTSTAMP:20260422T130626
CREATED:20231130T121226Z
LAST-MODIFIED:20231130T121331Z
UID:264-1702681200-1702681200@zagrebackidogadaji.hr
SUMMARY:HUMANITARNI DISCO PARTY - JOHANN FRANCK
DESCRIPTION:Pripremite se za disco groznicu najzabavnije večeri u kojoj svaki plesni pokret nosi posebno značenje jer se sredstva prikupljena od prodaje ulaznica doniraju udruzi La Verna čiji volonterni svakodnevno pridonose boljoj palijjativnoj skrbi. \nInformacije i rezervacije: johann.franck@johannfranck.hr / +38591 7838 153
URL:https://zagrebackidogadaji.hr/event/humanitarni-disco-party-johann-franck/
LOCATION:Johann Franck\, Trg bana Josipa Jelačića 9\, Zagreb\, Hrvatska\, 10 000\, Croatia (Local Name: Hrvatska)
CATEGORIES:Noćni život,Sva događanja
ATTACH;FMTTYPE=image/jpeg:https://zagrebackidogadaji.hr/wp-content/uploads/2023/11/406230874_730298515793874_2907301228739276163_n.jpg
END:VEVENT
BEGIN:VEVENT
DTSTART;TZID=UTC:20231215T230000
DTEND;TZID=UTC:20231215T230000
DTSTAMP:20260422T130626
CREATED:20231130T124030Z
LAST-MODIFIED:20231130T124540Z
UID:288-1702681200-1702681200@zagrebackidogadaji.hr
SUMMARY:FUTURA - THE SECRET CLUB
DESCRIPTION:Dok oko nas padaju temperature\, u Secretu se i ovog petka grijemo najvatrenijom atmosferom! \nNa programu FUTURA te čeka nova doza zapaljivih mash-upova balkatona i stranih hitova za koje će se pobrinuti Secret rezidenti The Mob\, Karlo Leopold i Jasmin Muhamed Ali! \nAko i vi želite biti dio nevjerojatnog provoda\, uhvatite mjesto porukom na službene profile The Secret Cluba ili na broj 099 625 1088!
URL:https://zagrebackidogadaji.hr/event/futura-the-secret-club-2/
LOCATION:The Secret Club\, Draškovićeva ul. 41\, Zagreb\, Hrvatska\, 10 000\, Croatia (Local Name: Hrvatska)
CATEGORIES:Noćni život,Sva događanja
ATTACH;FMTTYPE=image/jpeg:https://zagrebackidogadaji.hr/wp-content/uploads/2023/11/307372352_1299021700636459_9158228737627267585_n.jpg
END:VEVENT
BEGIN:VEVENT
DTSTART;TZID=UTC:20231215T230000
DTEND;TZID=UTC:20231215T230000
DTSTAMP:20260422T130626
CREATED:20231130T131808Z
LAST-MODIFIED:20231130T131808Z
UID:319-1702681200-1702681200@zagrebackidogadaji.hr
SUMMARY:XO CLUB - W/ DJ SWEN
DESCRIPTION:XO Club je kroz cijelu clubbing sezonu oduševljava tematskim partyima\, DJ gostovanjima i uvijek vrhunskom zabavom u samom centru grada\, pa tako ni ovaj petak nije iznimka uz DJ SWEN! \nU samom centru grada\, točnije na Europskom trgu\, smjestio se XO Club koji svakog vikenda priređuje posebnu i nezaboravnu atmosferu partijanja! Na tebi je samo da doživiš ovo o čemu pričamo već ovog vikenda\, stoga požuri po rezervaciju\, jer vjeruj nam\, traži se mjesto više!😉 \nKontaktiraj +385 95 382 3998 za svoju rezervaciju već sada i javljaj dojmove!🥂
URL:https://zagrebackidogadaji.hr/event/xo-club-w-dj-swen/
LOCATION:XO Club\, Vlaška ul. 9\, Zagreb\, Hrvatska\, 10 000\, Croatia (Local Name: Hrvatska)
CATEGORIES:Noćni život,Sva događanja
ATTACH;FMTTYPE=image/jpeg:https://zagrebackidogadaji.hr/wp-content/uploads/2023/11/398100477_17937528866755741_1878738160253569223_n.jpg
END:VEVENT
BEGIN:VEVENT
DTSTART;TZID=UTC:20231215T230000
DTEND;TZID=UTC:20231215T230000
DTSTAMP:20260422T130627
CREATED:20231130T140621Z
LAST-MODIFIED:20231130T140621Z
UID:363-1702681200-1702681200@zagrebackidogadaji.hr
SUMMARY:ŽABAC ZAGREB W/ DANGUBE BAND & TAMBURAŠI
DESCRIPTION:Za ovaj petak znaš šta ti je činiti.\nJer Dangube Band & Tamburaši uz potporu DJ Jopsi sviraju i ideš na najbolji provod u Žabac! \nNazovite svoje prijatelje\, rezervirajte svoje mjesto i pripremite se za uzbudljiv vikend. Ovo će biti spektakl! 🎉 \nRezervacija stolova na službenim profilima Žabac Zagreb!
URL:https://zagrebackidogadaji.hr/event/zabac-zagreb-w-dangube-band-tamburasi/
LOCATION:Žabac Zagreb\, Jarunska ul. 1\, Zagreb\, Hrvatska\, 10000\, Croatia (Local Name: Hrvatska)
CATEGORIES:Koncerti,Noćni život,Sva događanja
ATTACH;FMTTYPE=image/jpeg:https://zagrebackidogadaji.hr/wp-content/uploads/2023/11/394480967_18200323363285133_121481987461764034_n.jpg
END:VEVENT
BEGIN:VEVENT
DTSTART;TZID=UTC:20231215T230000
DTEND;TZID=UTC:20231215T230000
DTSTAMP:20260422T130627
CREATED:20231130T143801Z
LAST-MODIFIED:20231130T143801Z
UID:396-1702681200-1702681200@zagrebackidogadaji.hr
SUMMARY:PLATINUM & GOLD CLUB - LADIES NIGHT
DESCRIPTION:Sve je spremno za još jedan ludi provod u novoj sezoni! Vidimo se od 22:00h\, a za vas smo pripremili nezaboravnu atmosferu uz hostese\, plesačice i pomno odabrane hitove našeg DJ-a! Vidimo se ekipa! \nRezervacije – 098 9520 770 / službeni profili Platinum & Gold Cluba \nRezervacije vrijede do 23:00h\, a ulaz je besplatan! \nRadno vrijeme: 22:00h – 06:00h \n18+
URL:https://zagrebackidogadaji.hr/event/platinum-gold-club-ladies-night-2/
LOCATION:Platinum & Gold Club\, Trg John F. Kennedy 6b\, Zagreb\, Hrvatska\, 10 000\, Croatia (Local Name: Hrvatska)
CATEGORIES:Noćni život,Sva događanja
ATTACH;FMTTYPE=image/jpeg:https://zagrebackidogadaji.hr/wp-content/uploads/2023/11/402888500_18398468869036211_1965665844153478866_n.jpg
END:VEVENT
BEGIN:VEVENT
DTSTART;TZID=UTC:20231215T230000
DTEND;TZID=UTC:20231215T230000
DTSTAMP:20260422T130627
CREATED:20231205T143850Z
LAST-MODIFIED:20231205T143850Z
UID:469-1702681200-1702681200@zagrebackidogadaji.hr
SUMMARY:BALKAN ROOFTOP - OUT ROOFTOP
DESCRIPTION:Pridruži nam se ovog petka na ROOFTOPU!\n\nNovi program na ROOFTOPU! Donosimo najnovije i najbolje balkatone hitove!\n\n OUT Rooftop\, Ilica 16\n 23-04h | EVERY FRIDAY\n 4€ entry\nFree entry until midnight!\n\nZa rezervacije stolova i upite:\n📥 Pišite nam u DM (Facebook/Instagram)\n📞 Nazovite nas: 0981600123\n📧 Pošaljite e-mail na go@out.city\nVidimo se!
URL:https://zagrebackidogadaji.hr/event/balkan-rooftop-out-rooftop-2/
LOCATION:OUT Rooftop\, Ilica 16\, Zagreb\, Zagreb\, 10 000
CATEGORIES:Noćni život,Sva događanja
ATTACH;FMTTYPE=image/jpeg:https://zagrebackidogadaji.hr/wp-content/uploads/2023/12/325197610_991645522223814_7806868946430099844_n.jpg
END:VEVENT
BEGIN:VEVENT
DTSTART;TZID=UTC:20231215T230000
DTEND;TZID=UTC:20231215T230000
DTSTAMP:20260422T130627
CREATED:20231205T150912Z
LAST-MODIFIED:20231205T150912Z
UID:511-1702681200-1702681200@zagrebackidogadaji.hr
SUMMARY:PARTY ROCK - OUT BUNKER
DESCRIPTION:🍾THIS FRIDAY Join us in our blast to the past back to the 2010’s clubbing era! @six.zagreb & @outbunker is bringing you Party Rock Bunker\, with music from Artists such as:\nPitbull\, Kesha\, LMFAO\, Shakira\, Akon\, 50 cent\, Black eyed peas\, Britney Spears\, kid cudi\, Chris brown\, Jennifer Lopez\n& many more!\nThe weekend is for getting wild\, and this night of nostalgia is not one to miss! Reserve your tables while availability lasts! \n⌚️ EVERY FRIDAY | 23-05h\n🎟5€ Entry\n📍 llica 16 | OUT Bunker
URL:https://zagrebackidogadaji.hr/event/party-rock-out-bunker-2/
LOCATION:OUT Bunker\, Ilica 16\, Zagreb\, 10 000\, Croatia (Local Name: Hrvatska)
CATEGORIES:Noćni život,Sva događanja
ATTACH;FMTTYPE=image/jpeg:https://zagrebackidogadaji.hr/wp-content/uploads/2023/12/325136415_496431269246265_2253286784590635334_n.jpg
END:VEVENT
END:VCALENDAR