BEGIN:VCALENDAR
VERSION:2.0
PRODID:-//Zagrebački događaji - ECPv6.5.0//NONSGML v1.0//EN
CALSCALE:GREGORIAN
METHOD:PUBLISH
X-ORIGINAL-URL:https://zagrebackidogadaji.hr
X-WR-CALDESC:Events for Zagrebački događaji
REFRESH-INTERVAL;VALUE=DURATION:PT1H
X-Robots-Tag:noindex
X-PUBLISHED-TTL:PT1H
BEGIN:VTIMEZONE
TZID:UTC
BEGIN:STANDARD
TZOFFSETFROM:+0000
TZOFFSETTO:+0000
TZNAME:UTC
DTSTART:20230101T000000
END:STANDARD
END:VTIMEZONE
BEGIN:VEVENT
DTSTART;TZID=UTC:20231220T180000
DTEND;TZID=UTC:20231220T220000
DTSTAMP:20260422T130544
CREATED:20231220T100239Z
LAST-MODIFIED:20231220T100239Z
UID:897-1703095200-1703109600@zagrebackidogadaji.hr
SUMMARY:SLATKI ZRINJEVAC - DJ & SAX
DESCRIPTION:Za sve vas koji ste voljeli izlaziti u Saloon u Zagrebu 80-ih\, očekujemo vas večeras jer DJ Tomislav Tomašević dolazi da zagrije plesni podij. Uz njega nastupa i Sax Berislav Antica. Vidimo se od 18:00h – 22:00h.
URL:https://zagrebackidogadaji.hr/event/slatki-zrinjevac-dj-sax/
LOCATION:Zrinjevac\, Zrinjevac\, Zagreb\, Hrvatska\, Croatia (Local Name: Hrvatska)
CATEGORIES:Noćni život,Sva događanja
ATTACH;FMTTYPE=image/jpeg:https://zagrebackidogadaji.hr/wp-content/uploads/2023/12/IMG_4487.jpg
END:VEVENT
BEGIN:VEVENT
DTSTART;TZID=UTC:20231220T190000
DTEND;TZID=UTC:20231220T190000
DTSTAMP:20260422T130544
CREATED:20231219T150047Z
LAST-MODIFIED:20231219T150047Z
UID:891-1703098800-1703098800@zagrebackidogadaji.hr
SUMMARY:HAPPY FEST
DESCRIPTION:Nakon prošlogodišnjeg nezaboravnog spektakla\, s ponosom najavljujemo povratak Happy FEST-a! Dvaput je dvaput\, a ove godine obećavamo još bolji show!  \n Kada: 20. 12. 2023.\n Gdje: Boćarski dom\, Zagreb \nPridružite nam se na nezaboravnoj noći uz najveće hitove domaće glazbe koje će izvesti grupa Vigor\, kraljice dance scene devedesetih\, Minea\, Ivana Banfić i Ella\, te legendarni Siniša Vuco i Miroslav Škoro. \nNe propustite ovaj glazbeni spektakl! \nUlaznice su već u prodaji putem sustava Eventim. Osigurajte svoje mjesto na vrijeme!
URL:https://zagrebackidogadaji.hr/event/happy-fest/
LOCATION:Boćarski Dom\, Prisavlje ul. 2\, Zagreb
CATEGORIES:Koncerti,Noćni život,Sva događanja
ATTACH;FMTTYPE=image/jpeg:https://zagrebackidogadaji.hr/wp-content/uploads/2023/12/391615139_17899636652890593_5125058174954237433_n.jpg
END:VEVENT
BEGIN:VEVENT
DTSTART;TZID=UTC:20231220T230000
DTEND;TZID=UTC:20231220T230000
DTSTAMP:20260422T130544
CREATED:20231130T132053Z
LAST-MODIFIED:20231130T133336Z
UID:325-1703113200-1703113200@zagrebackidogadaji.hr
SUMMARY:XO CLUB - W/ DJ SWEN
DESCRIPTION:XO Club je kroz cijelu clubbing sezonu oduševljava tematskim partyima\, DJ gostovanjima i uvijek vrhunskom zabavom u samom centru grada\, pa tako ni ova srijeda nije iznimka uz DJ SWENA! \nU samom centru grada\, točnije na Europskom trgu\, smjestio se XO Club koji svakog vikenda priređuje posebnu i nezaboravnu atmosferu partijanja! Na tebi je samo da doživiš ovo o čemu pričamo već ove srijede\, stoga požuri po rezervaciju\, jer vjeruj nam\, traži se mjesto više!😉 \nKontaktiraj +385 95 382 3998 za svoju rezervaciju već sada i javljaj dojmove!🥂
URL:https://zagrebackidogadaji.hr/event/xo-club-w-dj-swen-2/
LOCATION:XO Club\, Vlaška ul. 9\, Zagreb\, Hrvatska\, 10 000\, Croatia (Local Name: Hrvatska)
CATEGORIES:Noćni život,Sva događanja
ATTACH;FMTTYPE=image/jpeg:https://zagrebackidogadaji.hr/wp-content/uploads/2023/11/336916925_920290582504188_7404561275077670004_n.jpg
END:VEVENT
BEGIN:VEVENT
DTSTART;TZID=UTC:20231220T230000
DTEND;TZID=UTC:20231220T230000
DTSTAMP:20260422T130544
CREATED:20231130T143257Z
LAST-MODIFIED:20231130T143257Z
UID:386-1703113200-1703113200@zagrebackidogadaji.hr
SUMMARY:PLATINUM & GOLD CLUB - KRANDO BAND
DESCRIPTION:Sve je spremno za još jedan ludi provod u novoj sezoni! Vidimo se od 22:00h\, a za vas smo pripremili nezaboravnu atmosferu uz hostese\, plesačice i pomno odabrane hitove našeg DJ-a uz nastup Krando Band-a! Vidimo se ekipa! \nRezervacije – 098 9520 770 / službeni profili Platinum & Gold Cluba \nRezervacije vrijede do 23:00h\, a ulaz je besplatan! \nRadno vrijeme: 22:00h – 06:00h \n18+
URL:https://zagrebackidogadaji.hr/event/platinum-gold-club-krando-band-5/
LOCATION:Platinum & Gold Club\, Trg John F. Kennedy 6b\, Zagreb\, Hrvatska\, 10 000\, Croatia (Local Name: Hrvatska)
CATEGORIES:Koncerti,Ostala događanja
ATTACH;FMTTYPE=image/jpeg:https://zagrebackidogadaji.hr/wp-content/uploads/2023/11/404373445_18398468845036211_1354219605038741586_n.jpg
END:VEVENT
BEGIN:VEVENT
DTSTART;TZID=UTC:20231220T230000
DTEND;TZID=UTC:20231220T230000
DTSTAMP:20260422T130544
CREATED:20231205T145514Z
LAST-MODIFIED:20231205T145514Z
UID:493-1703113200-1703113200@zagrebackidogadaji.hr
SUMMARY:STRICTLY TRAP - OUT BUNKER
DESCRIPTION:Join us this Wednesday in collaboration with @samokaos kaos & @six.zagreb\, OUT Bunker on Ilica 16 is bringing to Zagreb it’s own Wednesday Trap program!\nWe’re playing Strictly Trap\, only the best of Trap music from artist such as Travis Scott\, Young Thug\, Gucci Mane\, Migos\, Lil Uzi Vert\, A$AP Ferg\, Fetty Wap\, Dababy\, Playboy Carti\, Pop Smoke\, Drake\, xxxtentacion & many more. \n⌚️23-04 | Every Wednesday\n🎟 FREE ENTRY TILL MIDNIGHT\n4€ AFTER\n📍OUT Bunker\, ILICA 16 \nFor table reservations and inquiries:\n📥 DM us (Facebook/Instagram)\n📞 Call us: 0981600123\n📧 or E-mail us at go@out.city\nLimited space available!\nArrive earlier to guarantee entry!
URL:https://zagrebackidogadaji.hr/event/strictly-trap-out-bunker-3/
LOCATION:OUT Bunker\, Ilica 16\, Zagreb\, 10 000\, Croatia (Local Name: Hrvatska)
CATEGORIES:Noćni život,Sva događanja
ATTACH;FMTTYPE=image/jpeg:https://zagrebackidogadaji.hr/wp-content/uploads/2023/12/324668820_1238760340052771_8581296360758103123_n.jpg
END:VEVENT
BEGIN:VEVENT
DTSTART;TZID=UTC:20231220T230000
DTEND;TZID=UTC:20231220T230000
DTSTAMP:20260422T130544
CREATED:20231220T092133Z
LAST-MODIFIED:20231220T092133Z
UID:894-1703113200-1703113200@zagrebackidogadaji.hr
SUMMARY:KAFANICA LAGANICA
DESCRIPTION:Živa Muzika u Platinum & Gold Clubu!
URL:https://zagrebackidogadaji.hr/event/kafanica-laganica/
LOCATION:Platinum & Gold Club\, Trg John F. Kennedy 6b\, Zagreb\, Hrvatska\, 10 000\, Croatia (Local Name: Hrvatska)
CATEGORIES:Noćni život,Sva događanja
ATTACH;FMTTYPE=image/jpeg:https://zagrebackidogadaji.hr/wp-content/uploads/2023/12/IMG_4219.jpg
END:VEVENT
END:VCALENDAR