BEGIN:VCALENDAR
VERSION:2.0
PRODID:-//Zagrebački događaji - ECPv6.5.0//NONSGML v1.0//EN
CALSCALE:GREGORIAN
METHOD:PUBLISH
X-ORIGINAL-URL:https://zagrebackidogadaji.hr
X-WR-CALDESC:Events for Zagrebački događaji
REFRESH-INTERVAL;VALUE=DURATION:PT1H
X-Robots-Tag:noindex
X-PUBLISHED-TTL:PT1H
BEGIN:VTIMEZONE
TZID:UTC
BEGIN:STANDARD
TZOFFSETFROM:+0000
TZOFFSETTO:+0000
TZNAME:UTC
DTSTART:20230101T000000
END:STANDARD
END:VTIMEZONE
BEGIN:VEVENT
DTSTART;TZID=UTC:20231227T170000
DTEND;TZID=UTC:20231227T190000
DTSTAMP:20260422T130627
CREATED:20231227T083144Z
LAST-MODIFIED:20231227T083144Z
UID:985-1703696400-1703703600@zagrebackidogadaji.hr
SUMMARY:ZERO FOOD WASTE REVOLUCIJA - SLATKI ZRINJEVAC W/ MARIN MEDAK
DESCRIPTION:NE ZNATE ŠTO ČINITI S OSTACIMA HRANE NAKON BLAGDANA? \n\n\n\nSvratite u srijedu\, 27. prosinca\, od 17 sati do paviljona na Zrinjevcu i poslušajte poneki koristan savjet chefa Marina Medaka\, te naučimo zajedno kuhati DOVOLJNO umjesto previše. Stvarno je lako\, a i zanimljivo. Vidimo se na Zrinjevcu!
URL:https://zagrebackidogadaji.hr/event/zero-food-waste-revolucija-slatki-zrinjevac-w-marin-medak/
LOCATION:Zrinjevac\, Zrinjevac\, Zagreb\, Hrvatska\, Croatia (Local Name: Hrvatska)
CATEGORIES:Ostala događanja,Sva događanja
ATTACH;FMTTYPE=image/jpeg:https://zagrebackidogadaji.hr/wp-content/uploads/2023/12/WhatsApp-Image-2023-12-27-at-09.28.32.jpeg
END:VEVENT
BEGIN:VEVENT
DTSTART;TZID=UTC:20231227T220000
DTEND;TZID=UTC:20231227T220000
DTSTAMP:20260422T130627
CREATED:20231227T082639Z
LAST-MODIFIED:20231227T082639Z
UID:974-1703714400-1703714400@zagrebackidogadaji.hr
SUMMARY:URBAN & 4 - SAX - RASPRODANO
DESCRIPTION:
URL:https://zagrebackidogadaji.hr/event/urban-4-sax-rasprodano/
LOCATION:Sax Klub Hrvatskih Glazbenika\, Palmotićeva 22/2\, Zagreb\, Croatia (Local Name: Hrvatska)
CATEGORIES:Koncerti,Noćni život,Sva događanja
ATTACH;FMTTYPE=image/jpeg:https://zagrebackidogadaji.hr/wp-content/uploads/2023/12/damir-urban-sax-zagreb-27122023-foto-milica-czerny-urban.jpg
END:VEVENT
BEGIN:VEVENT
DTSTART;TZID=UTC:20231227T220000
DTEND;TZID=UTC:20231227T220000
DTSTAMP:20260422T130627
CREATED:20231227T083010Z
LAST-MODIFIED:20231227T083010Z
UID:979-1703714400-1703714400@zagrebackidogadaji.hr
SUMMARY:DIJA$PORA - CLUB H20
DESCRIPTION:
URL:https://zagrebackidogadaji.hr/event/dijapora-club-h20/
LOCATION:Club H20\, Runjaninova ul. 3\, Zagreb\, Croatia (Local Name: Hrvatska)
CATEGORIES:Noćni život,Sva događanja
ATTACH;FMTTYPE=image/jpeg:https://zagrebackidogadaji.hr/wp-content/uploads/2023/12/WhatsApp-Image-2023-12-27-at-09.28.31.jpeg
END:VEVENT
BEGIN:VEVENT
DTSTART;TZID=UTC:20231227T230000
DTEND;TZID=UTC:20231227T230000
DTSTAMP:20260422T130627
CREATED:20231130T143445Z
LAST-MODIFIED:20231227T083309Z
UID:390-1703718000-1703718000@zagrebackidogadaji.hr
SUMMARY:PLATINUM & GOLD CLUB - KAFANICA LAGANICA
DESCRIPTION:Sve je spremno za još jedan ludi provod u novoj sezoni! Vidimo se od 22:00h\, a za vas smo pripremili nezaboravnu atmosferu uz hostese\, plesačice i pomno odabrane hitove našeg DJ-a uz Kafanicu Laganicu! Vidimo se ekipa! \nRezervacije – 098 9520 770 / službeni profili Platinum & Gold Cluba \nRezervacije vrijede do 23:00h\, a ulaz je besplatan! \nRadno vrijeme: 22:00h – 06:00h \n18+
URL:https://zagrebackidogadaji.hr/event/platinum-gold-club-krando-band-7/
LOCATION:Platinum & Gold Club\, Trg John F. Kennedy 6b\, Zagreb\, Hrvatska\, 10 000\, Croatia (Local Name: Hrvatska)
CATEGORIES:Noćni život,Sva događanja
ATTACH;FMTTYPE=image/jpeg:https://zagrebackidogadaji.hr/wp-content/uploads/2023/12/WhatsApp-Image-2023-12-27-at-09.28.31-1.jpeg
END:VEVENT
BEGIN:VEVENT
DTSTART;TZID=UTC:20231227T230000
DTEND;TZID=UTC:20231227T230000
DTSTAMP:20260422T130627
CREATED:20231205T145610Z
LAST-MODIFIED:20231205T145610Z
UID:495-1703718000-1703718000@zagrebackidogadaji.hr
SUMMARY:STRICTLY TRAP - OUT BUNKER
DESCRIPTION:Join us this Wednesday in collaboration with @samokaos kaos & @six.zagreb\, OUT Bunker on Ilica 16 is bringing to Zagreb it’s own Wednesday Trap program!\nWe’re playing Strictly Trap\, only the best of Trap music from artist such as Travis Scott\, Young Thug\, Gucci Mane\, Migos\, Lil Uzi Vert\, A$AP Ferg\, Fetty Wap\, Dababy\, Playboy Carti\, Pop Smoke\, Drake\, xxxtentacion & many more. \n⌚️23-04 | Every Wednesday\n🎟 FREE ENTRY TILL MIDNIGHT\n4€ AFTER\n📍OUT Bunker\, ILICA 16 \nFor table reservations and inquiries:\n📥 DM us (Facebook/Instagram)\n📞 Call us: 0981600123\n📧 or E-mail us at go@out.city\nLimited space available!\nArrive earlier to guarantee entry!
URL:https://zagrebackidogadaji.hr/event/strictly-trap-out-bunker-4/
LOCATION:OUT Bunker\, Ilica 16\, Zagreb\, 10 000\, Croatia (Local Name: Hrvatska)
CATEGORIES:Noćni život,Sva događanja
ATTACH;FMTTYPE=image/jpeg:https://zagrebackidogadaji.hr/wp-content/uploads/2023/12/324668820_1238760340052771_8581296360758103123_n.jpg
END:VEVENT
BEGIN:VEVENT
DTSTART;TZID=UTC:20231227T230000
DTEND;TZID=UTC:20231227T230000
DTSTAMP:20260422T130627
CREATED:20231208T120157Z
LAST-MODIFIED:20231208T120157Z
UID:722-1703718000-1703718000@zagrebackidogadaji.hr
SUMMARY:ADVENTSKA SRIJEDA - THE SECRET CLUB
DESCRIPTION:Advent je stigao i u Secret Club! \nU srijedu\, 13. prosinca\, grijemo se uz najbolje trash i balkaton hitove! Neka vas ponese blagdanska čarolija na najluđem adventskom partyju u gradu! \nRezervacije stolova osigurajte porukom u DM Secret Cluba ili na broj 099 625 1088.
URL:https://zagrebackidogadaji.hr/event/adventska-srijeda-the-secret-club-2/
LOCATION:The Secret Club\, Draškovićeva ul. 41\, Zagreb\, Hrvatska\, 10 000\, Croatia (Local Name: Hrvatska)
CATEGORIES:Noćni život,Sva događanja
ATTACH;FMTTYPE=image/jpeg:https://zagrebackidogadaji.hr/wp-content/uploads/2023/12/IMG_3367-e1702036907346.jpg
END:VEVENT
END:VCALENDAR