BEGIN:VCALENDAR
VERSION:2.0
PRODID:-//Zagrebački događaji - ECPv6.5.0//NONSGML v1.0//EN
CALSCALE:GREGORIAN
METHOD:PUBLISH
X-ORIGINAL-URL:https://zagrebackidogadaji.hr
X-WR-CALDESC:Events for Zagrebački događaji
REFRESH-INTERVAL;VALUE=DURATION:PT1H
X-Robots-Tag:noindex
X-PUBLISHED-TTL:PT1H
BEGIN:VTIMEZONE
TZID:UTC
BEGIN:STANDARD
TZOFFSETFROM:+0000
TZOFFSETTO:+0000
TZNAME:UTC
DTSTART:20230101T000000
END:STANDARD
END:VTIMEZONE
BEGIN:VEVENT
DTSTART;TZID=UTC:20231229T190000
DTEND;TZID=UTC:20231229T230000
DTSTAMP:20260422T130544
CREATED:20231229T084211Z
LAST-MODIFIED:20231229T084211Z
UID:1009-1703876400-1703890800@zagrebackidogadaji.hr
SUMMARY:DJ EM BE + SAX - SLATKI ZRINJEVAC
DESCRIPTION:
URL:https://zagrebackidogadaji.hr/event/dj-em-be-sax-slatki-zrinjevac/
LOCATION:Zrinjevac\, Zrinjevac\, Zagreb\, Hrvatska\, Croatia (Local Name: Hrvatska)
CATEGORIES:Noćni život,Sva događanja
ATTACH;FMTTYPE=image/jpeg:https://zagrebackidogadaji.hr/wp-content/uploads/2023/12/WhatsApp-Image-2023-12-29-at-09.36.30-2.jpeg
END:VEVENT
BEGIN:VEVENT
DTSTART;TZID=UTC:20231229T200000
DTEND;TZID=UTC:20231229T200000
DTSTAMP:20260422T130544
CREATED:20231229T084104Z
LAST-MODIFIED:20231229T084104Z
UID:1004-1703880000-1703880000@zagrebackidogadaji.hr
SUMMARY:KAFANSKI KVIZ - RUGVICA
DESCRIPTION:Vidimo se danas\, 29.12. od 20:00h u @princ_caffe_ da zajedno pokažemo kako kafanci kviziraju!😉 \nOčekuju te bogate nagrade\, sastavljeni kvizovi dugogodišnje kvizaške organizacije\, raspjevane glasnice i nezaboravnaaaa zabava uz voditelja @leon.svetic i DJ! Zatvorimo godinu u stilu!😎 \nInformacije;\n🪗kotizacija; 15e po ekipi\n🪗max: 5 članova\n🪗početak kvizova; 20:00h\n🪗prijave; DM ili na 099 5734 098 (Filip) \nRugvica\, jesmo spremni?!😜 \n#KafanskaNota #DrugačijiOdDrugih
URL:https://zagrebackidogadaji.hr/event/kafanski-kviz-rugvica/
LOCATION:Princ Caffe Rugvica\, Okunjska ul. 6
CATEGORIES:Ostala događanja,Sva događanja
ATTACH;FMTTYPE=image/jpeg:https://zagrebackidogadaji.hr/wp-content/uploads/2023/12/WhatsApp-Image-2023-12-29-at-09.39.26.jpeg
END:VEVENT
BEGIN:VEVENT
DTSTART;TZID=UTC:20231229T203000
DTEND;TZID=UTC:20231229T203000
DTSTAMP:20260422T130544
CREATED:20231229T083737Z
LAST-MODIFIED:20231229T083737Z
UID:997-1703881800-1703881800@zagrebackidogadaji.hr
SUMMARY:HILJSON MANDELA - BAŠ NAŠ
DESCRIPTION:
URL:https://zagrebackidogadaji.hr/event/hiljson-mandela-bas-nas/
LOCATION:Trg Bana Josipa Jelačića\, Zagreb
CATEGORIES:Koncerti,Noćni život,Sva događanja
ATTACH;FMTTYPE=image/jpeg:https://zagrebackidogadaji.hr/wp-content/uploads/2023/12/WhatsApp-Image-2023-12-29-at-09.36.30.jpeg
END:VEVENT
BEGIN:VEVENT
DTSTART;TZID=UTC:20231229T210000
DTEND;TZID=UTC:20231229T210000
DTSTAMP:20260422T130544
CREATED:20231204T104617Z
LAST-MODIFIED:20231204T104617Z
UID:440-1703883600-1703883600@zagrebackidogadaji.hr
SUMMARY:MIRZA SELIMOVIĆ - PERON 16
DESCRIPTION:Najavljujemo nezaboravnu glazbenu noć s @mirza.selimovic u Zagrebu!  \n 29.12.2023.\n 21:00h\n @peron__16 \nPridružite nam se na koncertu gdje će se spojiti strastveni izričaj i nevjerojatna glazbena energija  \nulaznice: eventim.hr\nrezervacije putem: DM ili na +385 91 44 33 370\nulaz: 18+ \nNe propustite ovaj spektakularni koncert. Vidimo se !
URL:https://zagrebackidogadaji.hr/event/mirza-selimovic-peron-16/
LOCATION:Peron 16\, Magazinska ul. 16\, Zagreb\, Hrvatska\, 10 000\, Croatia (Local Name: Hrvatska)
CATEGORIES:Koncerti,Noćni život,Sva događanja
ATTACH;FMTTYPE=image/jpeg:https://zagrebackidogadaji.hr/wp-content/uploads/2023/12/406514374_17915763773836041_7657862455983614339_n.jpg
END:VEVENT
BEGIN:VEVENT
DTSTART;TZID=UTC:20231229T223000
DTEND;TZID=UTC:20231229T223000
DTSTAMP:20260422T130544
CREATED:20231205T155017Z
LAST-MODIFIED:20231205T155017Z
UID:554-1703889000-1703889000@zagrebackidogadaji.hr
SUMMARY:TRESHOTEKA - KATRAN
DESCRIPTION:
URL:https://zagrebackidogadaji.hr/event/treshoteka-katran/
LOCATION:Katran\, Ulica Ivana Zahara 9\, Zagreb\, 10 000
CATEGORIES:Noćni život,Sva događanja
ATTACH;FMTTYPE=image/jpeg:https://zagrebackidogadaji.hr/wp-content/uploads/2023/12/358724991_592219686446969_4236274210707355307_n.jpg
END:VEVENT
BEGIN:VEVENT
DTSTART;TZID=UTC:20231229T230000
DTEND;TZID=UTC:20231229T230000
DTSTAMP:20260422T130544
CREATED:20231130T124228Z
LAST-MODIFIED:20231130T124228Z
UID:292-1703890800-1703890800@zagrebackidogadaji.hr
SUMMARY:FUTURA - THE SECRET CLUB
DESCRIPTION:Dok oko nas padaju temperature\, u Secretu se i ovog petka grijemo najvatrenijom atmosferom! \nNa programu FUTURA te čeka nova doza zapaljivih mash-upova balkatona i stranih hitova za koje će se pobrinuti Secret rezidenti The Mob\, Karlo Leopold i Jasmin Muhamed Ali! \nAko i vi želite biti dio nevjerojatnog provoda\, uhvatite mjesto porukom na službene profile The Secret Cluba ili na broj 099 625 1088!
URL:https://zagrebackidogadaji.hr/event/futura-the-secret-club-4/
LOCATION:The Secret Club\, Draškovićeva ul. 41\, Zagreb\, Hrvatska\, 10 000\, Croatia (Local Name: Hrvatska)
CATEGORIES:Noćni život,Sva događanja
ATTACH;FMTTYPE=image/jpeg:https://zagrebackidogadaji.hr/wp-content/uploads/2023/11/307300289_1299018037303492_4697217041009915602_n.jpg
END:VEVENT
BEGIN:VEVENT
DTSTART;TZID=UTC:20231229T230000
DTEND;TZID=UTC:20231229T230000
DTSTAMP:20260422T130544
CREATED:20231130T132545Z
LAST-MODIFIED:20231130T132545Z
UID:333-1703890800-1703890800@zagrebackidogadaji.hr
SUMMARY:XO CLUB - W/ INITY
DESCRIPTION:XO Club je kroz cijelu clubbing sezonu oduševljava tematskim partyima\, DJ gostovanjima i uvijek vrhunskom zabavom u samom centru grada\, pa tako ni ovaj petak nije iznimka uz DJ INITY! \nU samom centru grada\, točnije na Europskom trgu\, smjestio se XO Club koji svakog vikenda priređuje posebnu i nezaboravnu atmosferu partijanja! Na tebi je samo da doživiš ovo o čemu pričamo već ovog vikenda\, stoga požuri po rezervaciju\, jer vjeruj nam\, traži se mjesto više!😉 \nKontaktiraj +385 95 382 3998 za svoju rezervaciju već sada i javljaj dojmove!🥂
URL:https://zagrebackidogadaji.hr/event/xo-club-w-inity/
LOCATION:XO Club\, Vlaška ul. 9\, Zagreb\, Hrvatska\, 10 000\, Croatia (Local Name: Hrvatska)
CATEGORIES:Noćni život,Sva događanja
ATTACH;FMTTYPE=image/jpeg:https://zagrebackidogadaji.hr/wp-content/uploads/2023/11/386604548_17933378858755741_8239592533652014490_n.jpg
END:VEVENT
BEGIN:VEVENT
DTSTART;TZID=UTC:20231229T230000
DTEND;TZID=UTC:20231229T230000
DTSTAMP:20260422T130544
CREATED:20231130T143934Z
LAST-MODIFIED:20231216T154318Z
UID:400-1703890800-1703890800@zagrebackidogadaji.hr
SUMMARY:PLATINUM & GOLD CLUB - LADIES NIGHT
DESCRIPTION:Sve je spremno za još jedan ludi provod u novoj sezoni! Vidimo se od 22:00h\, a za vas smo pripremili nezaboravnu atmosferu uz hostese\, plesačice i pomno odabrane hitove našeg DJ-a! Vidimo se ekipa! \nRezervacije – 098 9520 770 / službeni profili Platinum & Gold Cluba \nRezervacije vrijede do 23:00h\, a ulaz je besplatan! \nRadno vrijeme: 22:00h – 06:00h \n18+
URL:https://zagrebackidogadaji.hr/event/platinum-gold-club-ladies-night-4/
LOCATION:Platinum & Gold Club\, Trg John F. Kennedy 6b\, Zagreb\, Hrvatska\, 10 000\, Croatia (Local Name: Hrvatska)
CATEGORIES:Noćni život,Sva događanja
ATTACH;FMTTYPE=image/jpeg:https://zagrebackidogadaji.hr/wp-content/uploads/2023/11/402909726_18398468821036211_7563243257111403291_n.jpg
END:VEVENT
BEGIN:VEVENT
DTSTART;TZID=UTC:20231229T230000
DTEND;TZID=UTC:20231229T230000
DTSTAMP:20260422T130544
CREATED:20231205T144144Z
LAST-MODIFIED:20231205T144144Z
UID:473-1703890800-1703890800@zagrebackidogadaji.hr
SUMMARY:BALKAN ROOFTOP - OUT ROOFTOP
DESCRIPTION:Pridruži nam se ovog petka na ROOFTOPU!\n\nNovi program na ROOFTOPU! Donosimo najnovije i najbolje balkatone hitove!\n\n OUT Rooftop\, Ilica 16\n 23-04h | EVERY FRIDAY\n 4€ entry\nFree entry until midnight!\n\nZa rezervacije stolova i upite:\n📥 Pišite nam u DM (Facebook/Instagram)\n📞 Nazovite nas: 0981600123\n📧 Pošaljite e-mail na go@out.city\nVidimo se!
URL:https://zagrebackidogadaji.hr/event/balkan-rooftop-out-rooftop-4/
LOCATION:OUT Rooftop\, Ilica 16\, Zagreb\, Zagreb\, 10 000
CATEGORIES:Noćni život,Sva događanja
ATTACH;FMTTYPE=image/jpeg:https://zagrebackidogadaji.hr/wp-content/uploads/2023/12/325197610_991645522223814_7806868946430099844_n.jpg
END:VEVENT
BEGIN:VEVENT
DTSTART;TZID=UTC:20231229T230000
DTEND;TZID=UTC:20231229T230000
DTSTAMP:20260422T130544
CREATED:20231205T151057Z
LAST-MODIFIED:20231205T151057Z
UID:515-1703890800-1703890800@zagrebackidogadaji.hr
SUMMARY:PARTY ROCK - OUT BUNKER
DESCRIPTION:🍾THIS FRIDAY Join us in our blast to the past back to the 2010’s clubbing era! @six.zagreb & @outbunker is bringing you Party Rock Bunker\, with music from Artists such as:\nPitbull\, Kesha\, LMFAO\, Shakira\, Akon\, 50 cent\, Black eyed peas\, Britney Spears\, kid cudi\, Chris brown\, Jennifer Lopez\n& many more!\nThe weekend is for getting wild\, and this night of nostalgia is not one to miss! Reserve your tables while availability lasts! \n⌚️ EVERY FRIDAY | 23-05h\n🎟5€ Entry\n📍 llica 16 | OUT Bunker
URL:https://zagrebackidogadaji.hr/event/party-rock-out-bunker-4/
LOCATION:OUT Bunker\, Ilica 16\, Zagreb\, 10 000\, Croatia (Local Name: Hrvatska)
CATEGORIES:Noćni život,Sva događanja
ATTACH;FMTTYPE=image/jpeg:https://zagrebackidogadaji.hr/wp-content/uploads/2023/12/325136415_496431269246265_2253286784590635334_n.jpg
END:VEVENT
BEGIN:VEVENT
DTSTART;TZID=UTC:20231229T230000
DTEND;TZID=UTC:20231229T230000
DTSTAMP:20260422T130544
CREATED:20231229T083858Z
LAST-MODIFIED:20231229T083858Z
UID:1000-1703890800-1703890800@zagrebackidogadaji.hr
SUMMARY:LOFT KUĆA BALONA - TVORNICA KULTURE
DESCRIPTION:Više o eventu.
URL:https://zagrebackidogadaji.hr/event/loft-kuca-balona-tvornica-kulture/
LOCATION:Tvornica Kulture\, Ul. Pavla Šubića 2\, Zagreb\, 10 000\, Croatia (Local Name: Hrvatska)
CATEGORIES:Noćni život,Sva događanja
ATTACH;FMTTYPE=image/jpeg:https://zagrebackidogadaji.hr/wp-content/uploads/2023/12/WhatsApp-Image-2023-12-29-at-09.36.30-1.jpeg
END:VEVENT
END:VCALENDAR