BEGIN:VCALENDAR
VERSION:2.0
PRODID:-//Zagrebački događaji - ECPv6.5.0//NONSGML v1.0//EN
CALSCALE:GREGORIAN
METHOD:PUBLISH
X-ORIGINAL-URL:https://zagrebackidogadaji.hr
X-WR-CALDESC:Events for Zagrebački događaji
REFRESH-INTERVAL;VALUE=DURATION:PT1H
X-Robots-Tag:noindex
X-PUBLISHED-TTL:PT1H
BEGIN:VTIMEZONE
TZID:UTC
BEGIN:STANDARD
TZOFFSETFROM:+0000
TZOFFSETTO:+0000
TZNAME:UTC
DTSTART:20240101T000000
END:STANDARD
END:VTIMEZONE
BEGIN:VEVENT
DTSTART;TZID=UTC:20240125T080000
DTEND;TZID=UTC:20240128T170000
DTSTAMP:20260422T114324
CREATED:20230828T193807Z
LAST-MODIFIED:20230828T193807Z
UID:113-1706169600-1706461200@zagrebackidogadaji.hr
SUMMARY:Svjetska cirkuska atrakcija u Zagrebu
DESCRIPTION:Cirque du Soleil s oduševljenjem najavljuje svoj povratak u Zagreb\, a ovaj put donosi nedavno obnovljeni energični i akrobatski spektakl OVO. Riječ je o jedinstvenom i uzbudljivom putovanju u šareni i zujajući svijet kukaca koji odiše nevjerojatnom energijom i pokretima. Kroz zapanjujuće akrobacije\, koje ističu jedinstvene osobnosti i sposobnosti odabranih vrsta kukaca\, OVO istražuje ljepotu bioraznolikosti u svim njezinim kontrastima i živosti. \nPredstava je doživjela obnovu 2022. godine\, a tri nova čina te novi likovi uključeni su u radosnu OVO koloniju koja oduševljava publiku svih uzrasta diljem svijeta. OVO stiže u Arenu Zagreb\, od 25. do 28. siječnja 2024. godine\, u organizaciji tvrtki NuCoast Concerts i Live Nation\, a na rasporedu je čak pet izvedbi.
URL:https://zagrebackidogadaji.hr/event/svjetska-cirkuska-atrakcija-u-zagrebu/
LOCATION:Arena Zagreb\, Ulica Vice Vukova 8\, Zagreb\, Hrvatska\, Croatia (Local Name: Hrvatska)
CATEGORIES:Ostala događanja,Sva događanja
ATTACH;FMTTYPE=image/jpeg:https://zagrebackidogadaji.hr/wp-content/uploads/2023/08/cirkus_zagreb.jpg
END:VEVENT
END:VCALENDAR