BEGIN:VCALENDAR
VERSION:2.0
PRODID:-//Zagrebački događaji - ECPv6.5.0//NONSGML v1.0//EN
CALSCALE:GREGORIAN
METHOD:PUBLISH
X-ORIGINAL-URL:https://zagrebackidogadaji.hr
X-WR-CALDESC:Events for Zagrebački događaji
REFRESH-INTERVAL;VALUE=DURATION:PT1H
X-Robots-Tag:noindex
X-PUBLISHED-TTL:PT1H
BEGIN:VTIMEZONE
TZID:UTC
BEGIN:STANDARD
TZOFFSETFROM:+0000
TZOFFSETTO:+0000
TZNAME:UTC
DTSTART:20240101T000000
END:STANDARD
END:VTIMEZONE
BEGIN:VEVENT
DTSTART;TZID=UTC:20240301T200000
DTEND;TZID=UTC:20240301T213000
DTSTAMP:20260422T083808
CREATED:20240220T222146Z
LAST-MODIFIED:20240220T222146Z
UID:1105-1709323200-1709328600@zagrebackidogadaji.hr
SUMMARY:Baka ima dečka - Scena Vidra
DESCRIPTION:
URL:https://zagrebackidogadaji.hr/event/baka-ima-decka-scena-vidra/
LOCATION:Kazalište Vidra\, Kazalište Vidra\, Zagreb\, Hrvatska\, 10000\, Croatia (Local Name: Hrvatska)
CATEGORIES:Ostala događanja,Sva događanja
ATTACH;FMTTYPE=image/jpeg:https://zagrebackidogadaji.hr/wp-content/uploads/2024/02/Baka-ima-decka.jpg
END:VEVENT
BEGIN:VEVENT
DTSTART;TZID=UTC:20240301T230000
DTEND;TZID=UTC:20240301T230000
DTSTAMP:20260422T083808
CREATED:20240221T100329Z
LAST-MODIFIED:20240221T100329Z
UID:1138-1709334000-1709334000@zagrebackidogadaji.hr
SUMMARY:Platinum & Gold Club - Ladies Night
DESCRIPTION:Sve je spremno za još jedan ludi provod u novoj sezoni! Vidimo se od 22:00h\, a za vas smo pripremili nezaboravnu atmosferu uz hostese\, plesačice i pomno odabrane hitove našeg DJ-a! Vidimo se ekipa! \nRezervacije – 098 9520 770 / službeni profili Platinum & Gold Cluba \nRezervacije vrijede do 23:00h\, a ulaz je besplatan! \nRadno vrijeme: 22:00h – 06:00h \n18+
URL:https://zagrebackidogadaji.hr/event/platinum-gold-club-ladies-night-5/
LOCATION:Platinum & Gold Club\, Trg John F. Kennedy 6b\, Zagreb\, Hrvatska\, 10 000\, Croatia (Local Name: Hrvatska)
CATEGORIES:Noćni život,Sva događanja
ATTACH;FMTTYPE=image/png:https://zagrebackidogadaji.hr/wp-content/uploads/2024/02/Girls-Night.png
END:VEVENT
END:VCALENDAR