BEGIN:VCALENDAR
VERSION:2.0
PRODID:-//Zagrebački događaji - ECPv6.5.0//NONSGML v1.0//EN
CALSCALE:GREGORIAN
METHOD:PUBLISH
X-WR-CALNAME:Zagrebački događaji
X-ORIGINAL-URL:https://zagrebackidogadaji.hr
X-WR-CALDESC:Events for Zagrebački događaji
REFRESH-INTERVAL;VALUE=DURATION:PT1H
X-Robots-Tag:noindex
X-PUBLISHED-TTL:PT1H
BEGIN:VTIMEZONE
TZID:UTC
BEGIN:STANDARD
TZOFFSETFROM:+0000
TZOFFSETTO:+0000
TZNAME:UTC
DTSTART:20240101T000000
END:STANDARD
END:VTIMEZONE
BEGIN:VEVENT
DTSTART;TZID=UTC:20240305T200000
DTEND;TZID=UTC:20240305T200000
DTSTAMP:20260422T083635
CREATED:20240228T135655Z
LAST-MODIFIED:20240228T135655Z
UID:1184-1709668800-1709668800@zagrebackidogadaji.hr
SUMMARY:Yann Tiersen - Tvornica kulture
DESCRIPTION:
URL:https://zagrebackidogadaji.hr/event/yann-tiersen-tvornica-kulture/
LOCATION:Tvornica Kulture\, Ul. Pavla Šubića 2\, Zagreb\, 10 000\, Croatia (Local Name: Hrvatska)
CATEGORIES:Koncerti,Sva događanja
ATTACH;FMTTYPE=image/png:https://zagrebackidogadaji.hr/wp-content/uploads/2024/02/Yann-Tiersen_Foto_Richard-Dumas.png
END:VEVENT
END:VCALENDAR