BEGIN:VCALENDAR
VERSION:2.0
PRODID:-//Zagrebački događaji - ECPv6.5.0//NONSGML v1.0//EN
CALSCALE:GREGORIAN
METHOD:PUBLISH
X-ORIGINAL-URL:https://zagrebackidogadaji.hr
X-WR-CALDESC:Events for Zagrebački događaji
REFRESH-INTERVAL;VALUE=DURATION:PT1H
X-Robots-Tag:noindex
X-PUBLISHED-TTL:PT1H
BEGIN:VTIMEZONE
TZID:UTC
BEGIN:STANDARD
TZOFFSETFROM:+0000
TZOFFSETTO:+0000
TZNAME:UTC
DTSTART:20240101T000000
END:STANDARD
END:VTIMEZONE
BEGIN:VEVENT
DTSTART;TZID=UTC:20240315T200000
DTEND;TZID=UTC:20240315T200000
DTSTAMP:20260422T083838
CREATED:20240305T100827Z
LAST-MODIFIED:20240305T100827Z
UID:1299-1710532800-1710532800@zagrebackidogadaji.hr
SUMMARY:Magic Mike Show - Peron 16
DESCRIPTION:
URL:https://zagrebackidogadaji.hr/event/magic-mike-show-peron-16/
LOCATION:Peron 16\, Magazinska ul. 16\, Zagreb\, Hrvatska\, 10 000\, Croatia (Local Name: Hrvatska)
CATEGORIES:Noćni život,Sva događanja
ATTACH;FMTTYPE=image/jpeg:https://zagrebackidogadaji.hr/wp-content/uploads/2024/03/Magic-Mike.jpg
END:VEVENT
BEGIN:VEVENT
DTSTART;TZID=UTC:20240315T223000
DTEND;TZID=UTC:20240315T223000
DTSTAMP:20260422T083838
CREATED:20240305T100125Z
LAST-MODIFIED:20240305T100125Z
UID:1285-1710541800-1710541800@zagrebackidogadaji.hr
SUMMARY:YEM Takes Over Katran - Katran
DESCRIPTION:
URL:https://zagrebackidogadaji.hr/event/yem-takes-over-katran-katran/
LOCATION:Katran\, Ulica Ivana Zahara 9\, Zagreb\, 10 000
CATEGORIES:Noćni život,Sva događanja
ATTACH;FMTTYPE=image/png:https://zagrebackidogadaji.hr/wp-content/uploads/2024/03/Katran-2.png
END:VEVENT
BEGIN:VEVENT
DTSTART;TZID=UTC:20240315T230000
DTEND;TZID=UTC:20240315T230000
DTSTAMP:20260422T083838
CREATED:20240221T100453Z
LAST-MODIFIED:20240221T100453Z
UID:1143-1710543600-1710543600@zagrebackidogadaji.hr
SUMMARY:Platinum & Gold Club - Ladies Night
DESCRIPTION:Sve je spremno za još jedan ludi provod u novoj sezoni! Vidimo se od 22:00h\, a za vas smo pripremili nezaboravnu atmosferu uz hostese\, plesačice i pomno odabrane hitove našeg DJ-a! Vidimo se ekipa! \nRezervacije – 098 9520 770 / službeni profili Platinum & Gold Cluba \nRezervacije vrijede do 23:00h\, a ulaz je besplatan! \nRadno vrijeme: 22:00h – 06:00h \n18+
URL:https://zagrebackidogadaji.hr/event/platinum-gold-club-ladies-night-7/
LOCATION:Platinum & Gold Club\, Trg John F. Kennedy 6b\, Zagreb\, Hrvatska\, 10 000\, Croatia (Local Name: Hrvatska)
CATEGORIES:Noćni život,Sva događanja
ATTACH;FMTTYPE=image/png:https://zagrebackidogadaji.hr/wp-content/uploads/2024/02/Girls-Night.png
END:VEVENT
BEGIN:VEVENT
DTSTART;TZID=UTC:20240315T230000
DTEND;TZID=UTC:20240315T230000
DTSTAMP:20260422T083838
CREATED:20240304T212800Z
LAST-MODIFIED:20240304T212800Z
UID:1246-1710543600-1710543600@zagrebackidogadaji.hr
SUMMARY:Party rock - OUT Bunker
DESCRIPTION:🍾THIS FRIDAY Join us in our blast to the past back to the 2010’s clubbing era! @six.zagreb & @outbunker is bringing you Party Rock Bunker\, with music from Artists such as:\nPitbull\, Kesha\, LMFAO\, Shakira\, Akon\, 50 cent\, Black eyed peas\, Britney Spears\, kid cudi\, Chris brown\, Jennifer Lopez\n& many more!\nThe weekend is for getting wild\, and this night of nostalgia is not one to miss! Reserve your tables while availability lasts! \n⌚️ EVERY FRIDAY | 23-05h\n🎟5€ Entry\n📍 llica 16 | OUT Bunker
URL:https://zagrebackidogadaji.hr/event/party-rock-out-bunker-6/
LOCATION:OUT Bunker\, Ilica 16\, Zagreb\, 10 000\, Croatia (Local Name: Hrvatska)
CATEGORIES:Noćni život,Sva događanja
ATTACH;FMTTYPE=image/jpeg:https://zagrebackidogadaji.hr/wp-content/uploads/2024/03/Party-Rock.jpg
END:VEVENT
BEGIN:VEVENT
DTSTART;TZID=UTC:20240315T230000
DTEND;TZID=UTC:20240315T230000
DTSTAMP:20260422T083838
CREATED:20240304T214516Z
LAST-MODIFIED:20240304T214516Z
UID:1273-1710543600-1710543600@zagrebackidogadaji.hr
SUMMARY:Balkan Rooftop - OUT Rooftop
DESCRIPTION:Pridruži nam se ovog petka na ROOFTOPU! \nNovi program na ROOFTOPU! Donosimo najnovije i najbolje balkatone hitove! \nOUT Rooftop\, Ilica 16\n23-04h | EVERY FRIDAY\n4€ entry\nFree entry until midnight! \nZa rezervacije stolova i upite:\n📥 Pišite nam u DM (Facebook/Instagram)\n📞 Nazovite nas: 0981600123\n📧 Pošaljite e-mail na go@out.city\nVidimo se!
URL:https://zagrebackidogadaji.hr/event/balkan-rooftop-out-rooftop-6/
LOCATION:OUT Rooftop\, Ilica 16\, Zagreb\, Zagreb\, 10 000
CATEGORIES:Noćni život,Sva događanja
ATTACH;FMTTYPE=image/jpeg:https://zagrebackidogadaji.hr/wp-content/uploads/2024/03/Balkan.jpg
END:VEVENT
END:VCALENDAR