BEGIN:VCALENDAR
VERSION:2.0
PRODID:-//Zagrebački događaji - ECPv6.5.0//NONSGML v1.0//EN
CALSCALE:GREGORIAN
METHOD:PUBLISH
X-ORIGINAL-URL:https://zagrebackidogadaji.hr
X-WR-CALDESC:Events for Zagrebački događaji
REFRESH-INTERVAL;VALUE=DURATION:PT1H
X-Robots-Tag:noindex
X-PUBLISHED-TTL:PT1H
BEGIN:VTIMEZONE
TZID:UTC
BEGIN:STANDARD
TZOFFSETFROM:+0000
TZOFFSETTO:+0000
TZNAME:UTC
DTSTART:20240101T000000
END:STANDARD
END:VTIMEZONE
BEGIN:VEVENT
DTSTART;TZID=UTC:20240316T200000
DTEND;TZID=UTC:20240316T200000
DTSTAMP:20260422T083840
CREATED:20240305T101415Z
LAST-MODIFIED:20240305T101415Z
UID:1311-1710619200-1710619200@zagrebackidogadaji.hr
SUMMARY:Ne zaboravi stihove - Peron 16
DESCRIPTION:
URL:https://zagrebackidogadaji.hr/event/ne-zaboravi-stihove-peron-16/
LOCATION:Peron 16\, Magazinska ul. 16\, Zagreb\, Hrvatska\, 10 000\, Croatia (Local Name: Hrvatska)
CATEGORIES:Ostala događanja,Sva događanja
ATTACH;FMTTYPE=image/jpeg:https://zagrebackidogadaji.hr/wp-content/uploads/2024/03/Ne-zaboravi-stihove.jpg
END:VEVENT
BEGIN:VEVENT
DTSTART;TZID=UTC:20240316T213000
DTEND;TZID=UTC:20240316T213000
DTSTAMP:20260422T083840
CREATED:20240304T210341Z
LAST-MODIFIED:20240304T210341Z
UID:1210-1710624600-1710624600@zagrebackidogadaji.hr
SUMMARY:Stela Rade i band - San Martin
DESCRIPTION:
URL:https://zagrebackidogadaji.hr/event/stela-rade-i-band-san-martin/
LOCATION:San Martin\, Kolodvorska 2\, Dugo Selo\, Hrvatska\, 10370\, Croatia (Local Name: Hrvatska)
CATEGORIES:Noćni život,Sva događanja
ATTACH;FMTTYPE=image/png:https://zagrebackidogadaji.hr/wp-content/uploads/2024/03/Stela-Rade.png
END:VEVENT
BEGIN:VEVENT
DTSTART;TZID=UTC:20240316T220000
DTEND;TZID=UTC:20240316T220000
DTSTAMP:20260422T083840
CREATED:20240305T101009Z
LAST-MODIFIED:20240305T101009Z
UID:1302-1710626400-1710626400@zagrebackidogadaji.hr
SUMMARY:Amar Gile (Kafana k'o nekad) - Peron 16
DESCRIPTION:
URL:https://zagrebackidogadaji.hr/event/amar-gile-kafana-ko-nekad-peron-16/
LOCATION:Peron 16\, Magazinska ul. 16\, Zagreb\, Hrvatska\, 10 000\, Croatia (Local Name: Hrvatska)
CATEGORIES:Koncerti,Noćni život,Sva događanja
ATTACH;FMTTYPE=image/jpeg:https://zagrebackidogadaji.hr/wp-content/uploads/2024/03/Amar-Gile.jpg
END:VEVENT
BEGIN:VEVENT
DTSTART;TZID=UTC:20240316T223000
DTEND;TZID=UTC:20240316T223000
DTSTAMP:20260422T083840
CREATED:20240305T100238Z
LAST-MODIFIED:20240305T100238Z
UID:1288-1710628200-1710628200@zagrebackidogadaji.hr
SUMMARY:St Patrick’s day  / Atlantida - Katran
DESCRIPTION:3 dance floors / 6 Djs
URL:https://zagrebackidogadaji.hr/event/st-patricks-day-atlantida-katran/
LOCATION:Katran\, Ulica Ivana Zahara 9\, Zagreb\, 10 000
CATEGORIES:Noćni život,Sva događanja
ATTACH;FMTTYPE=image/png:https://zagrebackidogadaji.hr/wp-content/uploads/2024/03/Katran-3.png
END:VEVENT
BEGIN:VEVENT
DTSTART;TZID=UTC:20240316T230000
DTEND;TZID=UTC:20240316T230000
DTSTAMP:20260422T083840
CREATED:20240220T223656Z
LAST-MODIFIED:20240220T223656Z
UID:1117-1710630000-1710630000@zagrebackidogadaji.hr
SUMMARY:Žabac Zagreb W/ Gea Band & DJ Alen
DESCRIPTION:Za ovaj petak znaš što ti je činiti.\nJer Gea Band & DJ Alen sviraju i ideš na najbolji provod u Žabac! \nNazovite svoje prijatelje\, rezervirajte svoje mjesto i pripremite se za uzbudljiv vikend. Ovo će biti spektakl! 🎉 \nRezervacija stolova na službenim profilima Žabac Zagreb!
URL:https://zagrebackidogadaji.hr/event/zabac-zagreb-w-gea-band-dj-alen/
LOCATION:Žabac Zagreb\, Jarunska ul. 1\, Zagreb\, Hrvatska\, 10000\, Croatia (Local Name: Hrvatska)
CATEGORIES:Noćni život,Sva događanja
ATTACH;FMTTYPE=image/jpeg:https://zagrebackidogadaji.hr/wp-content/uploads/2023/11/399885784_18202546804285133_4321096747713947880_n.jpg
END:VEVENT
BEGIN:VEVENT
DTSTART;TZID=UTC:20240316T230000
DTEND;TZID=UTC:20240316T230000
DTSTAMP:20260422T083840
CREATED:20240221T101255Z
LAST-MODIFIED:20240221T101543Z
UID:1155-1710630000-1710630000@zagrebackidogadaji.hr
SUMMARY:Platinum & Gold Club - Golden Era
DESCRIPTION:Sve je spremno za još jedan ludi provod u novoj sezoni! Vidimo se od 22:00h\, a za vas smo pripremili nezaboravnu atmosferu uz hostese\, plesačice i pomno odabrane hitove našeg DJ-a! Vidimo se ekipa! \nRezervacije – 098 9520 770 / službeni profili Platinum & Gold Cluba \nRezervacije vrijede do 23:00h\, a ulaz je besplatan! \nRadno vrijeme: 22:00h – 06:00h \n18+
URL:https://zagrebackidogadaji.hr/event/platinum-gold-club-golden-era-7/
LOCATION:Platinum & Gold Club\, Trg John F. Kennedy 6b\, Zagreb\, Hrvatska\, 10 000\, Croatia (Local Name: Hrvatska)
CATEGORIES:Noćni život,Sva događanja
ATTACH;FMTTYPE=image/png:https://zagrebackidogadaji.hr/wp-content/uploads/2024/02/Golden-era.png
END:VEVENT
BEGIN:VEVENT
DTSTART;TZID=UTC:20240316T230000
DTEND;TZID=UTC:20240316T230000
DTSTAMP:20260422T083840
CREATED:20240304T213418Z
LAST-MODIFIED:20240304T213638Z
UID:1255-1710630000-1710630000@zagrebackidogadaji.hr
SUMMARY:RNB Saturdays - OUT Bunker
DESCRIPTION:📀 This SATURDAY\, Join us for the best RNB program in the city! @six.zagreb & @outbunker is bringing you the ultimate hip hop & rnb parties\, with music from Artists such as:\nTyga\, Pop Smoke\, Beyonce\, Akon\, 50 cent\, Black eyed peas\, B Outkast\, Nelly\, Kanye West\, Rihanna\, Beyoncé\nSoulja Boy\, Eminem\n& many more!\nThe weekend is for getting wild\, and this night of nostalgia is not one to miss! Reserve your tables while availability lasts! \n⌚️ Every Saturday | 23-05h\n🎟 5€ Entry\n📍 llica 16 | OUT Bunker
URL:https://zagrebackidogadaji.hr/event/rnb-saturdays-out-bunker-6/
LOCATION:OUT Bunker\, Ilica 16\, Zagreb\, 10 000\, Croatia (Local Name: Hrvatska)
CATEGORIES:Noćni život,Sva događanja
ATTACH;FMTTYPE=image/jpeg:https://zagrebackidogadaji.hr/wp-content/uploads/2024/03/RNB.jpg
END:VEVENT
BEGIN:VEVENT
DTSTART;TZID=UTC:20240316T230000
DTEND;TZID=UTC:20240316T230000
DTSTAMP:20260422T083840
CREATED:20240304T214030Z
LAST-MODIFIED:20240304T214030Z
UID:1264-1710630000-1710630000@zagrebackidogadaji.hr
SUMMARY:Trash Party - OUT Rooftop
DESCRIPTION:Pozivamo vas na TRASH party života! \n@outrooftop trash program osigurat će vam nezaboravnu večer uz kvalitetan izbor koktela tik ispod Gornjeg grada!\nZaplešite uz najbolje domaće hitove na najnovijem noćnom klubu u Zagrebu. \n🕙 SVAKA SUBOTA | 23-04h\n📍OUT Rooftop | Ilica 16 (4 kat.)\n🎟5€ upad\nFree entry until midnight \nZa rezervacije stolova i upite:\n📥 Pišite nam u DM (Facebook/Instagram)\n📞 Nazovite nas: 0981600123\n📧 Pošaljite e-mail na go@out.city\nVidimo se!
URL:https://zagrebackidogadaji.hr/event/trash-party-out-rooftop-6/
LOCATION:OUT Rooftop\, Ilica 16\, Zagreb\, Zagreb\, 10 000
CATEGORIES:Noćni život,Sva događanja
ATTACH;FMTTYPE=image/jpeg:https://zagrebackidogadaji.hr/wp-content/uploads/2024/03/Trash.jpg
END:VEVENT
END:VCALENDAR