BEGIN:VCALENDAR
VERSION:2.0
PRODID:-//Zagrebački događaji - ECPv6.5.0//NONSGML v1.0//EN
CALSCALE:GREGORIAN
METHOD:PUBLISH
X-ORIGINAL-URL:https://zagrebackidogadaji.hr
X-WR-CALDESC:Events for Zagrebački događaji
REFRESH-INTERVAL;VALUE=DURATION:PT1H
X-Robots-Tag:noindex
X-PUBLISHED-TTL:PT1H
BEGIN:VTIMEZONE
TZID:UTC
BEGIN:STANDARD
TZOFFSETFROM:+0000
TZOFFSETTO:+0000
TZNAME:UTC
DTSTART:20240101T000000
END:STANDARD
END:VTIMEZONE
BEGIN:VEVENT
DTSTART;TZID=UTC:20240319T200000
DTEND;TZID=UTC:20240319T213000
DTSTAMP:20260422T083840
CREATED:20240220T210012Z
LAST-MODIFIED:20240220T210721Z
UID:1052-1710878400-1710883800@zagrebackidogadaji.hr
SUMMARY:Stara škola kreka - Scena Vidra
DESCRIPTION:Ova monodrama ispričana je preko 280 puta u 30+ gradova. Ovo je priča o svakome od nas\, a ispričana iz ugla jednog trinaestogodišnjeg dječaka\, koji dolazi iz stabilne obitelji i koji litru mlijeka dnevno i san da postane najbolji košarkaš svijeta zamijeni prvim jointom\, a kasnije svim ostalim što slijedi. Ovo je priča o jednom pjevaču\, koji je bio ovisan 18 godina o kokainu i koji se ohrabrio nakon brojnih pokušaja i padova\, izrugivanja\, nepovjerenja i razočarenja ponovno ustati i napokon ustrajati. \nOvo je priča o Marinu Ivanoviću – Stoletu\, hrvatskom reperu\, voditelju i showmanu od kojeg su svi odustali. Ali ne i njegova obitelj. Ne i Bog. A on je\, u dubini svojeg bića znao da postoji bolje od ovoga\, da je sloboda upravo u redu i postavljanju granica\, da je život koji tek upoznaje beskonačan u svojoj ljepoti. I upravo to želi prenijeti publici\, svjedočanstvom života u paklu koji je prošao\, i svjetlom na kraju tunela. \nOvo je predstava koju treba pogledati svaki teenager kako mu nikada ne bi palo na pamet ići tim putem. Ovo je predstava koju treba pogledati svaki roditelj\, kako bi se znao nositi sa problemom i prepoznati ga u samom početku. Ovo je predstava za pedagoge\, profesore\, poslovne ljude\, liječnike\, psihologe i psihijatre\, bake i djedove. Ovo je obiteljska predstava\, makar prikazuje i najcrnije trenutke jednog narkomana od kojeg će vam se zavrtiti u glavi i smučiti. Ali\, koju treba svatko pokazati kao svjedočanstvo da uvijek postoji izlaz. \n“Moja priča nije gluma jer ja nisam glumac i ne želim im parirati\, ali itekako mogu vjerodostojno prenijeti poruku\, koja je iskrena i dolazi iz dubine mojega srca.”
URL:https://zagrebackidogadaji.hr/event/stara-skola-kreka/
LOCATION:Kazalište Vidra\, Kazalište Vidra\, Zagreb\, Hrvatska\, 10000\, Croatia (Local Name: Hrvatska)
CATEGORIES:Ostala događanja,Sva događanja
ATTACH;FMTTYPE=image/jpeg:https://zagrebackidogadaji.hr/wp-content/uploads/2023/12/MarinIvanovic3.jpg
END:VEVENT
END:VCALENDAR