BEGIN:VCALENDAR
VERSION:2.0
PRODID:-//Zagrebački događaji - ECPv6.5.0//NONSGML v1.0//EN
CALSCALE:GREGORIAN
METHOD:PUBLISH
X-WR-CALNAME:Zagrebački događaji
X-ORIGINAL-URL:https://zagrebackidogadaji.hr
X-WR-CALDESC:Events for Zagrebački događaji
REFRESH-INTERVAL;VALUE=DURATION:PT1H
X-Robots-Tag:noindex
X-PUBLISHED-TTL:PT1H
BEGIN:VTIMEZONE
TZID:UTC
BEGIN:STANDARD
TZOFFSETFROM:+0000
TZOFFSETTO:+0000
TZNAME:UTC
DTSTART:20240101T000000
END:STANDARD
END:VTIMEZONE
BEGIN:VEVENT
DTSTART;TZID=UTC:20240320T200000
DTEND;TZID=UTC:20240324T233000
DTSTAMP:20260422T083635
CREATED:20240313T065523Z
LAST-MODIFIED:20240313T065523Z
UID:1359-1710964800-1711323000@zagrebackidogadaji.hr
SUMMARY:Festival svjetla - Zagreb
DESCRIPTION:Dolazak proljeća i pojam svjetlosti oduvijek vežemo jedno uz drugo. S veseljem ponovno izlazimo na ulice našeg grada i upijamo njegovu novu energiju obasjanu svjetlosnom umjetnošću koja iznova pokazuje da je proljeće – renesansa u nama i oko nas. Spoj umjetnosti\, dizajna\, spektakla\, zabave i arhitekture i ove će godine oživjeti lokacije Donjeg grada. \nFestival svjetla Zagreb nisu samo čarobne svjetlosne instalacije\, impresivno mapiranje\, zaigrane animacije i raznobojni objekti\, već dobre emocije\, pozitivna energija i doček proljeća kojeg svi željno iščekujemo. Kroz pet dana festivala prepustili smo domaćim i inozemnim umjetnicima ulice\, parkove\, trgove\, šetališta i građevine kao slikarsko platno i razigranu scenografiju za brojne oblike inovativne umjetnosti. \nS početkom Festivala svjetla Zagreb pozivamo sve da dođu u naš grad i zajedno s nama dočekaju dolazak dužih i toplijih dana na spektakularan način. Ovogodišnji program spaja ono najbolje od likovne i izvedbene umjetnosti te moderne tehnologije. Prepustite se emocijama koje svjetlost budi u nama i pozdravite još jednom novi početak i novu nadu – proljeće!
URL:https://zagrebackidogadaji.hr/event/festival-svjetla-zagreb/
LOCATION:Zagreb\, Zagreb\, Zagreb\, Hrvatska\, 10000\, Croatia (Local Name: Hrvatska)
CATEGORIES:Ostala događanja,Sva događanja
ATTACH;FMTTYPE=image/png:https://zagrebackidogadaji.hr/wp-content/uploads/2024/03/Festival-svjetla.png
END:VEVENT
END:VCALENDAR