BEGIN:VCALENDAR
VERSION:2.0
PRODID:-//Zagrebački događaji - ECPv6.5.0//NONSGML v1.0//EN
CALSCALE:GREGORIAN
METHOD:PUBLISH
X-WR-CALNAME:Zagrebački događaji
X-ORIGINAL-URL:https://zagrebackidogadaji.hr
X-WR-CALDESC:Events for Zagrebački događaji
REFRESH-INTERVAL;VALUE=DURATION:PT1H
X-Robots-Tag:noindex
X-PUBLISHED-TTL:PT1H
BEGIN:VTIMEZONE
TZID:UTC
BEGIN:STANDARD
TZOFFSETFROM:+0000
TZOFFSETTO:+0000
TZNAME:UTC
DTSTART:20240101T000000
END:STANDARD
END:VTIMEZONE
BEGIN:VEVENT
DTSTART;TZID=UTC:20240325T200000
DTEND;TZID=UTC:20240325T200000
DTSTAMP:20260422T083634
CREATED:20240322T104225Z
LAST-MODIFIED:20240322T104225Z
UID:1455-1711396800-1711396800@zagrebackidogadaji.hr
SUMMARY:Večer poezije uz Tarika Filipovića i Marka Miloševića - Peron 16
DESCRIPTION:
URL:https://zagrebackidogadaji.hr/event/vecer-poezije-uz-tarika-filipovica-i-marka-milosevica-peron-16/
LOCATION:Peron 16\, Magazinska ul. 16\, Zagreb\, Hrvatska\, 10 000\, Croatia (Local Name: Hrvatska)
CATEGORIES:Ostala događanja,Sva događanja
ATTACH;FMTTYPE=image/png:https://zagrebackidogadaji.hr/wp-content/uploads/2024/03/Tarik-Filipovic.png
END:VEVENT
END:VCALENDAR