BEGIN:VCALENDAR
VERSION:2.0
PRODID:-//Zagrebački događaji - ECPv6.5.0//NONSGML v1.0//EN
CALSCALE:GREGORIAN
METHOD:PUBLISH
X-ORIGINAL-URL:https://zagrebackidogadaji.hr
X-WR-CALDESC:Events for Zagrebački događaji
REFRESH-INTERVAL;VALUE=DURATION:PT1H
X-Robots-Tag:noindex
X-PUBLISHED-TTL:PT1H
BEGIN:VTIMEZONE
TZID:UTC
BEGIN:STANDARD
TZOFFSETFROM:+0000
TZOFFSETTO:+0000
TZNAME:UTC
DTSTART:20240101T000000
END:STANDARD
END:VTIMEZONE
BEGIN:VEVENT
DTSTART;TZID=UTC:20240407T100000
DTEND;TZID=UTC:20240407T100000
DTSTAMP:20260422T071850
CREATED:20240326T084933Z
LAST-MODIFIED:20240326T084933Z
UID:1486-1712484000-1712484000@zagrebackidogadaji.hr
SUMMARY:Tvornica Platz - Tvornica kulture
DESCRIPTION:Tvornica kulture ovog proljeća predstavlja novi program nedjeljom – Tvornica Platz! Šubićeva će od ovog travnja postati jedinstveno mjesto druženja\, ispijanja kave i potrage za unikatnim predmetima uz playlistu najboljih hitova Radio Tvornice. \nPo uzoru na nekadašnji Polet Platz\, Tvornica kulture pokreće vlastiti projekt kako bi obogatila zagrebačku ponudu sadržaja nedjeljom. Proljetni ritual odlaska na buvljake\, sajmove\, brunch i ispijanja ukusne kave te druženja uz glazbu dobiva novu kulisu. Tvornica Platz nudi prostor za prodaju\, trampu i cjenkanje uz najbolje glazbene hitove. Od jedinstvenih vinila do vintage komada odjeće i ostalih unikatnih predmeta\, sve će se moći pronaći na buvljaku u omiljenom koncertnom prostoru\, a Šubićeva će postati novi nedjeljni the place to be svih Zagrepčana i posjetitelja grada. \nOvog proljeća Zagreb će oživjeti i nedjeljom. Radno vrijeme buvljaka u organizaciji Tvornice kulture bit će od 10 do 20 sati. Tvornica Platz postaje novo jedinstveno mjesto za publiku\, kupce i prodavače\, ljubitelje vinila i starinske robe te druženje i opuštanje uz glazbu Radio Tvornice. \nUpad na Tvornica Platz bit će slobodan. Prodavači se za rezervaciju prostora mogu javiti na info@tvornicakulture.com.
URL:https://zagrebackidogadaji.hr/event/tvornica-platz-tvornica-kulture/
LOCATION:Tvornica Kulture\, Ul. Pavla Šubića 2\, Zagreb\, 10 000\, Croatia (Local Name: Hrvatska)
CATEGORIES:Ostala događanja,Sva događanja
ATTACH;FMTTYPE=image/png:https://zagrebackidogadaji.hr/wp-content/uploads/2024/03/Tvornica-kulture.png
END:VEVENT
END:VCALENDAR