BEGIN:VCALENDAR
VERSION:2.0
PRODID:-//Zagrebački događaji - ECPv6.5.0//NONSGML v1.0//EN
CALSCALE:GREGORIAN
METHOD:PUBLISH
X-ORIGINAL-URL:https://zagrebackidogadaji.hr
X-WR-CALDESC:Events for Zagrebački događaji
REFRESH-INTERVAL;VALUE=DURATION:PT1H
X-Robots-Tag:noindex
X-PUBLISHED-TTL:PT1H
BEGIN:VTIMEZONE
TZID:UTC
BEGIN:STANDARD
TZOFFSETFROM:+0000
TZOFFSETTO:+0000
TZNAME:UTC
DTSTART:20240101T000000
END:STANDARD
END:VTIMEZONE
BEGIN:VEVENT
DTSTART;TZID=UTC:20240420T200000
DTEND;TZID=UTC:20240420T200000
DTSTAMP:20260422T071850
CREATED:20240326T115820Z
LAST-MODIFIED:20240326T115820Z
UID:1509-1713643200-1713643200@zagrebackidogadaji.hr
SUMMARY:Prvi muževi bacaju se u vodu - Scena Vidra
DESCRIPTION:
URL:https://zagrebackidogadaji.hr/event/prvi-muzevi-bacaju-se-u-vodu-scena-vidra/
LOCATION:Kazalište Vidra\, Kazalište Vidra\, Zagreb\, Hrvatska\, 10000\, Croatia (Local Name: Hrvatska)
CATEGORIES:Ostala događanja,Sva događanja
ATTACH;FMTTYPE=image/png:https://zagrebackidogadaji.hr/wp-content/uploads/2024/03/Prvi-muzevi.png
END:VEVENT
END:VCALENDAR