BEGIN:VCALENDAR
VERSION:2.0
PRODID:-//Zagrebački događaji - ECPv6.5.0//NONSGML v1.0//EN
CALSCALE:GREGORIAN
METHOD:PUBLISH
X-WR-CALNAME:Zagrebački događaji
X-ORIGINAL-URL:https://zagrebackidogadaji.hr
X-WR-CALDESC:Events for Zagrebački događaji
REFRESH-INTERVAL;VALUE=DURATION:PT1H
X-Robots-Tag:noindex
X-PUBLISHED-TTL:PT1H
BEGIN:VTIMEZONE
TZID:UTC
BEGIN:STANDARD
TZOFFSETFROM:+0000
TZOFFSETTO:+0000
TZNAME:UTC
DTSTART:20240101T000000
END:STANDARD
END:VTIMEZONE
BEGIN:VEVENT
DTSTART;TZID=UTC:20240523T200000
DTEND;TZID=UTC:20240526T233000
DTSTAMP:20260422T060202
CREATED:20240317T084647Z
LAST-MODIFIED:20240317T084647Z
UID:1415-1716494400-1716766200@zagrebackidogadaji.hr
SUMMARY:Zagreb Beer Fest
DESCRIPTION:
URL:https://zagrebackidogadaji.hr/event/zagreb-beer-fest/
LOCATION:Park dr. Franje Tuđmana\, Park dr. Franje Tuđmana\, Zagreb\, Hrvatska\, 1000\, Croatia (Local Name: Hrvatska)
CATEGORIES:Koncerti,Ostala događanja,Sva događanja
ATTACH;FMTTYPE=image/png:https://zagrebackidogadaji.hr/wp-content/uploads/2024/03/Beer-fest_Foto_MArko-Lopac.png
END:VEVENT
BEGIN:VEVENT
DTSTART;TZID=UTC:20240524T200000
DTEND;TZID=UTC:20240524T200000
DTSTAMP:20260422T060202
CREATED:20240503T060940Z
LAST-MODIFIED:20240503T060940Z
UID:1658-1716580800-1716580800@zagrebackidogadaji.hr
SUMMARY:Baka ima dečka - Scena Vidra
DESCRIPTION:Uvijek rasprodana predstava “Baka ima dečka?!” izaziva oduševljenje kod publike svojom kombinacijom satire i necenzurirane zabave. Pa je tako predstavom u Rijeci i dva prethodno rasprodana termina u Zagrebu još jednom pokazala zašto je ovo toliko smiješna komedija! Zbog uvijek velike potražnje\, najavila je čak dva nova datuma u svibnju u Zagrebu uz sve ostale već poznate termine. \nGlumci Asim Ugljen i Miro Čabraja\, koji su nas već navikli na svoj izvanredan talent\, istražili su kroz svoje uloge granice humora i ozbiljnosti. Predstava\, koja prikazuje prevaranta Tomu i niz humorno-perverznih gospođa u zrelim godinama\, potiče publiku na dublje razmišljanje o životu i ljubavi\, ali i izaziva na veliki smijeh što je sinoćnja publika u Zagrebu svakako dokazala. \nNamijenjena odrasloj publici\, parovima\, obitelji i samcima\, “Baka ima dečka?!” postavlja pitanja o prirodi ljubavi\, požudi i prevari te nudi uvid u različite aspekte emocionalnih odnosa. \nAsim Ugljen\, poznat po brojnim kazališnim\, televizijskim i filmskim ulogama\, utjelovljuje lik Tomu\, prvi hrvatski žigolo koji će vas istovremeno osvojiti i izazvati kontroverze svojim avanturama. \nMiro Čabraja\, autor i izvođač predstave\, nakon dugogodišnjeg rada na predstavama za djecu\, donosi svoju prvu komediju za odrasle publike. Kroz raznolike ženske likove\, poput Ksenije\, Mire i Matilde\, Čabraja ruši stereotipe i pokazuje da su godine samo broj. \nDramaturgiju potpisuje mlada nagrađivana dramaturginja\, Dorotea Šušak\, koja ističe da je humor u ovoj predstavi alat za otvaranje važnih društvenih pitanja. \nZbog velikog interesa publike\, najavljena su dva nova datuma izvedbe predstave “Baka ima dečka?!”\, koji će se održati 08. i 24. svibnja 2024. u Sceni Vidra u Zagrebu. Ne propustite priliku da doživite ovu uzbudljivu i urnebesno smiješnu predstavu! \nPredstava uz Zagreb\, i svibnju gostuje i u četiri grada diljem Hrvatske. Miro i Asim najavljuju tek početak jedne velike i dugotrajne kvizaške priče \nSvoje ulaznice možete potražiti na scenavidra.hr
URL:https://zagrebackidogadaji.hr/event/baka-ima-decka-scena-vidra-3/
LOCATION:Kazalište Vidra\, Kazalište Vidra\, Zagreb\, Hrvatska\, 10000\, Croatia (Local Name: Hrvatska)
CATEGORIES:Ostala događanja,Sva događanja
ATTACH;FMTTYPE=image/png:https://zagrebackidogadaji.hr/wp-content/uploads/2024/04/Baka-ima-decka-2.png
END:VEVENT
END:VCALENDAR