BEGIN:VCALENDAR
VERSION:2.0
PRODID:-//Zagrebački događaji - ECPv6.5.0//NONSGML v1.0//EN
CALSCALE:GREGORIAN
METHOD:PUBLISH
X-ORIGINAL-URL:https://zagrebackidogadaji.hr
X-WR-CALDESC:Events for Zagrebački događaji
REFRESH-INTERVAL;VALUE=DURATION:PT1H
X-Robots-Tag:noindex
X-PUBLISHED-TTL:PT1H
BEGIN:VTIMEZONE
TZID:UTC
BEGIN:STANDARD
TZOFFSETFROM:+0000
TZOFFSETTO:+0000
TZNAME:UTC
DTSTART:20240101T000000
END:STANDARD
END:VTIMEZONE
BEGIN:VEVENT
DTSTART;TZID=UTC:20240523T200000
DTEND;TZID=UTC:20240526T233000
DTSTAMP:20260422T060259
CREATED:20240317T084647Z
LAST-MODIFIED:20240317T084647Z
UID:1415-1716494400-1716766200@zagrebackidogadaji.hr
SUMMARY:Zagreb Beer Fest
DESCRIPTION:
URL:https://zagrebackidogadaji.hr/event/zagreb-beer-fest/
LOCATION:Park dr. Franje Tuđmana\, Park dr. Franje Tuđmana\, Zagreb\, Hrvatska\, 1000\, Croatia (Local Name: Hrvatska)
CATEGORIES:Koncerti,Ostala događanja,Sva događanja
ATTACH;FMTTYPE=image/png:https://zagrebackidogadaji.hr/wp-content/uploads/2024/03/Beer-fest_Foto_MArko-Lopac.png
END:VEVENT
BEGIN:VEVENT
DTSTART;TZID=UTC:20240525T160000
DTEND;TZID=UTC:20240525T160000
DTSTAMP:20260422T060259
CREATED:20240507T064933Z
LAST-MODIFIED:20240507T064933Z
UID:1672-1716652800-1716652800@zagrebackidogadaji.hr
SUMMARY:Party - Tunel Sljeme
DESCRIPTION:Povijesni tunel Sljeme po prvi puta postaje mjesto u kojem će se održati elektronski party za stotine posjetitelja! \nTunel Sljeme su izradili ratni zarobljenici iz Drugog svjetskog rata u periodu od 1947. – 1952. Godine s prvobitnom idiom da se napravi tunel kroz cijelu Medvednicu i spojiti Zagreb kroz planinu do Gračana i Zagorja. Od te namjere se odustalo\, ali očigledno ekipa iz Panic Room-a nije odustala od želje da ovo povijesno mjesto pretvori u nešto neobično – elektronski party! \nOvaj unikatni događaj je još jedan pokazatelj ozbiljnosti i kreacije organizacije ‘Panic Room Croatia’ gdje donose najbolju elektronsku glazbu na unikatne lokacije diljem Hrvatske\, pa tako i ova\, najposebnija već sad ostavlja duboki trag na noćnom životu Zagreba jer tunel Sljeme po prvi puta postaje lokacija za popodnevno – večernji party uz najbolju elektronsku glazbu! \nUnikatna lokacija\, pogled na žičaru\, dašak povijesti i najavljena vrhunska produkcija uz gostovanje stranog DJ-a su samo neki od razloga zašto doći na ovaj event! Ovaj poseban event će se održati u subotu\, 25. svibnja 2024.\, s početkom u 16:00 sati. \nOvaj događaj označava nastavak nečeg posebnog\, nečeg što će nadmašiti sva očekivanja i što će obilježiti novu eru zabave u Zagrebu.
URL:https://zagrebackidogadaji.hr/event/party-tunel-sljeme/
LOCATION:Tunel Sljeme\, Tunel Sljeme\, Zagreb\, Hrvatska\, 10000\, Croatia (Local Name: Hrvatska)
CATEGORIES:Ostala događanja,Sva događanja
ATTACH;FMTTYPE=image/png:https://zagrebackidogadaji.hr/wp-content/uploads/2024/05/Tunel-Sljeme.png
END:VEVENT
BEGIN:VEVENT
DTSTART;TZID=UTC:20240525T223000
DTEND;TZID=UTC:20240525T223000
DTSTAMP:20260422T060259
CREATED:20240426T072121Z
LAST-MODIFIED:20240426T072121Z
UID:1654-1716676200-1716676200@zagrebackidogadaji.hr
SUMMARY:Damir Kedžo - Johann Franck
DESCRIPTION:
URL:https://zagrebackidogadaji.hr/event/damir-kedzo-johann-franck/
LOCATION:Johann Franck\, Trg bana Josipa Jelačića 9\, Zagreb\, Hrvatska\, 10 000\, Croatia (Local Name: Hrvatska)
CATEGORIES:Koncerti,Sva događanja
ATTACH;FMTTYPE=image/png:https://zagrebackidogadaji.hr/wp-content/uploads/2024/04/Damir-Kedzo.png
END:VEVENT
END:VCALENDAR