BEGIN:VCALENDAR
VERSION:2.0
PRODID:-//Zagrebački događaji - ECPv6.5.0//NONSGML v1.0//EN
CALSCALE:GREGORIAN
METHOD:PUBLISH
X-ORIGINAL-URL:https://zagrebackidogadaji.hr
X-WR-CALDESC:Events for Zagrebački događaji
REFRESH-INTERVAL;VALUE=DURATION:PT1H
X-Robots-Tag:noindex
X-PUBLISHED-TTL:PT1H
BEGIN:VTIMEZONE
TZID:UTC
BEGIN:STANDARD
TZOFFSETFROM:+0000
TZOFFSETTO:+0000
TZNAME:UTC
DTSTART:20240101T000000
END:STANDARD
END:VTIMEZONE
BEGIN:VEVENT
DTSTART;TZID=UTC:20241005T200000
DTEND;TZID=UTC:20241005T200000
DTSTAMP:20260421T224539
CREATED:20240410T064434Z
LAST-MODIFIED:20240410T064434Z
UID:1584-1728158400-1728158400@zagrebackidogadaji.hr
SUMMARY:Vanna - Tvornica kulture
DESCRIPTION:Vanna je kroz godine oduševila domaću glazbenu scenu svevremenskim hitovima u više različitih žanrova i svaki je puta za nagradu punila koncertne dvorane i trgove. Nakon koncerta u Areni Zagreb\, sada se odlučila za nešto potpuno novo – kultni klupski prostor pogona Tvornice Kulture u kojem će 5. listopada započeti svoju koncertnu turneju. \nTvornica je mjesto koje je u posljednje vrijeme publiku naviklo na velike i vrhunske koncerte\, a Vanna se sada isto priključuje tom trendu. Ponudit će nešto novo u svojoj karijeri\, a poznato je da su njeni nastupi do sada uvijek bili isprepleteni punokrvnom svirkom zbog repertoara koji nudi. Na koncertu početkom listopada će taj zvuk ljudima u Tvornici Kulture otkriti jednu novu dimenziju sjajne pjevačice. \nNakon velikog koncerta u Areni motivacija za klupskim prostorom i bliskim doživljajem publike nikad nije bila veća. Mnogima omiljena glazbena mentorica ponudit će novo i najbolje od sebe\, a do spektakla će još otkriti i brojna iznenađenja. \nUpravo zato ne treba propustiti koncert koji garantira bogat katalog hitova i brojne novitete koji će odzvanjati zidovima Velikog pogona 5. listopada.  \nUlaznice za koncert su od sada u prodaji\, a nabavite ih u sustavu Eventima po cijeni od 20 eura prije nego što nestanu.
URL:https://zagrebackidogadaji.hr/event/vanna-tvornica-kulture/
LOCATION:Tvornica Kulture\, Ul. Pavla Šubića 2\, Zagreb\, 10 000\, Croatia (Local Name: Hrvatska)
CATEGORIES:Koncerti,Sva događanja
ATTACH;FMTTYPE=image/png:https://zagrebackidogadaji.hr/wp-content/uploads/2024/04/Vanna.png
END:VEVENT
END:VCALENDAR