BEGIN:VCALENDAR
VERSION:2.0
PRODID:-//Zagrebački događaji - ECPv6.5.0//NONSGML v1.0//EN
CALSCALE:GREGORIAN
METHOD:PUBLISH
X-WR-CALNAME:Zagrebački događaji
X-ORIGINAL-URL:https://zagrebackidogadaji.hr
X-WR-CALDESC:Events for Zagrebački događaji
REFRESH-INTERVAL;VALUE=DURATION:PT1H
X-Robots-Tag:noindex
X-PUBLISHED-TTL:PT1H
BEGIN:VTIMEZONE
TZID:UTC
BEGIN:STANDARD
TZOFFSETFROM:+0000
TZOFFSETTO:+0000
TZNAME:UTC
DTSTART:20240101T000000
END:STANDARD
END:VTIMEZONE
BEGIN:VEVENT
DTSTART;TZID=UTC:20241109T200000
DTEND;TZID=UTC:20241109T200000
DTSTAMP:20260421T211322
CREATED:20240326T112904Z
LAST-MODIFIED:20240326T112904Z
UID:1495-1731182400-1731182400@zagrebackidogadaji.hr
SUMMARY:55 godina grupe Novi Fosili - Arena Zagreb
DESCRIPTION:
URL:https://zagrebackidogadaji.hr/event/55-godina-grupe-novi-fosili-arena-zagreb/
LOCATION:Arena Zagreb\, Ulica Vice Vukova 8\, Zagreb\, Hrvatska\, Croatia (Local Name: Hrvatska)
CATEGORIES:Koncerti,Sva događanja
ATTACH;FMTTYPE=image/jpeg:https://zagrebackidogadaji.hr/wp-content/uploads/2024/03/Novi-Fosili.jpg
END:VEVENT
END:VCALENDAR