BEGIN:VCALENDAR
VERSION:2.0
PRODID:-//Zagrebački događaji - ECPv6.5.0//NONSGML v1.0//EN
CALSCALE:GREGORIAN
METHOD:PUBLISH
X-WR-CALNAME:Zagrebački događaji
X-ORIGINAL-URL:https://zagrebackidogadaji.hr
X-WR-CALDESC:Events for Zagrebački događaji
REFRESH-INTERVAL;VALUE=DURATION:PT1H
X-Robots-Tag:noindex
X-PUBLISHED-TTL:PT1H
BEGIN:VTIMEZONE
TZID:UTC
BEGIN:STANDARD
TZOFFSETFROM:+0000
TZOFFSETTO:+0000
TZNAME:UTC
DTSTART:20230101T000000
END:STANDARD
END:VTIMEZONE
BEGIN:VEVENT
DTSTART;TZID=UTC:20230904T080000
DTEND;TZID=UTC:20230908T170000
DTSTAMP:20260422T225951
CREATED:20230828T122458Z
LAST-MODIFIED:20230828T193908Z
UID:102-1693814400-1694192400@zagrebackidogadaji.hr
SUMMARY:Plesne večeri na Zrinjevcu
DESCRIPTION:Plesne večeri na Zrinjevcu dio su projekta Zagrebački vremeplov\, koji u Zagrebu različitim projektima oživljava romantični duh prošlih vremena. Održavaju se u kolovozu već dugi niz godina i već su postale prepoznatljivo događanje\, koje je zamišljeno po uzoru na plesnjake koji su bili jedno od glavnih simbola društvenoga života naše metropole! \nGlazbeni paviljon\, koji je još od 1891. jedan od zaštitnih simbola Zagreba\, tako će i ovoga kolovoza biti jedinstvenom pozornicom za sjajnu zabavu!
URL:https://zagrebackidogadaji.hr/event/plesne-veceri-na-zrinjevcu/
LOCATION:Zrinjevac\, Zrinjevac\, Zagreb\, Hrvatska\, Croatia (Local Name: Hrvatska)
CATEGORIES:Noćni život,Sva događanja
ATTACH;FMTTYPE=image/jpeg:https://zagrebackidogadaji.hr/wp-content/uploads/2023/08/plesna_vecer_na_zrinjevcu.jpg
ORGANIZER;CN="Turisticka Zajednica%C2%A0Grada%C2%A0Zagreba":MAILTO:info@infozagreb.hr
END:VEVENT
END:VCALENDAR