BEGIN:VCALENDAR
VERSION:2.0
PRODID:-//Zagrebački događaji - ECPv6.5.0//NONSGML v1.0//EN
CALSCALE:GREGORIAN
METHOD:PUBLISH
X-ORIGINAL-URL:https://zagrebackidogadaji.hr
X-WR-CALDESC:Events for Zagrebački događaji
REFRESH-INTERVAL;VALUE=DURATION:PT1H
X-Robots-Tag:noindex
X-PUBLISHED-TTL:PT1H
BEGIN:VTIMEZONE
TZID:UTC
BEGIN:STANDARD
TZOFFSETFROM:+0000
TZOFFSETTO:+0000
TZNAME:UTC
DTSTART:20240101T000000
END:STANDARD
END:VTIMEZONE
BEGIN:VEVENT
DTSTART;TZID=UTC:20241015T200000
DTEND;TZID=UTC:20241015T200000
DTSTAMP:20260422T015019
CREATED:20240317T085436Z
LAST-MODIFIED:20240317T085436Z
UID:1424-1729022400-1729022400@zagrebackidogadaji.hr
SUMMARY:Nick Cave & The Bad Seeds - Arena Zagreb
DESCRIPTION:
URL:https://zagrebackidogadaji.hr/event/nick-cave-the-bad-seeds-arena-zagreb/
LOCATION:Arena Zagreb\, Ulica Vice Vukova 8\, Zagreb\, Hrvatska\, Croatia (Local Name: Hrvatska)
CATEGORIES:Koncerti,Sva događanja
ATTACH;FMTTYPE=image/png:https://zagrebackidogadaji.hr/wp-content/uploads/2024/03/Nick-Cave.png
END:VEVENT
BEGIN:VEVENT
DTSTART;TZID=UTC:20241109T200000
DTEND;TZID=UTC:20241109T200000
DTSTAMP:20260422T015019
CREATED:20240326T112904Z
LAST-MODIFIED:20240326T112904Z
UID:1495-1731182400-1731182400@zagrebackidogadaji.hr
SUMMARY:55 godina grupe Novi Fosili - Arena Zagreb
DESCRIPTION:
URL:https://zagrebackidogadaji.hr/event/55-godina-grupe-novi-fosili-arena-zagreb/
LOCATION:Arena Zagreb\, Ulica Vice Vukova 8\, Zagreb\, Hrvatska\, Croatia (Local Name: Hrvatska)
CATEGORIES:Koncerti,Sva događanja
ATTACH;FMTTYPE=image/jpeg:https://zagrebackidogadaji.hr/wp-content/uploads/2024/03/Novi-Fosili.jpg
END:VEVENT
BEGIN:VEVENT
DTSTART;TZID=UTC:20241116T200000
DTEND;TZID=UTC:20241116T200000
DTSTAMP:20260422T015019
CREATED:20240425T070049Z
LAST-MODIFIED:20240425T070049Z
UID:1644-1731787200-1731787200@zagrebackidogadaji.hr
SUMMARY:Električni orgazam - Tvornica kulture
DESCRIPTION:Legendarni Električni orgazam svirat će ove jeseni u Tvornici kulture! Bend će posebnim koncertom obilježiti 40 godina albuma ”Kako bubanj kaže”\, a nezamjenjivoj će se petorci na zagrebačkoj pozornici po prvi put pridružiti i uistinu jedinstvena gošća – proslavljena glumica Anica Dobra. Električni orgazam proslavu sa zagrebačkom publikom zakazuje za subotu\, 16. studenog 2024. godine. \nElektrični orgazam – „Kako bubanj kaže“ \n”Kako bubanj kaže” četvrti je studijski album jednog od najpopularnijih srpskih punk rock bendova svih vremena. Izdanje je 1984. godine objavljeno za diskografsku kuću Jugoton\, a na albumu su sudjelovali Srđan Gojković Gile (vokal\, gitara)\, Jovan Jovanović Grof (bas)\, Goran Čavajda Čavke (bubnjevi)\, Ivan Pajević (gitara)\, Ljubomir Đukić (klavir\, vokal) te Ivan Švager (saksofon). ”Kako bubanj kaže” sastoji se od osam legendarnih numera. Na A strani nalaze se udarne numere: ”Kako bubanj kaže”\, ”Klinci traže zabavu”\, ”Pričam o tebi” i ”Ja poželim promene”\, dok B stranu čine ”Fras u šupi”\, ”Beograd”\, ”Skamenjen” i ”Volim te”. Svoj je eponimski prvijenac Električni Orgazam objavio 1981. godine\, a već godinu dana kasnije uslijedilo je jedno od najposebnijih izdanja regionalne diskografije – album ”Lišće prekriva Lisabon”. Inspirirani i produktivni\, već su 1983. godine objavili treći studijski album ”Les Chansones Populaires”  na kojemu su zabilježene obrade svjetskih klasika\, a čije je reizdanje objavljeno 2022. godine za diskografsku kuću Croatia Records. \nElektrični orgazam – „Svečane bele košulje“ \nJako se radujemo što ćemo po prvi put nastupiti s Anicom Dobrom u Zagrebu. Nismo dugo nastupali s njom\, a i mi i publika jako volimo kad god se to dogodi – rekao je Srđan Gojković Gile\, lider Električnog orgazma. Bend će Anicu ugostiti na hit pjesmi ”Svečane bele košulje” koju je zajedno s Vladom Divljanom napisao Gile za\, sada već kultni\, film Crni bombarder 1992. godine. Film je režirao Darko Bajić\, a glavne su zvijezde jedinstvena kraljica regionalnog glumišta Anica Dobra\, Dragan Bjelogrlić te Srđan Žika Todorović. Osim toga\, Električni će orgazam s Anicom izvesti i pjesmu ”Hodam sad kao zombie”\, koja je uz ”Svečane bele košulje” nakon uspješnog filma\, postala velikim hitom. \nElektrični orgazam – „Beograd (Lyric Video)“ \nČetvrtu godinu zaredom Električni orgazam u Tvornici kulture slavi 40. godišnjicu jednog od bezvremenskih izdanja regionalne diskografije. Publika će u Šubićevoj plesati ”Kako bubanj kaže”\, odnosno „kako Čavke kaže“\, a koncert će uveličati jedna od najistaknutijih srpskih glumica Anica Dobra. Električni će orgazam uz slavljenički album odsvirati i svoje omiljene hitove iz bogate diskografije\, a nezaboravnom će koncertnom iskustvu svojom jedinstvenom pojavom doprinijeti i Anica koja će filmske trenutke prenijeti u stvarnost. \nUlaznice po early bird cijeni od 16 eura pronađite u Tvornici kulture\, na svim prodajnim mjestima ili online na Entrio.hr. Regular cijena ulaznica iznosit će 18 eura.
URL:https://zagrebackidogadaji.hr/event/elektricni-orgazam-tvornica-kulture/
LOCATION:Tvornica Kulture\, Ul. Pavla Šubića 2\, Zagreb\, 10 000\, Croatia (Local Name: Hrvatska)
CATEGORIES:Koncerti,Sva događanja
ATTACH;FMTTYPE=image/png:https://zagrebackidogadaji.hr/wp-content/uploads/2024/04/Elektricni-orgazam.png
END:VEVENT
BEGIN:VEVENT
DTSTART;TZID=UTC:20241128T200000
DTEND;TZID=UTC:20241128T200000
DTSTAMP:20260422T015019
CREATED:20240508T053402Z
LAST-MODIFIED:20240508T053402Z
UID:1683-1732824000-1732824000@zagrebackidogadaji.hr
SUMMARY:The Beatles Revival Band - Tvornica kulture
DESCRIPTION:
URL:https://zagrebackidogadaji.hr/event/the-beatles-revival-band-tvornica-kulture/
LOCATION:Tvornica Kulture\, Ul. Pavla Šubića 2\, Zagreb\, 10 000\, Croatia (Local Name: Hrvatska)
CATEGORIES:Koncerti,Sva događanja
ATTACH;FMTTYPE=image/png:https://zagrebackidogadaji.hr/wp-content/uploads/2024/05/Beatles.png
END:VEVENT
BEGIN:VEVENT
DTSTART;TZID=UTC:20241210T200000
DTEND;TZID=UTC:20241210T230000
DTSTAMP:20260422T015019
CREATED:20240220T212804Z
LAST-MODIFIED:20240220T212804Z
UID:1071-1733860800-1733871600@zagrebackidogadaji.hr
SUMMARY:Lepa Brena - Arena Zagreb
DESCRIPTION:Za sam kraj godine\, Extra FM ponovno je priredio događaj koji će se zasigurno pamtiti! \nNakon veoma uspješnih koncerata pod sloganom EXTRA KONCERT GODINE\, došao je red da jedan takav u povijest upiše i jedna od najvećih regionalnih zvijezda – Lepa Brena! \nS preko 40 godina na sceni\, Lepa Brena iza sebe ima brojne uspjehe. Koncerti na punim stadionima\, arene\, filmovi koji se s istim žarom emitiraju i gledaju i dan danas\, najtiražniji albumi\, velike turneje\,.. samo su dio onog što čine karijeru legendardne Brene. \nKarijera koja može stati “rame uz rame” sa svjetskim zvijezdama\, Lepoj Breni donijela je status dive\, a s hitovima poput: ‘Uđi slobodno’\, ‘Pazi kome zavidiš’\, ‘Ti si moj greh’\, ‘Boliš i ne prolaziš’\, ‘Jugoslovenka’\,… stat će na najveću zagrebačku scenu i nedvojbeno\, u pravom stilu prirediti publici večer koju će pamtiti!
URL:https://zagrebackidogadaji.hr/event/lepa-brena-arena-zagreb/
LOCATION:Arena Zagreb\, Ulica Vice Vukova 8\, Zagreb\, Hrvatska\, Croatia (Local Name: Hrvatska)
CATEGORIES:Ostala događanja,Sva događanja
ATTACH;FMTTYPE=image/png:https://zagrebackidogadaji.hr/wp-content/uploads/2024/02/Lepa-Brena.png
END:VEVENT
END:VCALENDAR