BEGIN:VCALENDAR
VERSION:2.0
PRODID:-//Zagrebački događaji - ECPv6.5.0//NONSGML v1.0//EN
CALSCALE:GREGORIAN
METHOD:PUBLISH
X-ORIGINAL-URL:https://zagrebackidogadaji.hr
X-WR-CALDESC:Events for Zagrebački događaji
REFRESH-INTERVAL;VALUE=DURATION:PT1H
X-Robots-Tag:noindex
X-PUBLISHED-TTL:PT1H
BEGIN:VTIMEZONE
TZID:UTC
BEGIN:STANDARD
TZOFFSETFROM:+0000
TZOFFSETTO:+0000
TZNAME:UTC
DTSTART:20240101T000000
END:STANDARD
END:VTIMEZONE
BEGIN:VEVENT
DTSTART;TZID=UTC:20240320T230000
DTEND;TZID=UTC:20240320T230000
DTSTAMP:20260422T230409
CREATED:20240304T211932Z
LAST-MODIFIED:20240304T211932Z
UID:1229-1710975600-1710975600@zagrebackidogadaji.hr
SUMMARY:Strictly trap - OUT Bunker
DESCRIPTION:Join us this Wednesday in collaboration with @samokaos kaos & @six.zagreb\, OUT Bunker on Ilica 16 is bringing to Zagreb it’s own Wednesday Trap program!\nWe’re playing Strictly Trap\, only the best of Trap music from artist such as Travis Scott\, Young Thug\, Gucci Mane\, Migos\, Lil Uzi Vert\, A$AP Ferg\, Fetty Wap\, Dababy\, Playboy Carti\, Pop Smoke\, Drake\, xxxtentacion & many more. \n⌚️23-04 | Every Wednesday\n🎟 FREE ENTRY TILL MIDNIGHT\n4€ AFTER\n📍OUT Bunker\, ILICA 16 \nFor table reservations and inquiries:\n📥 DM us (Facebook/Instagram)\n📞 Call us: 0981600123\n📧 or E-mail us at go@out.city\nLimited space available!\nArrive earlier to guarantee entry!
URL:https://zagrebackidogadaji.hr/event/strictly-trap-out-bunker-7/
LOCATION:OUT Bunker\, Ilica 16\, Zagreb\, 10 000\, Croatia (Local Name: Hrvatska)
CATEGORIES:Noćni život,Sva događanja
ATTACH;FMTTYPE=image/jpeg:https://zagrebackidogadaji.hr/wp-content/uploads/2024/03/TRAP.jpg
END:VEVENT
BEGIN:VEVENT
DTSTART;TZID=UTC:20240321T200000
DTEND;TZID=UTC:20240321T200000
DTSTAMP:20260422T230409
CREATED:20240307T100146Z
LAST-MODIFIED:20240307T100158Z
UID:1321-1711051200-1711051200@zagrebackidogadaji.hr
SUMMARY:30. rođendan Pulp Fictiona - Tvornica kulture
DESCRIPTION:Prije točno 30 godina prvi je put prikazan danas kultni Tarantinov film Pulp Fiction. U četvrtak 21. ožujka\, 4:AM agency i CoreEvent platforma za prodaju ulaznica obilježit će 30 godina Pulp Fictiona u Tvornici Kulture s vizualno-glazbenim koncertnim spektaklom uz The Quarantinos – Tarantino tribute bendom! \nPovodom 30. obljetnice ovog kultnog filma i soundtracka koja će se obilježiti različitim događanjima u cijelom svijetu\, i Zagreb će dati svoj hommage Pulp Fictionu. \n4:AM agency i CoreEvent platforma za prodaju ulaznica u četvrtak 21. ožujka s početkom u 21h pozivaju sve Tarantino i Pulp Fiction fanove na nezaboravni događaj u Tvornicu Kulture\, u sklopu kojeg će nastupiti jedinstveni The Quarantinos – Tarantino tribute bend. \nThe Quarantinos – Tarantino Tribute Band posvetio je svoje glazbeno djelovanje nezaboravnim sound trackovima iz genijalnih Tarantinovih filmskih ostvarenja.  Oduševit će vas glazbom koja prati najbolje filmske scene iz svih Tarantinovih filmova na velikom platnu\, uz mnoštvo likova na sceni koji kao da su izašli iz njegovih filmova. Moćni vokali i puhačka sekcija odvest će vas u svijet Quentina Tarantina i ponovno oživjeti kultne scene njegovih remek djela.
URL:https://zagrebackidogadaji.hr/event/30-rodendan-pulp-fictiona-tvornica-kulture/
LOCATION:Tvornica Kulture\, Ul. Pavla Šubića 2\, Zagreb\, 10 000\, Croatia (Local Name: Hrvatska)
CATEGORIES:Koncerti,Sva događanja
ATTACH;FMTTYPE=image/png:https://zagrebackidogadaji.hr/wp-content/uploads/2024/03/Pulp-Fiction.png
END:VEVENT
BEGIN:VEVENT
DTSTART;TZID=UTC:20240321T230000
DTEND;TZID=UTC:20240321T230000
DTSTAMP:20260422T230409
CREATED:20240221T095718Z
LAST-MODIFIED:20240221T095718Z
UID:1132-1711062000-1711062000@zagrebackidogadaji.hr
SUMMARY:Platinum & Gold Club - Kafanica laganica
DESCRIPTION:Živa Muzika u Platinum & Gold Clubu!
URL:https://zagrebackidogadaji.hr/event/platinum-gold-club-kafanica-laganica-6/
LOCATION:Platinum & Gold Club\, Trg John F. Kennedy 6b\, Zagreb\, Hrvatska\, 10 000\, Croatia (Local Name: Hrvatska)
CATEGORIES:Noćni život,Sva događanja
ATTACH;FMTTYPE=image/png:https://zagrebackidogadaji.hr/wp-content/uploads/2024/02/Kafanica-laganica.png
END:VEVENT
BEGIN:VEVENT
DTSTART;TZID=UTC:20240321T230000
DTEND;TZID=UTC:20240321T230000
DTSTAMP:20260422T230409
CREATED:20240304T212441Z
LAST-MODIFIED:20240304T212441Z
UID:1239-1711062000-1711062000@zagrebackidogadaji.hr
SUMMARY:Latino gang - OUT Bunker
DESCRIPTION:LATINO GANG! 💃\nJoin us every Thursday in the BUNKER for Zagreb’s Latin scene to unfold before you. We’re playing REGGAETON new and old for all the enjoy!\nYou’ll hear artists like:\nMaluma\, J Balvin\, Daddy Yankee\, Shakira\, Yandel\, Bad Bunny & many more! \n📍OUT BUNKER | Ilica 16\n⌚️ Every Thursday. | 23-04h\n🎟 3€ before midnight\n4€ after\nSee you guys there!
URL:https://zagrebackidogadaji.hr/event/latino-gang-out-bunker-7/
LOCATION:OUT Bunker\, Ilica 16\, Zagreb\, 10 000\, Croatia (Local Name: Hrvatska)
CATEGORIES:Noćni život,Sva događanja
ATTACH;FMTTYPE=image/jpeg:https://zagrebackidogadaji.hr/wp-content/uploads/2024/03/Latino.jpg
END:VEVENT
BEGIN:VEVENT
DTSTART;TZID=UTC:20240322T200000
DTEND;TZID=UTC:20240322T200000
DTSTAMP:20260422T230409
CREATED:20240305T101300Z
LAST-MODIFIED:20240305T101300Z
UID:1308-1711137600-1711137600@zagrebackidogadaji.hr
SUMMARY:Lukijan Ivanović - Peron 16
DESCRIPTION:
URL:https://zagrebackidogadaji.hr/event/lukijan-ivanovic-peron-16/
LOCATION:Peron 16\, Magazinska ul. 16\, Zagreb\, Hrvatska\, 10 000\, Croatia (Local Name: Hrvatska)
CATEGORIES:Koncerti,Noćni život,Sva događanja
ATTACH;FMTTYPE=image/png:https://zagrebackidogadaji.hr/wp-content/uploads/2024/03/Lukijan.png
END:VEVENT
BEGIN:VEVENT
DTSTART;TZID=UTC:20240322T200000
DTEND;TZID=UTC:20240322T200000
DTSTAMP:20260422T230409
CREATED:20240312T123149Z
LAST-MODIFIED:20240312T123149Z
UID:1353-1711137600-1711137600@zagrebackidogadaji.hr
SUMMARY:Artur Menezes - Hard Place
DESCRIPTION:
URL:https://zagrebackidogadaji.hr/event/artur-menezes-hard-place/
LOCATION:Hard Place\, Hrvatske bratske zajednice 4\, Zagrb\, Hrvatska\, 10000\, Croatia (Local Name: Hrvatska)
CATEGORIES:Koncerti,Sva događanja
ATTACH;FMTTYPE=image/png:https://zagrebackidogadaji.hr/wp-content/uploads/2024/03/Artur-Menezes.png
END:VEVENT
BEGIN:VEVENT
DTSTART;TZID=UTC:20240322T223000
DTEND;TZID=UTC:20240322T223000
DTSTAMP:20260422T230409
CREATED:20240305T100325Z
LAST-MODIFIED:20240305T100325Z
UID:1291-1711146600-1711146600@zagrebackidogadaji.hr
SUMMARY:RnB Confusion Katran Takeover - Katran
DESCRIPTION:
URL:https://zagrebackidogadaji.hr/event/rnb-confusion-katran-takeover-katran/
LOCATION:Katran\, Ulica Ivana Zahara 9\, Zagreb\, 10 000
CATEGORIES:Noćni život,Sva događanja
ATTACH;FMTTYPE=image/png:https://zagrebackidogadaji.hr/wp-content/uploads/2024/03/Friday-night_Katran.png
END:VEVENT
BEGIN:VEVENT
DTSTART;TZID=UTC:20240322T230000
DTEND;TZID=UTC:20240322T230000
DTSTAMP:20260422T230409
CREATED:20240221T100537Z
LAST-MODIFIED:20240221T100537Z
UID:1145-1711148400-1711148400@zagrebackidogadaji.hr
SUMMARY:Platinum & Gold Club - Ladies Night
DESCRIPTION:Sve je spremno za još jedan ludi provod u novoj sezoni! Vidimo se od 22:00h\, a za vas smo pripremili nezaboravnu atmosferu uz hostese\, plesačice i pomno odabrane hitove našeg DJ-a! Vidimo se ekipa! \nRezervacije – 098 9520 770 / službeni profili Platinum & Gold Cluba \nRezervacije vrijede do 23:00h\, a ulaz je besplatan! \nRadno vrijeme: 22:00h – 06:00h \n18+
URL:https://zagrebackidogadaji.hr/event/platinum-gold-club-ladies-night-8/
LOCATION:Platinum & Gold Club\, Trg John F. Kennedy 6b\, Zagreb\, Hrvatska\, 10 000\, Croatia (Local Name: Hrvatska)
CATEGORIES:Noćni život,Sva događanja
ATTACH;FMTTYPE=image/png:https://zagrebackidogadaji.hr/wp-content/uploads/2024/02/Girls-Night.png
END:VEVENT
BEGIN:VEVENT
DTSTART;TZID=UTC:20240322T230000
DTEND;TZID=UTC:20240322T230000
DTSTAMP:20260422T230409
CREATED:20240304T212844Z
LAST-MODIFIED:20240304T213018Z
UID:1248-1711148400-1711148400@zagrebackidogadaji.hr
SUMMARY:Party rock - OUT Bunker
DESCRIPTION:🍾THIS FRIDAY Join us in our blast to the past back to the 2010’s clubbing era! @six.zagreb & @outbunker is bringing you Party Rock Bunker\, with music from Artists such as:\nPitbull\, Kesha\, LMFAO\, Shakira\, Akon\, 50 cent\, Black eyed peas\, Britney Spears\, kid cudi\, Chris brown\, Jennifer Lopez\n& many more!\nThe weekend is for getting wild\, and this night of nostalgia is not one to miss! Reserve your tables while availability lasts! \n⌚️ EVERY FRIDAY | 23-05h\n🎟5€ Entry\n📍 llica 16 | OUT Bunker
URL:https://zagrebackidogadaji.hr/event/party-rock-out-bunker-7/
LOCATION:OUT Bunker\, Ilica 16\, Zagreb\, 10 000\, Croatia (Local Name: Hrvatska)
CATEGORIES:Noćni život,Sva događanja
ATTACH;FMTTYPE=image/jpeg:https://zagrebackidogadaji.hr/wp-content/uploads/2024/03/Party-Rock.jpg
END:VEVENT
BEGIN:VEVENT
DTSTART;TZID=UTC:20240322T230000
DTEND;TZID=UTC:20240322T230000
DTSTAMP:20260422T230409
CREATED:20240304T214610Z
LAST-MODIFIED:20240304T214610Z
UID:1275-1711148400-1711148400@zagrebackidogadaji.hr
SUMMARY:Balkan Rooftop - OUT Rooftop
DESCRIPTION:Pridruži nam se ovog petka na ROOFTOPU! \nNovi program na ROOFTOPU! Donosimo najnovije i najbolje balkatone hitove! \nOUT Rooftop\, Ilica 16\n23-04h | EVERY FRIDAY\n4€ entry\nFree entry until midnight! \nZa rezervacije stolova i upite:\n📥 Pišite nam u DM (Facebook/Instagram)\n📞 Nazovite nas: 0981600123\n📧 Pošaljite e-mail na go@out.city\nVidimo se!
URL:https://zagrebackidogadaji.hr/event/balkan-rooftop-out-rooftop-7/
LOCATION:OUT Rooftop\, Ilica 16\, Zagreb\, Zagreb\, 10 000
CATEGORIES:Noćni život,Sva događanja
ATTACH;FMTTYPE=image/jpeg:https://zagrebackidogadaji.hr/wp-content/uploads/2024/03/Balkan.jpg
END:VEVENT
BEGIN:VEVENT
DTSTART;TZID=UTC:20240323T100000
DTEND;TZID=UTC:20240323T140000
DTSTAMP:20260422T230409
CREATED:20240319T124033Z
LAST-MODIFIED:20240319T124033Z
UID:1433-1711188000-1711202400@zagrebackidogadaji.hr
SUMMARY:Radionica Breathwork Detox terapijskog disanja - Hotel Antunović
DESCRIPTION:
URL:https://zagrebackidogadaji.hr/event/radionica-breathwork-detox-terapijskog-disanja-hotel-antunovic/
LOCATION:Hotel Antunović\, Zagrebačka avenija 100\, Zagreb\, Hrvatska\, 10000\, Croatia (Local Name: Hrvatska)
CATEGORIES:Ostala događanja,Sva događanja
ATTACH;FMTTYPE=image/png:https://zagrebackidogadaji.hr/wp-content/uploads/2024/03/Breathwork.png
END:VEVENT
BEGIN:VEVENT
DTSTART;TZID=UTC:20240323T220000
DTEND;TZID=UTC:20240323T220000
DTSTAMP:20260422T230409
CREATED:20240305T101125Z
LAST-MODIFIED:20240305T101125Z
UID:1305-1711231200-1711231200@zagrebackidogadaji.hr
SUMMARY:Vesna Zmijanac - Peron 16
DESCRIPTION:
URL:https://zagrebackidogadaji.hr/event/vesna-zmijanac-peron-16/
LOCATION:Peron 16\, Magazinska ul. 16\, Zagreb\, Hrvatska\, 10 000\, Croatia (Local Name: Hrvatska)
CATEGORIES:Koncerti,Noćni život,Sva događanja
ATTACH;FMTTYPE=image/jpeg:https://zagrebackidogadaji.hr/wp-content/uploads/2024/03/Vesna-Zmijanac.jpg
END:VEVENT
BEGIN:VEVENT
DTSTART;TZID=UTC:20240323T223000
DTEND;TZID=UTC:20240323T223000
DTSTAMP:20260422T230409
CREATED:20240305T100430Z
LAST-MODIFIED:20240305T100430Z
UID:1293-1711233000-1711233000@zagrebackidogadaji.hr
SUMMARY:Just Dance - Katran
DESCRIPTION:2 Dance Floors / 2 DJ’s
URL:https://zagrebackidogadaji.hr/event/just-dance-katran/
LOCATION:Katran\, Ulica Ivana Zahara 9\, Zagreb\, 10 000
CATEGORIES:Noćni život,Sva događanja
ATTACH;FMTTYPE=image/png:https://zagrebackidogadaji.hr/wp-content/uploads/2024/03/Katran.png
END:VEVENT
BEGIN:VEVENT
DTSTART;TZID=UTC:20240323T230000
DTEND;TZID=UTC:20240323T230000
DTSTAMP:20260422T230409
CREATED:20240220T223816Z
LAST-MODIFIED:20240220T223816Z
UID:1119-1711234800-1711234800@zagrebackidogadaji.hr
SUMMARY:Žabac Zagreb W/ Boss Band & DJ Alen
DESCRIPTION:Za ovaj petak znaš što ti je činiti.\nJer Boss Band & DJ Alen sviraju i ideš na najbolji provod u Žabac! \nNazovite svoje prijatelje\, rezervirajte svoje mjesto i pripremite se za uzbudljiv vikend. Ovo će biti spektakl! 🎉 \nRezervacija stolova na službenim profilima Žabac Zagreb!
URL:https://zagrebackidogadaji.hr/event/zabac-zagreb-w-boss-band-dj-alen/
LOCATION:Žabac Zagreb\, Jarunska ul. 1\, Zagreb\, Hrvatska\, 10000\, Croatia (Local Name: Hrvatska)
CATEGORIES:Noćni život,Sva događanja
ATTACH;FMTTYPE=image/jpeg:https://zagrebackidogadaji.hr/wp-content/uploads/2023/11/400013600_18202845901285133_2054009660040563317_n.jpg
END:VEVENT
BEGIN:VEVENT
DTSTART;TZID=UTC:20240323T230000
DTEND;TZID=UTC:20240323T230000
DTSTAMP:20260422T230409
CREATED:20240221T101342Z
LAST-MODIFIED:20240221T101556Z
UID:1157-1711234800-1711234800@zagrebackidogadaji.hr
SUMMARY:Platinum & Gold Club - Golden Era
DESCRIPTION:Sve je spremno za još jedan ludi provod u novoj sezoni! Vidimo se od 22:00h\, a za vas smo pripremili nezaboravnu atmosferu uz hostese\, plesačice i pomno odabrane hitove našeg DJ-a! Vidimo se ekipa! \nRezervacije – 098 9520 770 / službeni profili Platinum & Gold Cluba \nRezervacije vrijede do 23:00h\, a ulaz je besplatan! \nRadno vrijeme: 22:00h – 06:00h \n18+
URL:https://zagrebackidogadaji.hr/event/platinum-gold-club-golden-era-8/
LOCATION:Platinum & Gold Club\, Trg John F. Kennedy 6b\, Zagreb\, Hrvatska\, 10 000\, Croatia (Local Name: Hrvatska)
CATEGORIES:Noćni život,Sva događanja
ATTACH;FMTTYPE=image/png:https://zagrebackidogadaji.hr/wp-content/uploads/2024/02/Golden-era.png
END:VEVENT
BEGIN:VEVENT
DTSTART;TZID=UTC:20240323T230000
DTEND;TZID=UTC:20240323T230000
DTSTAMP:20260422T230409
CREATED:20240304T213503Z
LAST-MODIFIED:20240304T213503Z
UID:1257-1711234800-1711234800@zagrebackidogadaji.hr
SUMMARY:RNB Saturdays - OUT Bunker
DESCRIPTION:📀 This SATURDAY\, Join us for the best RNB program in the city! @six.zagreb & @outbunker is bringing you the ultimate hip hop & rnb parties\, with music from Artists such as:\nTyga\, Pop Smoke\, Beyonce\, Akon\, 50 cent\, Black eyed peas\, B Outkast\, Nelly\, Kanye West\, Rihanna\, Beyoncé\nSoulja Boy\, Eminem\n& many more!\nThe weekend is for getting wild\, and this night of nostalgia is not one to miss! Reserve your tables while availability lasts! \n⌚️ Every Saturday | 23-05h\n🎟 5€ Entry\n📍 llica 16 | OUT Bunker
URL:https://zagrebackidogadaji.hr/event/rnb-saturdays-out-bunker-7/
LOCATION:OUT Bunker\, Ilica 16\, Zagreb\, 10 000\, Croatia (Local Name: Hrvatska)
CATEGORIES:Noćni život,Sva događanja
ATTACH;FMTTYPE=image/jpeg:https://zagrebackidogadaji.hr/wp-content/uploads/2024/03/RNB.jpg
END:VEVENT
BEGIN:VEVENT
DTSTART;TZID=UTC:20240323T230000
DTEND;TZID=UTC:20240323T230000
DTSTAMP:20260422T230409
CREATED:20240304T214114Z
LAST-MODIFIED:20240304T214114Z
UID:1266-1711234800-1711234800@zagrebackidogadaji.hr
SUMMARY:Trash Party - OUT Rooftop
DESCRIPTION:Pozivamo vas na TRASH party života! \n@outrooftop trash program osigurat će vam nezaboravnu večer uz kvalitetan izbor koktela tik ispod Gornjeg grada!\nZaplešite uz najbolje domaće hitove na najnovijem noćnom klubu u Zagrebu. \n🕙 SVAKA SUBOTA | 23-04h\n📍OUT Rooftop | Ilica 16 (4 kat.)\n🎟5€ upad\nFree entry until midnight \nZa rezervacije stolova i upite:\n📥 Pišite nam u DM (Facebook/Instagram)\n📞 Nazovite nas: 0981600123\n📧 Pošaljite e-mail na go@out.city\nVidimo se!
URL:https://zagrebackidogadaji.hr/event/trash-party-out-rooftop-7/
LOCATION:OUT Rooftop\, Ilica 16\, Zagreb\, Zagreb\, 10 000
CATEGORIES:Noćni život,Sva događanja
ATTACH;FMTTYPE=image/jpeg:https://zagrebackidogadaji.hr/wp-content/uploads/2024/03/Trash.jpg
END:VEVENT
BEGIN:VEVENT
DTSTART;TZID=UTC:20240325T200000
DTEND;TZID=UTC:20240325T200000
DTSTAMP:20260422T230409
CREATED:20240322T104225Z
LAST-MODIFIED:20240322T104225Z
UID:1455-1711396800-1711396800@zagrebackidogadaji.hr
SUMMARY:Večer poezije uz Tarika Filipovića i Marka Miloševića - Peron 16
DESCRIPTION:
URL:https://zagrebackidogadaji.hr/event/vecer-poezije-uz-tarika-filipovica-i-marka-milosevica-peron-16/
LOCATION:Peron 16\, Magazinska ul. 16\, Zagreb\, Hrvatska\, 10 000\, Croatia (Local Name: Hrvatska)
CATEGORIES:Ostala događanja,Sva događanja
ATTACH;FMTTYPE=image/png:https://zagrebackidogadaji.hr/wp-content/uploads/2024/03/Tarik-Filipovic.png
END:VEVENT
BEGIN:VEVENT
DTSTART;TZID=UTC:20240327T230000
DTEND;TZID=UTC:20240327T230000
DTSTAMP:20260422T230409
CREATED:20240221T095804Z
LAST-MODIFIED:20240221T095804Z
UID:1134-1711580400-1711580400@zagrebackidogadaji.hr
SUMMARY:Platinum & Gold Club - Kafanica laganica
DESCRIPTION:Živa Muzika u Platinum & Gold Clubu!
URL:https://zagrebackidogadaji.hr/event/platinum-gold-club-kafanica-laganica-7/
LOCATION:Platinum & Gold Club\, Trg John F. Kennedy 6b\, Zagreb\, Hrvatska\, 10 000\, Croatia (Local Name: Hrvatska)
CATEGORIES:Noćni život,Sva događanja
ATTACH;FMTTYPE=image/png:https://zagrebackidogadaji.hr/wp-content/uploads/2024/02/Kafanica-laganica.png
END:VEVENT
BEGIN:VEVENT
DTSTART;TZID=UTC:20240327T230000
DTEND;TZID=UTC:20240327T230000
DTSTAMP:20260422T230409
CREATED:20240304T212029Z
LAST-MODIFIED:20240304T212029Z
UID:1231-1711580400-1711580400@zagrebackidogadaji.hr
SUMMARY:Strictly trap - OUT Bunker
DESCRIPTION:
URL:https://zagrebackidogadaji.hr/event/strictly-trap-out-bunker-8/
LOCATION:OUT Bunker\, Ilica 16\, Zagreb\, 10 000\, Croatia (Local Name: Hrvatska)
CATEGORIES:Noćni život,Sva događanja
ATTACH;FMTTYPE=image/jpeg:https://zagrebackidogadaji.hr/wp-content/uploads/2024/03/TRAP.jpg
END:VEVENT
BEGIN:VEVENT
DTSTART;TZID=UTC:20240328T200000
DTEND;TZID=UTC:20240328T200000
DTSTAMP:20260422T230409
CREATED:20240317T085908Z
LAST-MODIFIED:20240317T085908Z
UID:1431-1711656000-1711656000@zagrebackidogadaji.hr
SUMMARY:Đutko - Tvornica kulture
DESCRIPTION:
URL:https://zagrebackidogadaji.hr/event/dutko-tvornica-kulture/
LOCATION:Tvornica Kulture\, Ul. Pavla Šubića 2\, Zagreb\, 10 000\, Croatia (Local Name: Hrvatska)
CATEGORIES:Koncerti,Sva događanja
ATTACH;FMTTYPE=image/png:https://zagrebackidogadaji.hr/wp-content/uploads/2024/03/Dutko.png
END:VEVENT
BEGIN:VEVENT
DTSTART;TZID=UTC:20240328T230000
DTEND;TZID=UTC:20240328T230000
DTSTAMP:20260422T230409
CREATED:20240221T095841Z
LAST-MODIFIED:20240221T095841Z
UID:1136-1711666800-1711666800@zagrebackidogadaji.hr
SUMMARY:Platinum & Gold Club - Kafanica laganica
DESCRIPTION:Živa Muzika u Platinum & Gold Clubu!
URL:https://zagrebackidogadaji.hr/event/platinum-gold-club-kafanica-laganica-8/
LOCATION:Platinum & Gold Club\, Trg John F. Kennedy 6b\, Zagreb\, Hrvatska\, 10 000\, Croatia (Local Name: Hrvatska)
CATEGORIES:Noćni život,Sva događanja
ATTACH;FMTTYPE=image/png:https://zagrebackidogadaji.hr/wp-content/uploads/2024/02/Kafanica-laganica.png
END:VEVENT
BEGIN:VEVENT
DTSTART;TZID=UTC:20240328T230000
DTEND;TZID=UTC:20240328T230000
DTSTAMP:20260422T230409
CREATED:20240304T212528Z
LAST-MODIFIED:20240304T212528Z
UID:1241-1711666800-1711666800@zagrebackidogadaji.hr
SUMMARY:Latino gang - OUT Bunker
DESCRIPTION:LATINO GANG! 💃\nJoin us every Thursday in the BUNKER for Zagreb’s Latin scene to unfold before you. We’re playing REGGAETON new and old for all the enjoy!\nYou’ll hear artists like:\nMaluma\, J Balvin\, Daddy Yankee\, Shakira\, Yandel\, Bad Bunny & many more! \n📍OUT BUNKER | Ilica 16\n⌚️ Every Thursday. | 23-04h\n🎟 3€ before midnight\n4€ after\nSee you guys there!
URL:https://zagrebackidogadaji.hr/event/latino-gang-out-bunker-8/
LOCATION:OUT Bunker\, Ilica 16\, Zagreb\, 10 000\, Croatia (Local Name: Hrvatska)
CATEGORIES:Noćni život,Sva događanja
ATTACH;FMTTYPE=image/jpeg:https://zagrebackidogadaji.hr/wp-content/uploads/2024/03/Latino.jpg
END:VEVENT
BEGIN:VEVENT
DTSTART;TZID=UTC:20240329T200000
DTEND;TZID=UTC:20240329T213000
DTSTAMP:20260422T230409
CREATED:20240220T222023Z
LAST-MODIFIED:20240220T222023Z
UID:1102-1711742400-1711747800@zagrebackidogadaji.hr
SUMMARY:Profesore\, dajte 2 - Scena Vidra
DESCRIPTION:
URL:https://zagrebackidogadaji.hr/event/profesore-dajte-2-scena-vidra/
LOCATION:Kazalište Vidra\, Kazalište Vidra\, Zagreb\, Hrvatska\, 10000\, Croatia (Local Name: Hrvatska)
CATEGORIES:Ostala događanja,Sva događanja
ATTACH;FMTTYPE=image/jpeg:https://zagrebackidogadaji.hr/wp-content/uploads/2024/02/Profesore-dajte-2.jpg
END:VEVENT
BEGIN:VEVENT
DTSTART;TZID=UTC:20240329T223000
DTEND;TZID=UTC:20240329T223000
DTSTAMP:20260422T230409
CREATED:20240305T100513Z
LAST-MODIFIED:20240305T100513Z
UID:1295-1711751400-1711751400@zagrebackidogadaji.hr
SUMMARY:Treshoteka - Katran
DESCRIPTION:
URL:https://zagrebackidogadaji.hr/event/treshoteka-katran-2/
LOCATION:Katran\, Ulica Ivana Zahara 9\, Zagreb\, 10 000
CATEGORIES:Noćni život,Sva događanja
ATTACH;FMTTYPE=image/png:https://zagrebackidogadaji.hr/wp-content/uploads/2024/03/Katran-2.png
END:VEVENT
BEGIN:VEVENT
DTSTART;TZID=UTC:20240329T230000
DTEND;TZID=UTC:20240329T230000
DTSTAMP:20260422T230409
CREATED:20240221T100629Z
LAST-MODIFIED:20240221T100629Z
UID:1148-1711753200-1711753200@zagrebackidogadaji.hr
SUMMARY:Platinum & Gold Club - Ladies Night
DESCRIPTION:Sve je spremno za još jedan ludi provod u novoj sezoni! Vidimo se od 22:00h\, a za vas smo pripremili nezaboravnu atmosferu uz hostese\, plesačice i pomno odabrane hitove našeg DJ-a! Vidimo se ekipa! \nRezervacije – 098 9520 770 / službeni profili Platinum & Gold Cluba \nRezervacije vrijede do 23:00h\, a ulaz je besplatan! \nRadno vrijeme: 22:00h – 06:00h \n18+
URL:https://zagrebackidogadaji.hr/event/platinum-gold-club-ladies-night-9/
LOCATION:Platinum & Gold Club\, Trg John F. Kennedy 6b\, Zagreb\, Hrvatska\, 10 000\, Croatia (Local Name: Hrvatska)
CATEGORIES:Noćni život,Sva događanja
ATTACH;FMTTYPE=image/png:https://zagrebackidogadaji.hr/wp-content/uploads/2024/02/Girls-Night.png
END:VEVENT
BEGIN:VEVENT
DTSTART;TZID=UTC:20240329T230000
DTEND;TZID=UTC:20240329T230000
DTSTAMP:20260422T230409
CREATED:20240304T212934Z
LAST-MODIFIED:20240304T212934Z
UID:1250-1711753200-1711753200@zagrebackidogadaji.hr
SUMMARY:Party rock - OUT Bunker
DESCRIPTION:🍾THIS FRIDAY Join us in our blast to the past back to the 2010’s clubbing era! @six.zagreb & @outbunker is bringing you Party Rock Bunker\, with music from Artists such as:\nPitbull\, Kesha\, LMFAO\, Shakira\, Akon\, 50 cent\, Black eyed peas\, Britney Spears\, kid cudi\, Chris brown\, Jennifer Lopez\n& many more!\nThe weekend is for getting wild\, and this night of nostalgia is not one to miss! Reserve your tables while availability lasts! \n⌚️ EVERY FRIDAY | 23-05h\n🎟5€ Entry\n📍 llica 16 | OUT Bunker
URL:https://zagrebackidogadaji.hr/event/party-rock-out-bunker-8/
LOCATION:OUT Bunker\, Ilica 16\, Zagreb\, 10 000\, Croatia (Local Name: Hrvatska)
CATEGORIES:Noćni život,Sva događanja
ATTACH;FMTTYPE=image/jpeg:https://zagrebackidogadaji.hr/wp-content/uploads/2024/03/Party-Rock.jpg
END:VEVENT
BEGIN:VEVENT
DTSTART;TZID=UTC:20240329T230000
DTEND;TZID=UTC:20240329T230000
DTSTAMP:20260422T230409
CREATED:20240304T214653Z
LAST-MODIFIED:20240304T214653Z
UID:1277-1711753200-1711753200@zagrebackidogadaji.hr
SUMMARY:Balkan Rooftop - OUT Rooftop
DESCRIPTION:Pridruži nam se ovog petka na ROOFTOPU! \nNovi program na ROOFTOPU! Donosimo najnovije i najbolje balkatone hitove! \nOUT Rooftop\, Ilica 16\n23-04h | EVERY FRIDAY\n4€ entry\nFree entry until midnight! \nZa rezervacije stolova i upite:\n📥 Pišite nam u DM (Facebook/Instagram)\n📞 Nazovite nas: 0981600123\n📧 Pošaljite e-mail na go@out.city\nVidimo se!
URL:https://zagrebackidogadaji.hr/event/balkan-rooftop-out-rooftop-8/
LOCATION:OUT Rooftop\, Ilica 16\, Zagreb\, Zagreb\, 10 000
CATEGORIES:Noćni život,Sva događanja
ATTACH;FMTTYPE=image/jpeg:https://zagrebackidogadaji.hr/wp-content/uploads/2024/03/Balkan.jpg
END:VEVENT
BEGIN:VEVENT
DTSTART;TZID=UTC:20240330T220000
DTEND;TZID=UTC:20240330T220000
DTSTAMP:20260422T230409
CREATED:20240313T095130Z
LAST-MODIFIED:20240313T095130Z
UID:1369-1711836000-1711836000@zagrebackidogadaji.hr
SUMMARY:"Nedelja" (Druga strana band) - Peron 16
DESCRIPTION:
URL:https://zagrebackidogadaji.hr/event/nedelja-druga-strana-band-peron-16/
LOCATION:Peron 16\, Magazinska ul. 16\, Zagreb\, Hrvatska\, 10 000\, Croatia (Local Name: Hrvatska)
CATEGORIES:Noćni život,Sva događanja
ATTACH;FMTTYPE=image/jpeg:https://zagrebackidogadaji.hr/wp-content/uploads/2024/03/Nedelja.jpg
END:VEVENT
BEGIN:VEVENT
DTSTART;TZID=UTC:20240330T223000
DTEND;TZID=UTC:20240330T223000
DTSTAMP:20260422T230409
CREATED:20240305T100558Z
LAST-MODIFIED:20240305T100558Z
UID:1297-1711837800-1711837800@zagrebackidogadaji.hr
SUMMARY:Disko Zeka Peka - Katran
DESCRIPTION:
URL:https://zagrebackidogadaji.hr/event/disko-zeka-peka-katran/
LOCATION:Katran\, Ulica Ivana Zahara 9\, Zagreb\, 10 000
CATEGORIES:Noćni život,Sva događanja
ATTACH;FMTTYPE=image/png:https://zagrebackidogadaji.hr/wp-content/uploads/2024/03/Katran-3.png
END:VEVENT
END:VCALENDAR