BEGIN:VCALENDAR
VERSION:2.0
PRODID:-//Zagrebački događaji - ECPv6.5.0//NONSGML v1.0//EN
CALSCALE:GREGORIAN
METHOD:PUBLISH
X-ORIGINAL-URL:https://zagrebackidogadaji.hr
X-WR-CALDESC:Events for Zagrebački događaji
REFRESH-INTERVAL;VALUE=DURATION:PT1H
X-Robots-Tag:noindex
X-PUBLISHED-TTL:PT1H
BEGIN:VTIMEZONE
TZID:UTC
BEGIN:STANDARD
TZOFFSETFROM:+0000
TZOFFSETTO:+0000
TZNAME:UTC
DTSTART:20240101T000000
END:STANDARD
END:VTIMEZONE
BEGIN:VEVENT
DTSTART;TZID=UTC:20240403T200000
DTEND;TZID=UTC:20240403T200000
DTSTAMP:20260422T060258
CREATED:20240313T095021Z
LAST-MODIFIED:20240313T095021Z
UID:1366-1712174400-1712174400@zagrebackidogadaji.hr
SUMMARY:Neša Bridžis "The Best of" vol. 2 - Peron 16
DESCRIPTION:
URL:https://zagrebackidogadaji.hr/event/nesa-bridzis-the-best-of-vol-2-peron-16/
LOCATION:Peron 16\, Magazinska ul. 16\, Zagreb\, Hrvatska\, 10 000\, Croatia (Local Name: Hrvatska)
CATEGORIES:Ostala događanja,Sva događanja
ATTACH;FMTTYPE=image/jpeg:https://zagrebackidogadaji.hr/wp-content/uploads/2024/03/Nesa-Bridzis.jpg
END:VEVENT
BEGIN:VEVENT
DTSTART;TZID=UTC:20240405T220000
DTEND;TZID=UTC:20240405T233000
DTSTAMP:20260422T060258
CREATED:20240220T221713Z
LAST-MODIFIED:20240220T221713Z
UID:1098-1712354400-1712359800@zagrebackidogadaji.hr
SUMMARY:Đorđe - Gallery Club
DESCRIPTION:ĐORĐE KLINAC LIVE ON STAGE! \nJeste li spremni za novi spektakl?!
URL:https://zagrebackidogadaji.hr/event/dorde-gallery-club/
LOCATION:Gallery Club\, Gallery Club\, Zagreb\, Hrvatska\, 10000\, Croatia (Local Name: Hrvatska)
CATEGORIES:Koncerti,Sva događanja
ATTACH;FMTTYPE=image/png:https://zagrebackidogadaji.hr/wp-content/uploads/2024/02/Dorde.png
END:VEVENT
BEGIN:VEVENT
DTSTART;TZID=UTC:20240407T100000
DTEND;TZID=UTC:20240407T100000
DTSTAMP:20260422T060258
CREATED:20240326T084933Z
LAST-MODIFIED:20240326T084933Z
UID:1486-1712484000-1712484000@zagrebackidogadaji.hr
SUMMARY:Tvornica Platz - Tvornica kulture
DESCRIPTION:Tvornica kulture ovog proljeća predstavlja novi program nedjeljom – Tvornica Platz! Šubićeva će od ovog travnja postati jedinstveno mjesto druženja\, ispijanja kave i potrage za unikatnim predmetima uz playlistu najboljih hitova Radio Tvornice. \nPo uzoru na nekadašnji Polet Platz\, Tvornica kulture pokreće vlastiti projekt kako bi obogatila zagrebačku ponudu sadržaja nedjeljom. Proljetni ritual odlaska na buvljake\, sajmove\, brunch i ispijanja ukusne kave te druženja uz glazbu dobiva novu kulisu. Tvornica Platz nudi prostor za prodaju\, trampu i cjenkanje uz najbolje glazbene hitove. Od jedinstvenih vinila do vintage komada odjeće i ostalih unikatnih predmeta\, sve će se moći pronaći na buvljaku u omiljenom koncertnom prostoru\, a Šubićeva će postati novi nedjeljni the place to be svih Zagrepčana i posjetitelja grada. \nOvog proljeća Zagreb će oživjeti i nedjeljom. Radno vrijeme buvljaka u organizaciji Tvornice kulture bit će od 10 do 20 sati. Tvornica Platz postaje novo jedinstveno mjesto za publiku\, kupce i prodavače\, ljubitelje vinila i starinske robe te druženje i opuštanje uz glazbu Radio Tvornice. \nUpad na Tvornica Platz bit će slobodan. Prodavači se za rezervaciju prostora mogu javiti na info@tvornicakulture.com.
URL:https://zagrebackidogadaji.hr/event/tvornica-platz-tvornica-kulture/
LOCATION:Tvornica Kulture\, Ul. Pavla Šubića 2\, Zagreb\, 10 000\, Croatia (Local Name: Hrvatska)
CATEGORIES:Ostala događanja,Sva događanja
ATTACH;FMTTYPE=image/png:https://zagrebackidogadaji.hr/wp-content/uploads/2024/03/Tvornica-kulture.png
END:VEVENT
BEGIN:VEVENT
DTSTART;TZID=UTC:20240412T193000
DTEND;TZID=UTC:20240412T193000
DTSTAMP:20260422T060258
CREATED:20240317T083343Z
LAST-MODIFIED:20240326T112758Z
UID:1388-1712950200-1712950200@zagrebackidogadaji.hr
SUMMARY:Nebeski svod- HNK u Zagrebu
DESCRIPTION:
URL:https://zagrebackidogadaji.hr/event/nebeski-svod-hnk-u-zagrebu/
LOCATION:Hrvatsko narodno kazalište u Zagrebu\, Hrvatsko narodno kazalište u Zagrebu\, Zagrb\, Hrvatska\, 10000\, Croatia (Local Name: Hrvatska)
CATEGORIES:Ostala događanja,Sva događanja
ATTACH;FMTTYPE=image/png:https://zagrebackidogadaji.hr/wp-content/uploads/2024/03/Nebeski-svod.png
END:VEVENT
BEGIN:VEVENT
DTSTART;TZID=UTC:20240413T180000
DTEND;TZID=UTC:20240413T180000
DTSTAMP:20260422T060258
CREATED:20240317T083603Z
LAST-MODIFIED:20240317T083603Z
UID:1396-1713031200-1713031200@zagrebackidogadaji.hr
SUMMARY:Nebeski svod - HNK u Zagrebu
DESCRIPTION:
URL:https://zagrebackidogadaji.hr/event/nebeski-svod-hnk-u-zagrebu-2/
LOCATION:Hrvatsko narodno kazalište u Zagrebu\, Hrvatsko narodno kazalište u Zagrebu\, Zagrb\, Hrvatska\, 10000\, Croatia (Local Name: Hrvatska)
CATEGORIES:Ostala događanja,Sva događanja
ATTACH;FMTTYPE=image/png:https://zagrebackidogadaji.hr/wp-content/uploads/2024/03/Nebeski-svod.png
END:VEVENT
BEGIN:VEVENT
DTSTART;TZID=UTC:20240413T220000
DTEND;TZID=UTC:20240413T220000
DTSTAMP:20260422T060258
CREATED:20240313T095512Z
LAST-MODIFIED:20240313T095512Z
UID:1375-1713045600-1713045600@zagrebackidogadaji.hr
SUMMARY:Rada Manojlović - Peron 16
DESCRIPTION:
URL:https://zagrebackidogadaji.hr/event/rada-manojlovic-peron-16/
LOCATION:Peron 16\, Magazinska ul. 16\, Zagreb\, Hrvatska\, 10 000\, Croatia (Local Name: Hrvatska)
CATEGORIES:Koncerti,Noćni život,Sva događanja
ATTACH;FMTTYPE=image/jpeg:https://zagrebackidogadaji.hr/wp-content/uploads/2024/03/Rada-MAnojlovic.jpg
END:VEVENT
BEGIN:VEVENT
DTSTART;TZID=UTC:20240414T200000
DTEND;TZID=UTC:20240414T200000
DTSTAMP:20260422T060258
CREATED:20240326T113436Z
LAST-MODIFIED:20240326T113436Z
UID:1506-1713124800-1713124800@zagrebackidogadaji.hr
SUMMARY:Friends kviz - Johann Franck
DESCRIPTION:
URL:https://zagrebackidogadaji.hr/event/friends-kviz-johann-franck/
LOCATION:Johann Franck\, Trg bana Josipa Jelačića 9\, Zagreb\, Hrvatska\, 10 000\, Croatia (Local Name: Hrvatska)
CATEGORIES:Ostala događanja,Sva događanja
ATTACH;FMTTYPE=image/jpeg:https://zagrebackidogadaji.hr/wp-content/uploads/2024/03/Friends.jpg
END:VEVENT
BEGIN:VEVENT
DTSTART;TZID=UTC:20240415T193000
DTEND;TZID=UTC:20240415T193000
DTSTAMP:20260422T060258
CREATED:20240317T083643Z
LAST-MODIFIED:20240317T083643Z
UID:1397-1713209400-1713209400@zagrebackidogadaji.hr
SUMMARY:Nebeski svod - HNK u Zagrebu
DESCRIPTION:
URL:https://zagrebackidogadaji.hr/event/nebeski-svod-hnk-u-zagrebu-3/
LOCATION:Hrvatsko narodno kazalište u Zagrebu\, Hrvatsko narodno kazalište u Zagrebu\, Zagrb\, Hrvatska\, 10000\, Croatia (Local Name: Hrvatska)
CATEGORIES:Ostala događanja,Sva događanja
ATTACH;FMTTYPE=image/png:https://zagrebackidogadaji.hr/wp-content/uploads/2024/03/Nebeski-svod.png
END:VEVENT
BEGIN:VEVENT
DTSTART;TZID=UTC:20240417T200000
DTEND;TZID=UTC:20240417T200000
DTSTAMP:20260422T060258
CREATED:20240313T094845Z
LAST-MODIFIED:20240313T094845Z
UID:1363-1713384000-1713384000@zagrebackidogadaji.hr
SUMMARY:Scene iz Bračnog života - Peron 16
DESCRIPTION:
URL:https://zagrebackidogadaji.hr/event/scene-iz-bracnog-zivota-peron-16/
LOCATION:Peron 16\, Magazinska ul. 16\, Zagreb\, Hrvatska\, 10 000\, Croatia (Local Name: Hrvatska)
CATEGORIES:Ostala događanja,Sva događanja
ATTACH;FMTTYPE=image/jpeg:https://zagrebackidogadaji.hr/wp-content/uploads/2024/03/Scene-iz-bracnog-zivota.jpg
END:VEVENT
BEGIN:VEVENT
DTSTART;TZID=UTC:20240418T193000
DTEND;TZID=UTC:20240418T193000
DTSTAMP:20260422T060258
CREATED:20240317T083710Z
LAST-MODIFIED:20240317T083710Z
UID:1398-1713468600-1713468600@zagrebackidogadaji.hr
SUMMARY:Nebeski svod - HNK u Zagrebu
DESCRIPTION:
URL:https://zagrebackidogadaji.hr/event/nebeski-svod-hnk-u-zagrebu-4/
LOCATION:Hrvatsko narodno kazalište u Zagrebu\, Hrvatsko narodno kazalište u Zagrebu\, Zagrb\, Hrvatska\, 10000\, Croatia (Local Name: Hrvatska)
CATEGORIES:Ostala događanja,Sva događanja
ATTACH;FMTTYPE=image/png:https://zagrebackidogadaji.hr/wp-content/uploads/2024/03/Nebeski-svod.png
END:VEVENT
BEGIN:VEVENT
DTSTART;TZID=UTC:20240419T200000
DTEND;TZID=UTC:20240419T200000
DTSTAMP:20260422T060258
CREATED:20240326T112706Z
LAST-MODIFIED:20240326T112706Z
UID:1492-1713556800-1713556800@zagrebackidogadaji.hr
SUMMARY:Profesore\, dajte 2 - Scena Vidra
DESCRIPTION:
URL:https://zagrebackidogadaji.hr/event/profesore-dajte-2-scena-vidra-2/
LOCATION:Kazalište Vidra\, Kazalište Vidra\, Zagreb\, Hrvatska\, 10000\, Croatia (Local Name: Hrvatska)
CATEGORIES:Ostala događanja,Sva događanja
ATTACH;FMTTYPE=image/jpeg:https://zagrebackidogadaji.hr/wp-content/uploads/2024/03/Profesore.jpg
END:VEVENT
BEGIN:VEVENT
DTSTART;TZID=UTC:20240420T200000
DTEND;TZID=UTC:20240420T200000
DTSTAMP:20260422T060258
CREATED:20240326T115820Z
LAST-MODIFIED:20240326T115820Z
UID:1509-1713643200-1713643200@zagrebackidogadaji.hr
SUMMARY:Prvi muževi bacaju se u vodu - Scena Vidra
DESCRIPTION:
URL:https://zagrebackidogadaji.hr/event/prvi-muzevi-bacaju-se-u-vodu-scena-vidra/
LOCATION:Kazalište Vidra\, Kazalište Vidra\, Zagreb\, Hrvatska\, 10000\, Croatia (Local Name: Hrvatska)
CATEGORIES:Ostala događanja,Sva događanja
ATTACH;FMTTYPE=image/png:https://zagrebackidogadaji.hr/wp-content/uploads/2024/03/Prvi-muzevi.png
END:VEVENT
BEGIN:VEVENT
DTSTART;TZID=UTC:20240421T200000
DTEND;TZID=UTC:20240421T200000
DTSTAMP:20260422T060258
CREATED:20240326T113337Z
LAST-MODIFIED:20240326T113337Z
UID:1503-1713729600-1713729600@zagrebackidogadaji.hr
SUMMARY:Kviz o Zagrebu - Johann Franck
DESCRIPTION:
URL:https://zagrebackidogadaji.hr/event/kviz-o-zagrebu-johann-franck/
LOCATION:Johann Franck\, Trg bana Josipa Jelačića 9\, Zagreb\, Hrvatska\, 10 000\, Croatia (Local Name: Hrvatska)
CATEGORIES:Ostala događanja,Sva događanja
ATTACH;FMTTYPE=image/jpeg:https://zagrebackidogadaji.hr/wp-content/uploads/2024/03/Kviz-o-Zagrebu.jpg
END:VEVENT
BEGIN:VEVENT
DTSTART;TZID=UTC:20240422T193000
DTEND;TZID=UTC:20240422T193000
DTSTAMP:20260422T060258
CREATED:20240317T083738Z
LAST-MODIFIED:20240317T083738Z
UID:1399-1713814200-1713814200@zagrebackidogadaji.hr
SUMMARY:Nebeski svod - HNK u Zagrebu
DESCRIPTION:
URL:https://zagrebackidogadaji.hr/event/nebeski-svod-hnk-u-zagrebu-5/
LOCATION:Hrvatsko narodno kazalište u Zagrebu\, Hrvatsko narodno kazalište u Zagrebu\, Zagrb\, Hrvatska\, 10000\, Croatia (Local Name: Hrvatska)
CATEGORIES:Ostala događanja,Sva događanja
ATTACH;FMTTYPE=image/png:https://zagrebackidogadaji.hr/wp-content/uploads/2024/03/Nebeski-svod.png
END:VEVENT
BEGIN:VEVENT
DTSTART;TZID=UTC:20240424T190000
DTEND;TZID=UTC:20240424T190000
DTSTAMP:20260422T060258
CREATED:20240326T113116Z
LAST-MODIFIED:20240326T113116Z
UID:1498-1713985200-1713985200@zagrebackidogadaji.hr
SUMMARY:Sportski kviz Dinamo Zagreb - Bikers Beer Factory
DESCRIPTION:
URL:https://zagrebackidogadaji.hr/event/sportski-kviz-dinamo-zagreb-bikers-beer-factory/
LOCATION:Bikers Beer Factory\, Savska cesta 150\, Zagreb\, Hrvatska\, 10000\, Croatia (Local Name: Hrvatska)
CATEGORIES:Koncerti,Sva događanja
ATTACH;FMTTYPE=image/jpeg:https://zagrebackidogadaji.hr/wp-content/uploads/2024/03/Dinamo-kviz.jpg
END:VEVENT
BEGIN:VEVENT
DTSTART;TZID=UTC:20240426T220000
DTEND;TZID=UTC:20240426T220000
DTSTAMP:20260422T060258
CREATED:20240313T095330Z
LAST-MODIFIED:20240313T095330Z
UID:1372-1714168800-1714168800@zagrebackidogadaji.hr
SUMMARY:Viki Miljković - Peron 16
DESCRIPTION:
URL:https://zagrebackidogadaji.hr/event/viki-miljkovic-peron-16/
LOCATION:Peron 16\, Magazinska ul. 16\, Zagreb\, Hrvatska\, 10 000\, Croatia (Local Name: Hrvatska)
CATEGORIES:Koncerti,Noćni život,Sva događanja
ATTACH;FMTTYPE=image/jpeg:https://zagrebackidogadaji.hr/wp-content/uploads/2024/03/Viki-Miljkovic.jpg
END:VEVENT
BEGIN:VEVENT
DTSTART;TZID=UTC:20240427T200000
DTEND;TZID=UTC:20240427T200000
DTSTAMP:20260422T060258
CREATED:20240223T123524Z
LAST-MODIFIED:20240223T123524Z
UID:1174-1714248000-1714248000@zagrebackidogadaji.hr
SUMMARY:EKV tribute bend Deca iz vode - Tvornica kulture
DESCRIPTION:
URL:https://zagrebackidogadaji.hr/event/ekv-tribute-bend-deca-iz-vode-tvornica-kulture/
LOCATION:Tvornica Kulture\, Ul. Pavla Šubića 2\, Zagreb\, 10 000\, Croatia (Local Name: Hrvatska)
CATEGORIES:Koncerti,Sva događanja
ATTACH;FMTTYPE=image/png:https://zagrebackidogadaji.hr/wp-content/uploads/2024/02/Deca.png
END:VEVENT
BEGIN:VEVENT
DTSTART;TZID=UTC:20240427T200000
DTEND;TZID=UTC:20240427T200000
DTSTAMP:20260422T060258
CREATED:20240304T210931Z
LAST-MODIFIED:20240304T210931Z
UID:1219-1714248000-1714248000@zagrebackidogadaji.hr
SUMMARY:Stara škola kreka - Kino dvorana Preporod
DESCRIPTION:
URL:https://zagrebackidogadaji.hr/event/stara-skola-kreka-kino-dvorana-preporod/
LOCATION:Kino dvorana Preporod\, KUD Preporod\, Dugo Selo\, Hrvatska\, 10370\, Croatia (Local Name: Hrvatska)
CATEGORIES:Ostala događanja,Sva događanja
ATTACH;FMTTYPE=image/jpeg:https://zagrebackidogadaji.hr/wp-content/uploads/2024/03/Star-skola-kreka.jpg
END:VEVENT
END:VCALENDAR