BEGIN:VCALENDAR
VERSION:2.0
PRODID:-//Zagrebački događaji - ECPv6.5.0//NONSGML v1.0//EN
CALSCALE:GREGORIAN
METHOD:PUBLISH
X-WR-CALNAME:Zagrebački događaji
X-ORIGINAL-URL:https://zagrebackidogadaji.hr
X-WR-CALDESC:Events for Zagrebački događaji
REFRESH-INTERVAL;VALUE=DURATION:PT1H
X-Robots-Tag:noindex
X-PUBLISHED-TTL:PT1H
BEGIN:VTIMEZONE
TZID:UTC
BEGIN:STANDARD
TZOFFSETFROM:+0000
TZOFFSETTO:+0000
TZNAME:UTC
DTSTART:20240101T000000
END:STANDARD
END:VTIMEZONE
BEGIN:VEVENT
DTSTART;TZID=UTC:20240603T200000
DTEND;TZID=UTC:20240603T200000
DTSTAMP:20260422T031716
CREATED:20240312T122434Z
LAST-MODIFIED:20240312T122434Z
UID:1346-1717444800-1717444800@zagrebackidogadaji.hr
SUMMARY:Palaye Royale - Tvornica kulture
DESCRIPTION:
URL:https://zagrebackidogadaji.hr/event/palaye-royale-tvornica-kulture/
LOCATION:Tvornica Kulture\, Ul. Pavla Šubića 2\, Zagreb\, 10 000\, Croatia (Local Name: Hrvatska)
CATEGORIES:Koncerti,Sva događanja
ATTACH;FMTTYPE=image/png:https://zagrebackidogadaji.hr/wp-content/uploads/2024/03/Palaye-Royale.png
END:VEVENT
BEGIN:VEVENT
DTSTART;TZID=UTC:20240607T200000
DTEND;TZID=UTC:20240608T233000
DTSTAMP:20260422T031716
CREATED:20240304T210631Z
LAST-MODIFIED:20240304T210631Z
UID:1215-1717790400-1717889400@zagrebackidogadaji.hr
SUMMARY:LMF Festival - Jarun
DESCRIPTION:
URL:https://zagrebackidogadaji.hr/event/lmf-festival-jarun/
LOCATION:Jarun\, Jarun\, Zagreb\, Hrvatska\, 10000\, Croatia (Local Name: Hrvatska)
CATEGORIES:Koncerti,Sva događanja
ATTACH;FMTTYPE=image/jpeg:https://zagrebackidogadaji.hr/wp-content/uploads/2024/03/LMF-Festival.jpg
END:VEVENT
BEGIN:VEVENT
DTSTART;TZID=UTC:20240611T203000
DTEND;TZID=UTC:20240611T223000
DTSTAMP:20260422T031716
CREATED:20240220T210528Z
LAST-MODIFIED:20240220T210528Z
UID:1056-1718137800-1718145000@zagrebackidogadaji.hr
SUMMARY:Crosses - Tvornica kulture
DESCRIPTION:
URL:https://zagrebackidogadaji.hr/event/crosses-tvornica-kulture/
LOCATION:Tvornica Kulture\, Ul. Pavla Šubića 2\, Zagreb\, 10 000\, Croatia (Local Name: Hrvatska)
CATEGORIES:Koncerti,Sva događanja
ATTACH;FMTTYPE=image/png:https://zagrebackidogadaji.hr/wp-content/uploads/2024/02/Crosses.png
END:VEVENT
BEGIN:VEVENT
DTSTART;TZID=UTC:20240612T200000
DTEND;TZID=UTC:20240612T220000
DTSTAMP:20260422T031716
CREATED:20240220T220448Z
LAST-MODIFIED:20240220T220448Z
UID:1087-1718222400-1718229600@zagrebackidogadaji.hr
SUMMARY:Dropkick Murphys - ŠRC Šalata
DESCRIPTION:
URL:https://zagrebackidogadaji.hr/event/dropkick-murphys-src-salata/
LOCATION:ŠRC Šalata\, ŠRC Šalata\, Zagreb\, Hrvatska\, 10000\, Croatia (Local Name: Hrvatska)
CATEGORIES:Koncerti,Sva događanja
ATTACH;FMTTYPE=image/png:https://zagrebackidogadaji.hr/wp-content/uploads/2024/02/Dropckick-Murphys.png
END:VEVENT
BEGIN:VEVENT
DTSTART;TZID=UTC:20240614T160000
DTEND;TZID=UTC:20240614T160000
DTSTAMP:20260422T031716
CREATED:20240516T101025Z
LAST-MODIFIED:20240516T101025Z
UID:1733-1718380800-1718380800@zagrebackidogadaji.hr
SUMMARY:Zalazak u vinogradu
DESCRIPTION:Turistička zajednica Meridiana Slavonica u suradnji i prema ideji Marije Vukelić već 4. godinu za redom\, 14. lipnja 2024. godine od 16:00 sati organizira Zalazak u vinogradu u Brodskom Stupniku. \nZalazak u vinogradu manifestacija je neobičnog sadržaja za ovaj kraj – hedonistička atmosfera ispijanja kvalitetnih lokalnih vina u romantičnom okruženju\, usred vinograda\, u popodnevnim satima kad se događa zalazak sunca za obronke. Atmosferu upotpunjuje glazbeni žanr s naglaskom na jazz (ove godine nastupa nam Lela Kaplowitz quintet) što se pokazalo kao odličan potez. Na manifestaciju dolazi sve više gostiju iz Osijeka\, Zagreba\, pa i susjednih država koji su željni dobre kapljice vina i opuštajuće atmosfere kakva u današnje vrijeme svima treba. \nOsim hedonističke note u sklopu manifestacije se održava i edukativni dio – radionica o lokalnim vinima naziva „Vina Meridiane Slavonice – ponos našega kraja“ za koju se nerijetko traži mjesto više. Informacije o vinima mogu se pronaći i na štandovima gdje vinari osobno promoviraju svoje proizvode\, a gdje se sklapaju i poslovne suradnje\, što je glavni naglasak cijele organizacije. \nKako bi se gosti još malo zabavili organizira se nagradna igra „hvatanja“ najljepšeg zalaska sunca putem Facebook platforme. Zamisao je da se fotografira atmosfera\, čaša vina\, točenje vina i sl.\, a čija fotografija bude izabrana kao najljepša od strane žirija\, autor fotografije dobiva prigodnu nagradu poput noćenja u jednom od objekata na području TZ. \nVeć ranije spomenuti edukativni dio od prošle godine je dobio još jedan prostor za upoznavanje s lokalnim vinima – radionica „Graševina na tračnicama“ koja se organizira u sklopu izletničkog vlaka od Zagreba do Brodskog Stupnika. Naime prošle godine se po prvi put organizirao prijevoz za sve koji iz Zagreba žele doći na Zalazak u vinogradu\, kao i njihov sretan povratak. U vlaku se gosti upoznaju s graševinom na zabavni način\, a osim navedenog\, vlak ima još jednu prednost – sprječavanje vožnje vlastitim prijevoznim sredstvima pod utjecajem alkohola. Na taj način gosti se mogu u potpunosti opustiti i prepustiti degustaciji u nikad romantičnijoj atmosferi. Za one koji žele ostati i uživati u destinaciji tu su smještajni kapaciteti. \nOsim gore navedenog\, valja istaknuti organizaciju večere u restoranu hotela Stupnički dvori naziva „Okusi graničarskog Posavlja“\, a koja se odvija nakon završetka nagradne igre. Pomno birani sljedovi sljubljuju se s vinima na najbolji mogući način te se gosti upoznavaju s eno/gastro ponudom ovoga kraja s naglaskom na lokalne namirnice\, koje se između ostaloga mogu kušati i u obliku monoporcija u toku trajanja glavnog dijela manifestacije. Zaokružena priča promocije eno/gastro ponude na području TZ Meridiana Slavonica savršeno se uklopila u Zalazak u vinogradu. \nManifestacija je ovo koja raste iz godine u godinu\, a svjedok tome je brončana povelja suncokreta ruralnog turizma u kategoriji Vinski turizam.
URL:https://zagrebackidogadaji.hr/event/zalazak-u-vinogradu/
LOCATION:Stupnički Dvori\, Stupnički Dvori\, Brodski Stupnik\, Hrvatska\, 35253\, Croatia (Local Name: Hrvatska)
CATEGORIES:Kamo izvan Zagreba?
ATTACH;FMTTYPE=image/png:https://zagrebackidogadaji.hr/wp-content/uploads/2024/04/Zalazak-u-vinogradu_Foto_Meridiana-Slavonica.png
END:VEVENT
BEGIN:VEVENT
DTSTART;TZID=UTC:20240616T200000
DTEND;TZID=UTC:20240616T220000
DTSTAMP:20260422T031716
CREATED:20240220T213256Z
LAST-MODIFIED:20240220T213256Z
UID:1074-1718568000-1718575200@zagrebackidogadaji.hr
SUMMARY:Body Count - ŠRC Šalata
DESCRIPTION:Jedan od najvećih bendova koji spaja hip hop i metal\, legendarni Body Count iz Los Angelesa\, dolaze u Zagreb i to na stadion Šalata u nedjelju 16. lipnja 2024. \nJedni od začetnika crossovera predvođeni jednim od najvećih rap izvođača svih vremena\, velikim Ice T-jem\, zagrebački povratak zakazuju nakon šest godina i rasprodanog koncerta u Boćarskom domu. \nBody Count sviraju sirovi old school crossover\, brutalnu mješavinu hip hopa i metala. Kroz godine su mijenjali postavu\, raspadali se i ponovo sastavljali\, no kultno sljedbeništvo koje band ima uvijek ih je čekalo na koncertima diljem svijeta. I nakon više od tri desetljeća dokazuju da su zacementirali svoju poziciju na glazbenoj sceni\, a u prilog tome ide i osvojeni Grammy za najbolju metal izvedbu za “Bum Rush” s posljednjeg albuma “Carnivore”. Neumorni Body Count najavljuju i novi album “Merciless” za 2024.\, dok će istovremeno nastupiti kao headlineri na velikim europskim pozornicama. \nPočetak benda jedna je od najvećih priča svjetske alternativne scene. Ice T je\, osim rapa\, u mladosti bio veliki fan hard rocka i metala. Tijekom 80-tih je stvorio veliko ime na hip hop sceni\, pa se paralelno početkom 90-tih posvetio bendu koji je osnovao s prijateljima iz srednje škole. Prve nastupe Body Count su imali na Lollapaloozi kada im je Ice T poklonio pola satnice seta\, a prvu snimku na njegovom “O.G. Original Gangster”\, koji se smatra jednim od najvažnijih gangsta rap ploča. Na njemu prije pjesme “Body Count” Ice T odgovara na optužbe da se prodao jer ubacuje elemente rocka u rap. \nSve je eksplodiralo debi albumom i kontroverznim singlom “Cop Killer”\, uz ništa manje opasne “KKK Bitch”\, “Evil Dick”\, “Momma’s Gotta Die Tonight”\, “There Goes The Neighborhood” te “Body Count’s In The House”\, jednom od velikih favorita mnogih rock klubova ovih prostora. Album je digao na noge kompletnu bijelu Ameriku\, od predsjednika Busha i članova Senata do Charltona Hestona\, pa je u konačnici povučen i “Cop Killer” zamijenjen manje problematičnom novom verzijom pjesme “Freedom Of Speech”. \nU godinama koje su slijedile Body Count su imali uspona i padova\, a nažalost čak tri člana originalne postave ubrzo su preminuli. Ipak\, u posljednjem desetljeću objavili su tri fantastična albuma\, “Manslaughter”\,“Bloodlust” čiji singl “Black Hoodie” je bio nominiran za Grammyja\, kao i “Carnivore” koji im je donio Grammyja za najbolju metal izvedbu. Neuništivi Ice T-a i Body Count kroz tri desetljeća pokazuju ne samo da su izdržali test vremena nego da su i danas jedna od najtraženijih live atrakcija na planeti.
URL:https://zagrebackidogadaji.hr/event/body-count-src-salata/
LOCATION:ŠRC Šalata\, ŠRC Šalata\, Zagreb\, Hrvatska\, 10000\, Croatia (Local Name: Hrvatska)
CATEGORIES:Koncerti,Sva događanja
ATTACH;FMTTYPE=image/png:https://zagrebackidogadaji.hr/wp-content/uploads/2024/02/Body-Count.png
END:VEVENT
END:VCALENDAR