BEGIN:VCALENDAR
VERSION:2.0
PRODID:-//Zagrebački događaji - ECPv6.5.0//NONSGML v1.0//EN
CALSCALE:GREGORIAN
METHOD:PUBLISH
X-WR-CALNAME:Zagrebački događaji
X-ORIGINAL-URL:https://zagrebackidogadaji.hr
X-WR-CALDESC:Events for Zagrebački događaji
REFRESH-INTERVAL;VALUE=DURATION:PT1H
X-Robots-Tag:noindex
X-PUBLISHED-TTL:PT1H
BEGIN:VTIMEZONE
TZID:UTC
BEGIN:STANDARD
TZOFFSETFROM:+0000
TZOFFSETTO:+0000
TZNAME:UTC
DTSTART:20240101T000000
END:STANDARD
END:VTIMEZONE
BEGIN:VEVENT
DTSTART;TZID=UTC:20240810T173000
DTEND;TZID=UTC:20240810T193000
DTSTAMP:20260422T001631
CREATED:20240220T213857Z
LAST-MODIFIED:20240220T213857Z
UID:1080-1723311000-1723318200@zagrebackidogadaji.hr
SUMMARY:Ed Sheeran - Hipodrom Zagreb
DESCRIPTION:
URL:https://zagrebackidogadaji.hr/event/ed-sheeran-hipodrom-zagreb/
LOCATION:Hipodrom Zagreb\, Hipodrom Zagreb\, Zagreb\, Hrvatska\, 10000\, Croatia (Local Name: Hrvatska)
CATEGORIES:Koncerti,Sva događanja
ATTACH;FMTTYPE=image/png:https://zagrebackidogadaji.hr/wp-content/uploads/2024/02/Ed-Sheeran.png
END:VEVENT
END:VCALENDAR